View In:
ArcGIS JavaScript
ArcGIS Online Map Viewer
ArcGIS Earth
ArcMap
View Footprint In:
ArcGIS Online Map Viewer
Service Description: fldpln_kansas/Sentinel2A_27may2019_SEKS
Name: fldpln_kansas/Sentinel2A_27may2019_SEKS
Description:
Single Fused Map Cache: false
Extent:
XMin: 199980
YMin: 4090200
XMax: 409800
YMax: 4200000
Spatial Reference: 32615
(32615)
Initial Extent:
XMin: 199980
YMin: 4090200
XMax: 409800
YMax: 4200000
Spatial Reference: 32615
(32615)
Full Extent:
XMin: 199980
YMin: 4090200
XMax: 409800
YMax: 4200000
Spatial Reference: 32615
(32615)
Pixel Size X: 10.0
Pixel Size Y: 10.0
Band Count: 12
Pixel Type: U16
RasterFunction Infos: {"rasterFunctionInfos": [{
"name": "None",
"description": "",
"help": ""
}]}
Mensuration Capabilities: Basic
Has Histograms: true
Has Colormap: false
Has Multi Dimensions : false
Rendering Rule:
Min Scale: 0
Max Scale: 0
Copyright Text:
Service Data Type: esriImageServiceDataTypeGeneric
Min Values: 1, 1, 174, 308, 231, 261, 41, 1, 81, 55, 916, 1029
Max Values: 17019, 24544, 22256, 20704, 19747, 18861, 18465, 18256, 18012, 18348, 16698, 16456
Mean Values: 2128.688683601, 2111.6785978079, 2362.4011596506, 2203.307790374, 2816.2157545282, 4098.1340347865, 4490.1555499254, 4478.319899898, 4728.8346185564, 5131.0388756537, 3377.4919878835, 2455.0114978527
Standard Deviation Values: 1970.643257122, 1804.7938505273, 1578.9371977529, 1551.3684165569, 1490.2888897807, 1309.0131366279, 1329.442386316, 1318.6745947622, 1323.8236691615, 2085.4017417973, 1187.9253657219, 1134.1678593507
Object ID Field:
Fields:
None
Default Mosaic Method: Center
Allowed Mosaic Methods:
SortField:
SortValue: null
Mosaic Operator: First
Default Compression Quality: 75
Default Resampling Method: Nearest
Max Record Count: null
Max Image Height: 4100
Max Image Width: 15000
Max Download Image Count: null
Max Mosaic Image Count: null
Allow Raster Function: true
Allow Copy: true
Allow Analysis: true
Allow Compute TiePoints: false
Supports Statistics: false
Supports Advanced Queries: false
Use StandardizedQueries: true
Raster Type Infos:
Name: Raster Dataset
Description: Supports all ArcGIS Raster Datasets
Help:
Has Raster Attribute Table: false
Edit Fields Info: null
Ownership Based AccessControl For Rasters: null
Child Resources:
Info
Histograms
Statistics
Key Properties
Legend
Raster Function Infos
Supported Operations:
Export Image
Identify
Measure
Compute Histograms
Compute Statistics Histograms
Get Samples
Compute Class Statistics
Query Boundary
Compute Pixel Location
Compute Angles
Validate
Project