{
 "currentVersion": 10.91,
 "serviceDescription": "fldpln_kansas/Sentinel2A_27may2019_SEKS",
 "name": "fldpln_kansas/Sentinel2A_27may2019_SEKS",
 "description": "",
 "extent": {
  "xmin": 199980,
  "ymin": 4090200,
  "xmax": 409800,
  "ymax": 4200000,
  "spatialReference": {
   "wkid": 32615,
   "latestWkid": 32615
  }
 },
 "initialExtent": {
  "xmin": 199980,
  "ymin": 4090200,
  "xmax": 409800,
  "ymax": 4200000,
  "spatialReference": {
   "wkid": 32615,
   "latestWkid": 32615
  }
 },
 "fullExtent": {
  "xmin": 199980,
  "ymin": 4090200,
  "xmax": 409800,
  "ymax": 4200000,
  "spatialReference": {
   "wkid": 32615,
   "latestWkid": 32615
  }
 },
 "hasMultidimensions": false,
 "pixelSizeX": 10,
 "pixelSizeY": 10,
 "datasetFormat": "TIFF",
 "uncompressedSize": 5529176640,
 "blockWidth": 128,
 "blockHeight": 128,
 "compressionType": "None",
 "bandNames": [
  "Band_1",
  "Band_2",
  "Band_3",
  "Band_4",
  "Band_5",
  "Band_6",
  "Band_7",
  "Band_8",
  "Band_9",
  "Band_10",
  "Band_11",
  "Band_12"
 ],
 "allowCopy": true,
 "allowAnalysis": true,
 "bandCount": 12,
 "noDataValue": 0,
 "noDataValues": [
  0,
  0,
  0,
  0,
  0,
  0,
  0,
  0,
  0,
  0,
  0,
  0
 ],
 "pixelType": "U16",
 "minPixelSize": 0,
 "maxPixelSize": 0,
 "copyrightText": "",
 "serviceDataType": "esriImageServiceDataTypeGeneric",
 "serviceSourceType": "esriImageServiceSourceTypeDataset",
 "minValues": [
  1,
  1,
  174,
  308,
  231,
  261,
  41,
  1,
  81,
  55,
  916,
  1029
 ],
 "maxValues": [
  17019,
  24544,
  22256,
  20704,
  19747,
  18861,
  18465,
  18256,
  18012,
  18348,
  16698,
  16456
 ],
 "meanValues": [
  2128.688683601,
  2111.6785978079,
  2362.4011596506,
  2203.307790374,
  2816.2157545282,
  4098.1340347865,
  4490.1555499254,
  4478.319899898,
  4728.8346185564,
  5131.0388756537,
  3377.4919878835,
  2455.0114978527
 ],
 "stdvValues": [
  1970.643257122,
  1804.7938505273,
  1578.9371977529,
  1551.3684165569,
  1490.2888897807,
  1309.0131366279,
  1329.442386316,
  1318.6745947622,
  1323.8236691615,
  2085.4017417973,
  1187.9253657219,
  1134.1678593507
 ],
 "objectIdField": "",
 "fields": [],
 "capabilities": "Image,Metadata,Mensuration",
 "defaultMosaicMethod": "Center",
 "allowedMosaicMethods": "",
 "sortField": "",
 "sortValue": null,
 "sortAscending": true,
 "mosaicOperator": "First",
 "defaultCompressionQuality": 75,
 "defaultResamplingMethod": "Nearest",
 "maxImageHeight": 4100,
 "maxImageWidth": 15000,
 "allowRasterFunction": true,
 "rasterFunctionInfos": [
  {
   "name": "None",
   "description": "",
   "help": ""
  }
 ],
 "rasterTypeInfos": [
  {
   "name": "Raster Dataset",
   "description": "Supports all ArcGIS Raster Datasets",
   "help": ""
  }
 ],
 "mensurationCapabilities": "Basic",
 "hasHistograms": true,
 "hasColormap": false,
 "hasRasterAttributeTable": false,
 "minScale": 0,
 "maxScale": 0,
 "exportTilesAllowed": false,
 "supportsStatistics": false,
 "supportsAdvancedQueries": false,
 "editFieldsInfo": null,
 "ownershipBasedAccessControlForRasters": null,
 "allowComputeTiePoints": false,
 "useStandardizedQueries": true,
 "advancedQueryCapabilities": {
  "useStandardizedQueries": true,
  "supportsStatistics": false,
  "supportsOrderBy": false,
  "supportsDistinct": false,
  "supportsPagination": false
 },
 "spatialReference": {
  "wkid": 32615,
  "latestWkid": 32615
 }
}
