View In:
ArcGIS JavaScript
ArcGIS Online Map Viewer
ArcGIS Earth
ArcMap
View Footprint In:
ArcGIS Online Map Viewer
Service Description: This raster grid shows the overlap among the three wetted extents estimated using Intermap elevation data, LiDAR elevation data, and NED elevation data to reconstruct the 1938 Texas Flood event in the study area. Note that this comparison is limited to the portion of the study area where LiDAR elevation data were available at the time of the study.
Name: TexasFlood1938/WettedExtent_Intermap_v_LiDAR_v_NED
Description: This raster grid shows the overlap among the three wetted extents estimated using Intermap elevation data, LiDAR elevation data, and NED elevation data to reconstruct the 1938 Texas Flood event in the study area. Note that this comparison is limited to the portion of the study area where LiDAR elevation data were available at the time of the study.
Single Fused Map Cache: false
Extent:
XMin: -99.8453702962963
YMin: 30.8350923703297
XMax: -98.5126851110045
YMax: 31.3435182962963
Spatial Reference: 4269
(4269)
Initial Extent:
XMin: -99.8453702962963
YMin: 30.8350923703297
XMax: -98.5126851110045
YMax: 31.3435182962963
Spatial Reference: 4269
(4269)
Full Extent:
XMin: -99.8453702962963
YMin: 30.8350923703297
XMax: -98.5126851110045
YMax: 31.3435182962963
Spatial Reference: 4269
(4269)
Pixel Size X: 9.259259259999959E-5
Pixel Size Y: 9.259259259999971E-5
Band Count: 1
Pixel Type: U4
RasterFunction Infos: {"rasterFunctionInfos": [
{
"name": "wet_all3dems",
"description": "A raster function template.",
"help": ""
},
{
"name": "None",
"description": "",
"help": ""
}
]}
Mensuration Capabilities: Basic
Has Histograms: false
Has Colormap: false
Has Multi Dimensions : false
Rendering Rule:
Min Scale: 0
Max Scale: 0
Copyright Text: Jude Kastens / Kansas Biological Survey
Service Data Type: esriImageServiceDataTypeGeneric
Min Values: 0
Max Values: 7
Mean Values: 0.019990709328578868
Standard Deviation Values: 0.35789383019845966
Object ID Field:
Fields:
None
Default Mosaic Method: Center
Allowed Mosaic Methods:
SortField:
SortValue: null
Mosaic Operator: First
Default Compression Quality: 75
Default Resampling Method: Nearest
Max Record Count: null
Max Image Height: 4100
Max Image Width: 15000
Max Download Image Count: null
Max Mosaic Image Count: null
Allow Raster Function: true
Allow Copy: true
Allow Analysis: true
Allow Compute TiePoints: false
Supports Statistics: false
Supports Advanced Queries: false
Use StandardizedQueries: true
Raster Type Infos:
Name: Raster Dataset
Description: Supports all ArcGIS Raster Datasets
Help:
Has Raster Attribute Table: true
Edit Fields Info: null
Ownership Based AccessControl For Rasters: null
Child Resources:
Info
Raster Attribute Table
Statistics
Key Properties
Legend
Raster Function Infos
Supported Operations:
Export Image
Identify
Measure
Compute Histograms
Compute Statistics Histograms
Get Samples
Compute Class Statistics
Query Boundary
Compute Pixel Location
Compute Angles
Validate
Project