{
 "currentVersion": 10.91,
 "serviceDescription": "This raster grid shows the overlap among the three wetted extents estimated using Intermap elevation data, LiDAR elevation data, and NED elevation data to reconstruct the 1938 Texas Flood event in the study area. Note that this comparison is limited to the portion of the study area where LiDAR elevation data were available at the time of the study.\n",
 "name": "TexasFlood1938/WettedExtent_Intermap_v_LiDAR_v_NED",
 "description": "This raster grid shows the overlap among the three wetted extents estimated using Intermap elevation data, LiDAR elevation data, and NED elevation data to reconstruct the 1938 Texas Flood event in the study area. Note that this comparison is limited to the portion of the study area where LiDAR elevation data were available at the time of the study.\n",
 "extent": {
  "xmin": -99.8453702962963,
  "ymin": 30.8350923703297,
  "xmax": -98.5126851110045,
  "ymax": 31.3435182962963,
  "spatialReference": {
   "wkid": 4269,
   "latestWkid": 4269
  }
 },
 "initialExtent": {
  "xmin": -99.8453702962963,
  "ymin": 30.8350923703297,
  "xmax": -98.5126851110045,
  "ymax": 31.3435182962963,
  "spatialReference": {
   "wkid": 4269,
   "latestWkid": 4269
  }
 },
 "fullExtent": {
  "xmin": -99.8453702962963,
  "ymin": 30.8350923703297,
  "xmax": -98.5126851110045,
  "ymax": 31.3435182962963,
  "spatialReference": {
   "wkid": 4269,
   "latestWkid": 4269
  }
 },
 "hasMultidimensions": false,
 "pixelSizeX": 9.259259259999959E-5,
 "pixelSizeY": 9.259259259999971E-5,
 "datasetFormat": "GRID",
 "uncompressedSize": 39515982,
 "blockWidth": 256,
 "blockHeight": 4,
 "compressionType": "RLE",
 "bandNames": [
  "Band_1"
 ],
 "allowCopy": true,
 "allowAnalysis": true,
 "bandCount": 1,
 "noDataValue": 15,
 "noDataValues": [
  15
 ],
 "pixelType": "U4",
 "minPixelSize": 0,
 "maxPixelSize": 0,
 "copyrightText": "Jude Kastens / Kansas Biological Survey",
 "serviceDataType": "esriImageServiceDataTypeGeneric",
 "serviceSourceType": "esriImageServiceSourceTypeDataset",
 "minValues": [
  0
 ],
 "maxValues": [
  7
 ],
 "meanValues": [
  0.019990709328578868
 ],
 "stdvValues": [
  0.35789383019845966
 ],
 "objectIdField": "",
 "fields": [],
 "capabilities": "Image,Metadata,Mensuration",
 "defaultMosaicMethod": "Center",
 "allowedMosaicMethods": "",
 "sortField": "",
 "sortValue": null,
 "sortAscending": true,
 "mosaicOperator": "First",
 "defaultCompressionQuality": 75,
 "defaultResamplingMethod": "Nearest",
 "maxImageHeight": 4100,
 "maxImageWidth": 15000,
 "allowRasterFunction": true,
 "rasterFunctionInfos": [
  {
   "name": "wet_all3dems",
   "description": "A raster function template.",
   "help": ""
  },
  {
   "name": "None",
   "description": "",
   "help": ""
  }
 ],
 "rasterTypeInfos": [
  {
   "name": "Raster Dataset",
   "description": "Supports all ArcGIS Raster Datasets",
   "help": ""
  }
 ],
 "mensurationCapabilities": "Basic",
 "hasHistograms": false,
 "hasColormap": false,
 "hasRasterAttributeTable": true,
 "minScale": 0,
 "maxScale": 0,
 "exportTilesAllowed": false,
 "supportsStatistics": false,
 "supportsAdvancedQueries": false,
 "editFieldsInfo": null,
 "ownershipBasedAccessControlForRasters": null,
 "allowComputeTiePoints": false,
 "useStandardizedQueries": true,
 "advancedQueryCapabilities": {
  "useStandardizedQueries": true,
  "supportsStatistics": false,
  "supportsOrderBy": false,
  "supportsDistinct": false,
  "supportsPagination": false
 },
 "spatialReference": {
  "wkid": 4269,
  "latestWkid": 4269
 }
}
