View In:
ArcGIS JavaScript
ArcGIS Online Map Viewer
ArcGIS Earth
ArcMap
View Footprint In:
ArcGIS Online Map Viewer
Service Description: This 1/3 arcsecond (10-m) elevation dataset was obtained from the U.S. Geological Survey's National Elevation Dataset (NED) in March 2010.
Name: TexasFlood1938/Elevation_NED
Description: This 1/3 arcsecond (10-m) elevation dataset was obtained from the U.S. Geological Survey's National Elevation Dataset (NED) in March 2010.
Single Fused Map Cache: false
Extent:
XMin: -99.84537036848623
YMin: 30.835092592458956
XMax: -98.51268518317727
YMax: 31.343518518432102
Spatial Reference: 4269
(4269)
Initial Extent:
XMin: -99.84537036848623
YMin: 30.835092592458956
XMax: -98.51268518317727
YMax: 31.343518518432102
Spatial Reference: 4269
(4269)
Full Extent:
XMin: -99.84537036848623
YMin: 30.835092592458956
XMax: -98.51268518317727
YMax: 31.343518518432102
Spatial Reference: 4269
(4269)
Pixel Size X: 9.25925926011923E-5
Pixel Size Y: 9.259259260119214E-5
Band Count: 1
Pixel Type: F32
RasterFunction Infos: {"rasterFunctionInfos": [
{
"name": "dem_ned",
"description": "A raster function template.",
"help": ""
},
{
"name": "None",
"description": "",
"help": ""
}
]}
Mensuration Capabilities: Basic
Has Histograms: false
Has Colormap: false
Has Multi Dimensions : false
Rendering Rule:
Min Scale: 0
Max Scale: 0
Copyright Text: USGS
Service Data Type: esriImageServiceDataTypeGeneric
Min Values: 1016.5241088867188
Max Values: 2282.172119140625
Mean Values: 1673.0467994492512
Standard Deviation Values: 252.8912531361084
Object ID Field:
Fields:
None
Default Mosaic Method: Center
Allowed Mosaic Methods:
SortField:
SortValue: null
Mosaic Operator: First
Default Compression Quality: 75
Default Resampling Method: Nearest
Max Record Count: null
Max Image Height: 4100
Max Image Width: 15000
Max Download Image Count: null
Max Mosaic Image Count: null
Allow Raster Function: true
Allow Copy: null
Allow Analysis: null
Allow Compute TiePoints: false
Supports Statistics: false
Supports Advanced Queries: false
Use StandardizedQueries: true
Raster Type Infos:
Name: Raster Dataset
Description: Supports all ArcGIS Raster Datasets
Help:
Has Raster Attribute Table: false
Edit Fields Info: null
Ownership Based AccessControl For Rasters: null
Child Resources:
Info
Key Properties
Legend
Raster Function Infos
Supported Operations:
Export Image
Identify
Measure
Compute Histograms
Compute Statistics Histograms
Get Samples
Compute Class Statistics
Query Boundary
Compute Pixel Location
Compute Angles
Validate
Project