{
 "currentVersion": 10.91,
 "serviceDescription": "This 1/3 arcsecond (10-m) elevation dataset was obtained from the U.S. Geological Survey's National Elevation Dataset (NED) in March 2010.",
 "name": "TexasFlood1938/Elevation_NED",
 "description": "This 1/3 arcsecond (10-m) elevation dataset was obtained from the U.S. Geological Survey's National Elevation Dataset (NED) in March 2010.",
 "extent": {
  "xmin": -99.84537036848623,
  "ymin": 30.835092592458956,
  "xmax": -98.51268518317727,
  "ymax": 31.343518518432102,
  "spatialReference": {
   "wkid": 4269,
   "latestWkid": 4269
  }
 },
 "initialExtent": {
  "xmin": -99.84537036848623,
  "ymin": 30.835092592458956,
  "xmax": -98.51268518317727,
  "ymax": 31.343518518432102,
  "spatialReference": {
   "wkid": 4269,
   "latestWkid": 4269
  }
 },
 "fullExtent": {
  "xmin": -99.84537036848623,
  "ymin": 30.835092592458956,
  "xmax": -98.51268518317727,
  "ymax": 31.343518518432102,
  "spatialReference": {
   "wkid": 4269,
   "latestWkid": 4269
  }
 },
 "pixelSizeX": 9.25925926011923E-5,
 "pixelSizeY": 9.259259260119214E-5,
 "bandCount": 1,
 "pixelType": "F32",
 "minPixelSize": 0,
 "maxPixelSize": 0,
 "copyrightText": "USGS",
 "serviceDataType": "esriImageServiceDataTypeGeneric",
 "minValues": [
  1016.5241088867188
 ],
 "maxValues": [
  2282.172119140625
 ],
 "meanValues": [
  1673.0467994492512
 ],
 "stdvValues": [
  252.8912531361084
 ],
 "objectIdField": "",
 "fields": [],
 "capabilities": "Image,Metadata,Mensuration",
 "defaultMosaicMethod": "Center",
 "allowedMosaicMethods": "",
 "sortField": "",
 "sortValue": null,
 "sortAscending": true,
 "mosaicOperator": "First",
 "defaultCompressionQuality": 75,
 "defaultResamplingMethod": "Nearest",
 "maxImageHeight": 4100,
 "maxImageWidth": 15000,
 "allowRasterFunction": true,
 "rasterFunctionInfos": [
  {
   "name": "dem_ned",
   "description": "A raster function template.",
   "help": ""
  },
  {
   "name": "None",
   "description": "",
   "help": ""
  }
 ],
 "rasterTypeInfos": [
  {
   "name": "Raster Dataset",
   "description": "Supports all ArcGIS Raster Datasets",
   "help": ""
  }
 ],
 "mensurationCapabilities": "Basic",
 "hasHistograms": false,
 "hasColormap": false,
 "hasRasterAttributeTable": false,
 "minScale": 0,
 "maxScale": 0,
 "exportTilesAllowed": false,
 "hasMultidimensions": false,
 "supportsStatistics": false,
 "supportsAdvancedQueries": false,
 "editFieldsInfo": null,
 "ownershipBasedAccessControlForRasters": null,
 "allowComputeTiePoints": false,
 "useStandardizedQueries": true,
 "advancedQueryCapabilities": {
  "useStandardizedQueries": true,
  "supportsStatistics": false,
  "supportsOrderBy": false,
  "supportsDistinct": false,
  "supportsPagination": false
 },
 "spatialReference": {
  "wkid": 4269,
  "latestWkid": 4269
 }
}