View In:
ArcGIS JavaScript
ArcGIS Online Map Viewer
ArcGIS Earth
ArcMap
View Footprint In:
ArcGIS Online Map Viewer
Service Description: This 1/3 arcsecond (10-m) elevation dataset was developed by reprojecting and down-sampling LiDAR elevation data (provided by TNRIS in May 2010) covering an interior portion of the study (see the “LiDAR extent” layer) to the 10-m NED grid.
Name: TexasFlood1938/Elevation_LiDAR
Description: This 1/3 arcsecond (10-m) elevation dataset was developed by reprojecting and down-sampling LiDAR elevation data (provided by TNRIS in May 2010) covering an interior portion of the study (see the “LiDAR extent” layer) to the 10-m NED grid.
Single Fused Map Cache: false
Extent:
XMin: -99.62657407216962
YMin: 30.935833333209054
XMax: -99.06212962767276
YMax: 31.15648148137769
Spatial Reference: 4269
(4269)
Initial Extent:
XMin: -99.62657407216962
YMin: 30.935833333209054
XMax: -99.06212962767276
YMax: 31.15648148137769
Spatial Reference: 4269
(4269)
Full Extent:
XMin: -99.62657407216962
YMin: 30.935833333209054
XMax: -99.06212962767276
YMax: 31.15648148137769
Spatial Reference: 4269
(4269)
Pixel Size X: 9.259259260119046E-5
Pixel Size Y: 9.259259260118981E-5
Band Count: 1
Pixel Type: F32
RasterFunction Infos: {"rasterFunctionInfos": [
{
"name": "dem_lidar10",
"description": "A raster function template.",
"help": ""
},
{
"name": "None",
"description": "",
"help": ""
}
]}
Mensuration Capabilities: Basic
Has Histograms: false
Has Colormap: false
Has Multi Dimensions : false
Rendering Rule:
Min Scale: 0
Max Scale: 0
Copyright Text: TNRIS, Jude Kastens (Kansas Biological Survey)
Service Data Type: esriImageServiceDataTypeGeneric
Min Values: 1389.8524169921875
Max Values: 2103.158935546875
Mean Values: 1695.791222743829
Standard Deviation Values: 127.34306101563509
Object ID Field:
Fields:
None
Default Mosaic Method: Center
Allowed Mosaic Methods:
SortField:
SortValue: null
Mosaic Operator: First
Default Compression Quality: 75
Default Resampling Method: Nearest
Max Record Count: null
Max Image Height: 4100
Max Image Width: 15000
Max Download Image Count: null
Max Mosaic Image Count: null
Allow Raster Function: true
Allow Copy: null
Allow Analysis: null
Allow Compute TiePoints: false
Supports Statistics: false
Supports Advanced Queries: false
Use StandardizedQueries: true
Raster Type Infos:
Name: Raster Dataset
Description: Supports all ArcGIS Raster Datasets
Help:
Has Raster Attribute Table: false
Edit Fields Info: null
Ownership Based AccessControl For Rasters: null
Child Resources:
Info
Key Properties
Legend
Raster Function Infos
Supported Operations:
Export Image
Identify
Measure
Compute Histograms
Compute Statistics Histograms
Get Samples
Compute Class Statistics
Query Boundary
Compute Pixel Location
Compute Angles
Validate
Project