{
 "currentVersion": 10.91,
 "serviceDescription": "This 1/3 arcsecond (10-m) elevation dataset was developed by reprojecting and down-sampling LiDAR elevation data (provided by TNRIS in May 2010) covering an interior portion of the study (see the \u201cLiDAR extent\u201d layer) to the 10-m NED grid.",
 "name": "TexasFlood1938/Elevation_LiDAR",
 "description": "This 1/3 arcsecond (10-m) elevation dataset was developed by reprojecting and down-sampling LiDAR elevation data (provided by TNRIS in May 2010) covering an interior portion of the study (see the \u201cLiDAR extent\u201d layer) to the 10-m NED grid.",
 "extent": {
  "xmin": -99.62657407216962,
  "ymin": 30.935833333209054,
  "xmax": -99.06212962767276,
  "ymax": 31.15648148137769,
  "spatialReference": {
   "wkid": 4269,
   "latestWkid": 4269
  }
 },
 "initialExtent": {
  "xmin": -99.62657407216962,
  "ymin": 30.935833333209054,
  "xmax": -99.06212962767276,
  "ymax": 31.15648148137769,
  "spatialReference": {
   "wkid": 4269,
   "latestWkid": 4269
  }
 },
 "fullExtent": {
  "xmin": -99.62657407216962,
  "ymin": 30.935833333209054,
  "xmax": -99.06212962767276,
  "ymax": 31.15648148137769,
  "spatialReference": {
   "wkid": 4269,
   "latestWkid": 4269
  }
 },
 "pixelSizeX": 9.259259260119046E-5,
 "pixelSizeY": 9.259259260118981E-5,
 "bandCount": 1,
 "pixelType": "F32",
 "minPixelSize": 0,
 "maxPixelSize": 0,
 "copyrightText": "TNRIS, Jude Kastens (Kansas Biological Survey)",
 "serviceDataType": "esriImageServiceDataTypeGeneric",
 "minValues": [
  1389.8524169921875
 ],
 "maxValues": [
  2103.158935546875
 ],
 "meanValues": [
  1695.791222743829
 ],
 "stdvValues": [
  127.34306101563509
 ],
 "objectIdField": "",
 "fields": [],
 "capabilities": "Image,Metadata,Mensuration",
 "defaultMosaicMethod": "Center",
 "allowedMosaicMethods": "",
 "sortField": "",
 "sortValue": null,
 "sortAscending": true,
 "mosaicOperator": "First",
 "defaultCompressionQuality": 75,
 "defaultResamplingMethod": "Nearest",
 "maxImageHeight": 4100,
 "maxImageWidth": 15000,
 "allowRasterFunction": true,
 "rasterFunctionInfos": [
  {
   "name": "dem_lidar10",
   "description": "A raster function template.",
   "help": ""
  },
  {
   "name": "None",
   "description": "",
   "help": ""
  }
 ],
 "rasterTypeInfos": [
  {
   "name": "Raster Dataset",
   "description": "Supports all ArcGIS Raster Datasets",
   "help": ""
  }
 ],
 "mensurationCapabilities": "Basic",
 "hasHistograms": false,
 "hasColormap": false,
 "hasRasterAttributeTable": false,
 "minScale": 0,
 "maxScale": 0,
 "exportTilesAllowed": false,
 "hasMultidimensions": false,
 "supportsStatistics": false,
 "supportsAdvancedQueries": false,
 "editFieldsInfo": null,
 "ownershipBasedAccessControlForRasters": null,
 "allowComputeTiePoints": false,
 "useStandardizedQueries": true,
 "advancedQueryCapabilities": {
  "useStandardizedQueries": true,
  "supportsStatistics": false,
  "supportsOrderBy": false,
  "supportsDistinct": false,
  "supportsPagination": false
 },
 "spatialReference": {
  "wkid": 4269,
  "latestWkid": 4269
 }
}