View In:
ArcGIS JavaScript
ArcGIS Online Map Viewer
ArcGIS Earth
ArcMap
View Footprint In:
ArcGIS Online Map Viewer
Service Description: This 1/3 arcsecond (10-m) elevation dataset was developed by reprojecting and down-sampling Intermap elevation data (provided by Intermap in October 2010) covering the study reach floodplain (see the “Intermap extent” layer) to the 10-m NED grid.
Name: TexasFlood1938/Elevation_Intermap
Description: This 1/3 arcsecond (10-m) elevation dataset was developed by reprojecting and down-sampling Intermap elevation data (provided by Intermap in October 2010) covering the study reach floodplain (see the “Intermap extent” layer) to the 10-m NED grid.
Single Fused Map Cache: false
Extent:
XMin: -99.84685184996785
YMin: 30.838611110977798
XMax: -98.56583333134684
YMax: 31.279074073976
Spatial Reference: 4269
(4269)
Initial Extent:
XMin: -99.84685184996785
YMin: 30.838611110977798
XMax: -98.56583333134684
YMax: 31.279074073976
Spatial Reference: 4269
(4269)
Full Extent:
XMin: -99.84685184996785
YMin: 30.838611110977798
XMax: -98.56583333134684
YMax: 31.279074073976
Spatial Reference: 4269
(4269)
Pixel Size X: 9.259259260000077E-5
Pixel Size Y: 9.259259260000009E-5
Band Count: 1
Pixel Type: F32
RasterFunction Infos: {"rasterFunctionInfos": [
{
"name": "dem_imap10",
"description": "A raster function template.",
"help": ""
},
{
"name": "None",
"description": "",
"help": ""
}
]}
Mensuration Capabilities: Basic
Has Histograms: false
Has Colormap: false
Has Multi Dimensions : false
Rendering Rule:
Min Scale: 0
Max Scale: 0
Copyright Text: Intermap, Jude Kastens (Kansas Biological Survey)
Service Data Type: esriImageServiceDataTypeGeneric
Min Values: 1104.435791015625
Max Values: 2082.380859375
Mean Values: 1538.6288473116622
Standard Deviation Values: 232.79672368577235
Object ID Field:
Fields:
None
Default Mosaic Method: Center
Allowed Mosaic Methods:
SortField:
SortValue: null
Mosaic Operator: First
Default Compression Quality: 75
Default Resampling Method: Nearest
Max Record Count: null
Max Image Height: 4100
Max Image Width: 15000
Max Download Image Count: null
Max Mosaic Image Count: null
Allow Raster Function: true
Allow Copy: null
Allow Analysis: null
Allow Compute TiePoints: false
Supports Statistics: false
Supports Advanced Queries: false
Use StandardizedQueries: true
Raster Type Infos:
Name: Raster Dataset
Description: Supports all ArcGIS Raster Datasets
Help:
Has Raster Attribute Table: false
Edit Fields Info: null
Ownership Based AccessControl For Rasters: null
Child Resources:
Info
Key Properties
Legend
Raster Function Infos
Supported Operations:
Export Image
Identify
Measure
Compute Histograms
Compute Statistics Histograms
Get Samples
Compute Class Statistics
Query Boundary
Compute Pixel Location
Compute Angles
Validate
Project