{
 "currentVersion": 10.91,
 "serviceDescription": "This 1/3 arcsecond (10-m) elevation dataset was developed by reprojecting and down-sampling Intermap elevation data (provided by Intermap in October 2010) covering the study reach floodplain (see the \u201cIntermap extent\u201d layer) to the 10-m NED grid.",
 "name": "TexasFlood1938/Elevation_Intermap",
 "description": "This 1/3 arcsecond (10-m) elevation dataset was developed by reprojecting and down-sampling Intermap elevation data (provided by Intermap in October 2010) covering the study reach floodplain (see the \u201cIntermap extent\u201d layer) to the 10-m NED grid.",
 "extent": {
  "xmin": -99.84685184996785,
  "ymin": 30.838611110977798,
  "xmax": -98.56583333134684,
  "ymax": 31.279074073976,
  "spatialReference": {
   "wkid": 4269,
   "latestWkid": 4269
  }
 },
 "initialExtent": {
  "xmin": -99.84685184996785,
  "ymin": 30.838611110977798,
  "xmax": -98.56583333134684,
  "ymax": 31.279074073976,
  "spatialReference": {
   "wkid": 4269,
   "latestWkid": 4269
  }
 },
 "fullExtent": {
  "xmin": -99.84685184996785,
  "ymin": 30.838611110977798,
  "xmax": -98.56583333134684,
  "ymax": 31.279074073976,
  "spatialReference": {
   "wkid": 4269,
   "latestWkid": 4269
  }
 },
 "pixelSizeX": 9.259259260000077E-5,
 "pixelSizeY": 9.259259260000009E-5,
 "bandCount": 1,
 "pixelType": "F32",
 "minPixelSize": 0,
 "maxPixelSize": 0,
 "copyrightText": "Intermap, Jude Kastens (Kansas Biological Survey)",
 "serviceDataType": "esriImageServiceDataTypeGeneric",
 "minValues": [
  1104.435791015625
 ],
 "maxValues": [
  2082.380859375
 ],
 "meanValues": [
  1538.6288473116622
 ],
 "stdvValues": [
  232.79672368577235
 ],
 "objectIdField": "",
 "fields": [],
 "capabilities": "Image,Metadata,Mensuration",
 "defaultMosaicMethod": "Center",
 "allowedMosaicMethods": "",
 "sortField": "",
 "sortValue": null,
 "sortAscending": true,
 "mosaicOperator": "First",
 "defaultCompressionQuality": 75,
 "defaultResamplingMethod": "Nearest",
 "maxImageHeight": 4100,
 "maxImageWidth": 15000,
 "allowRasterFunction": true,
 "rasterFunctionInfos": [
  {
   "name": "dem_imap10",
   "description": "A raster function template.",
   "help": ""
  },
  {
   "name": "None",
   "description": "",
   "help": ""
  }
 ],
 "rasterTypeInfos": [
  {
   "name": "Raster Dataset",
   "description": "Supports all ArcGIS Raster Datasets",
   "help": ""
  }
 ],
 "mensurationCapabilities": "Basic",
 "hasHistograms": false,
 "hasColormap": false,
 "hasRasterAttributeTable": false,
 "minScale": 0,
 "maxScale": 0,
 "exportTilesAllowed": false,
 "hasMultidimensions": false,
 "supportsStatistics": false,
 "supportsAdvancedQueries": false,
 "editFieldsInfo": null,
 "ownershipBasedAccessControlForRasters": null,
 "allowComputeTiePoints": false,
 "useStandardizedQueries": true,
 "advancedQueryCapabilities": {
  "useStandardizedQueries": true,
  "supportsStatistics": false,
  "supportsOrderBy": false,
  "supportsDistinct": false,
  "supportsPagination": false
 },
 "spatialReference": {
  "wkid": 4269,
  "latestWkid": 4269
 }
}