View In:
ArcGIS JavaScript
ArcGIS Online Map Viewer
ArcGIS Earth
ArcMap
View Footprint In:
ArcGIS Online Map Viewer
Service Description: SingleLayers/EasternKs_FilledDEM
Name: SingleLayers/EasternKs_FilledDEM
Description:
Single Fused Map Cache: false
Extent:
XMin: -97.47796229629628
YMin: 36.906601666652456
XMax: -94.50101785183877
YMax: 40.14123129629628
Spatial Reference: 4269
(4269)
Initial Extent:
XMin: -97.47796229629628
YMin: 36.906601666652456
XMax: -94.50101785183877
YMax: 40.14123129629628
Spatial Reference: 4269
(4269)
Full Extent:
XMin: -97.47796229629628
YMin: 36.906601666652456
XMax: -94.50101785183877
YMax: 40.14123129629628
Spatial Reference: 4269
(4269)
Pixel Size X: 9.259259259299915E-5
Pixel Size Y: 9.259259259299899E-5
Band Count: 1
Pixel Type: F32
RasterFunction Infos: {"rasterFunctionInfos": [{
"name": "None",
"description": "",
"help": ""
}]}
Mensuration Capabilities: Basic
Has Histograms: false
Has Colormap: false
Has Multi Dimensions : false
Rendering Rule:
Min Scale: 0
Max Scale: 0
Copyright Text:
Service Data Type: esriImageServiceDataTypeGeneric
Min Values: 201.07064819335938
Max Values: 512.873046875
Mean Values: 344.3385468736546
Standard Deviation Values: 61.883722860943294
Object ID Field:
Fields:
None
Default Mosaic Method: Center
Allowed Mosaic Methods:
SortField:
SortValue: null
Mosaic Operator: First
Default Compression Quality: 75
Default Resampling Method: Bilinear
Max Record Count: null
Max Image Height: 4100
Max Image Width: 15000
Max Download Image Count: null
Max Mosaic Image Count: null
Allow Raster Function: true
Allow Copy: true
Allow Analysis: true
Allow Compute TiePoints: false
Supports Statistics: false
Supports Advanced Queries: false
Use StandardizedQueries: true
Raster Type Infos:
Name: Raster Dataset
Description: Supports all ArcGIS Raster Datasets
Help:
Has Raster Attribute Table: false
Edit Fields Info: null
Ownership Based AccessControl For Rasters: null
Child Resources:
Info
Statistics
Key Properties
Legend
Raster Function Infos
Supported Operations:
Export Image
Identify
Measure
Compute Histograms
Compute Statistics Histograms
Get Samples
Compute Class Statistics
Query Boundary
Compute Pixel Location
Compute Angles
Validate
Project