{
 "currentVersion": 10.91,
 "serviceDescription": "SingleLayers/EasternKs_FilledDEM",
 "name": "SingleLayers/EasternKs_FilledDEM",
 "description": "",
 "extent": {
  "xmin": -97.47796229629628,
  "ymin": 36.906601666652456,
  "xmax": -94.50101785183877,
  "ymax": 40.14123129629628,
  "spatialReference": {
   "wkid": 4269,
   "latestWkid": 4269
  }
 },
 "initialExtent": {
  "xmin": -97.47796229629628,
  "ymin": 36.906601666652456,
  "xmax": -94.50101785183877,
  "ymax": 40.14123129629628,
  "spatialReference": {
   "wkid": 4269,
   "latestWkid": 4269
  }
 },
 "fullExtent": {
  "xmin": -97.47796229629628,
  "ymin": 36.906601666652456,
  "xmax": -94.50101785183877,
  "ymax": 40.14123129629628,
  "spatialReference": {
   "wkid": 4269,
   "latestWkid": 4269
  }
 },
 "hasMultidimensions": false,
 "pixelSizeX": 9.259259259299915E-5,
 "pixelSizeY": 9.259259259299899E-5,
 "datasetFormat": "GRID",
 "uncompressedSize": 4492652136,
 "blockWidth": 512,
 "blockHeight": 4,
 "compressionType": "RLE",
 "bandNames": [
  "fil0"
 ],
 "allowCopy": true,
 "allowAnalysis": true,
 "bandCount": 1,
 "noDataValue": -3.4028234663852886E38,
 "noDataValues": [
  -3.4028234663852886E38
 ],
 "pixelType": "F32",
 "minPixelSize": 0,
 "maxPixelSize": 0,
 "copyrightText": "",
 "serviceDataType": "esriImageServiceDataTypeGeneric",
 "serviceSourceType": "esriImageServiceSourceTypeDataset",
 "minValues": [
  201.07064819335938
 ],
 "maxValues": [
  512.873046875
 ],
 "meanValues": [
  344.3385468736546
 ],
 "stdvValues": [
  61.883722860943294
 ],
 "objectIdField": "",
 "fields": [],
 "capabilities": "Image,Metadata,Mensuration",
 "defaultMosaicMethod": "Center",
 "allowedMosaicMethods": "",
 "sortField": "",
 "sortValue": null,
 "sortAscending": true,
 "mosaicOperator": "First",
 "defaultCompressionQuality": 75,
 "defaultResamplingMethod": "Bilinear",
 "maxImageHeight": 4100,
 "maxImageWidth": 15000,
 "allowRasterFunction": true,
 "rasterFunctionInfos": [
  {
   "name": "None",
   "description": "",
   "help": ""
  }
 ],
 "rasterTypeInfos": [
  {
   "name": "Raster Dataset",
   "description": "Supports all ArcGIS Raster Datasets",
   "help": ""
  }
 ],
 "mensurationCapabilities": "Basic",
 "hasHistograms": false,
 "hasColormap": false,
 "hasRasterAttributeTable": false,
 "minScale": 0,
 "maxScale": 0,
 "exportTilesAllowed": false,
 "supportsStatistics": false,
 "supportsAdvancedQueries": false,
 "editFieldsInfo": null,
 "ownershipBasedAccessControlForRasters": null,
 "allowComputeTiePoints": false,
 "useStandardizedQueries": true,
 "advancedQueryCapabilities": {
  "useStandardizedQueries": true,
  "supportsStatistics": false,
  "supportsOrderBy": false,
  "supportsDistinct": false,
  "supportsPagination": false
 },
 "spatialReference": {
  "wkid": 4269,
  "latestWkid": 4269
 }
}