View In:
ArcGIS JavaScript
ArcGIS Online Map Viewer
ArcGIS Earth
ArcMap
View Footprint In:
ArcGIS Online Map Viewer
Service Description: This dataset shows a continuum of lake extents for Clinton Lake in Douglas County, Kansas. Lake extent is shown as a function of lake surface elevation, ranging from the multipurpose pool (894 ft) to beyond the flood control pool (924 ft).
Name: PerryLakeExtents/PerryLakeInundationElevationMap_ft
Description: This dataset shows a continuum of lake extents for Clinton Lake in Douglas County, Kansas. Lake extent is shown as a function of lake surface elevation, ranging from the multipurpose pool (894 ft) to beyond the flood control pool (924 ft).
Single Fused Map Cache: false
Extent:
XMin: -95.5876851862963
YMin: 39.0968518540419
XMax: -95.3167592603487
YMax: 39.499074076296296
Spatial Reference: 4269
(4269)
Initial Extent:
XMin: -95.5876851862963
YMin: 39.0968518540419
XMax: -95.3167592603487
YMax: 39.499074076296296
Spatial Reference: 4269
(4269)
Full Extent:
XMin: -95.5876851862963
YMin: 39.0968518540419
XMax: -95.3167592603487
YMax: 39.499074076296296
Spatial Reference: 4269
(4269)
Pixel Size X: 9.259259259999803E-5
Pixel Size Y: 9.259259259999875E-5
Band Count: 1
Pixel Type: F32
RasterFunction Infos: {"rasterFunctionInfos": [
{
"name": "perry_extent_elev_mn894_mx924_clean0",
"description": "A raster function template.",
"help": ""
},
{
"name": "None",
"description": "",
"help": ""
}
]}
Mensuration Capabilities: Basic
Has Histograms: true
Has Colormap: false
Has Multi Dimensions : false
Rendering Rule:
Min Scale: 0
Max Scale: 0
Copyright Text: Jude Kastens - Kansas Applied Remote Sensing
Service Data Type: esriImageServiceDataTypeGeneric
Min Values: 894
Max Values: 924
Mean Values: 903.75140090265
Standard Deviation Values: 10.61431652702
Object ID Field:
Fields:
None
Default Mosaic Method: Center
Allowed Mosaic Methods:
SortField:
SortValue: null
Mosaic Operator: First
Default Compression Quality: 75
Default Resampling Method: Nearest
Max Record Count: null
Max Image Height: 4100
Max Image Width: 15000
Max Download Image Count: null
Max Mosaic Image Count: null
Allow Raster Function: true
Allow Copy: true
Allow Analysis: true
Allow Compute TiePoints: false
Supports Statistics: false
Supports Advanced Queries: false
Use StandardizedQueries: true
Raster Type Infos:
Name: Raster Dataset
Description: Supports all ArcGIS Raster Datasets
Help:
Has Raster Attribute Table: false
Edit Fields Info: null
Ownership Based AccessControl For Rasters: null
Child Resources:
Info
Histograms
Statistics
Key Properties
Legend
Raster Function Infos
Supported Operations:
Export Image
Identify
Measure
Compute Histograms
Compute Statistics Histograms
Get Samples
Compute Class Statistics
Query Boundary
Compute Pixel Location
Compute Angles
Validate
Project