{
 "currentVersion": 10.91,
 "serviceDescription": "This dataset shows a continuum of lake extents for Clinton Lake in Douglas County, Kansas. Lake extent is shown as a function of lake surface elevation, ranging from the multipurpose pool (894 ft) to beyond the flood control pool (924 ft).\n",
 "name": "PerryLakeExtents/PerryLakeInundationElevationMap_ft",
 "description": "This dataset shows a continuum of lake extents for Clinton Lake in Douglas County, Kansas. Lake extent is shown as a function of lake surface elevation, ranging from the multipurpose pool (894 ft) to beyond the flood control pool (924 ft).\n",
 "extent": {
  "xmin": -95.5876851862963,
  "ymin": 39.0968518540419,
  "xmax": -95.3167592603487,
  "ymax": 39.499074076296296,
  "spatialReference": {
   "wkid": 4269,
   "latestWkid": 4269
  }
 },
 "initialExtent": {
  "xmin": -95.5876851862963,
  "ymin": 39.0968518540419,
  "xmax": -95.3167592603487,
  "ymax": 39.499074076296296,
  "spatialReference": {
   "wkid": 4269,
   "latestWkid": 4269
  }
 },
 "fullExtent": {
  "xmin": -95.5876851862963,
  "ymin": 39.0968518540419,
  "xmax": -95.3167592603487,
  "ymax": 39.499074076296296,
  "spatialReference": {
   "wkid": 4269,
   "latestWkid": 4269
  }
 },
 "hasMultidimensions": false,
 "pixelSizeX": 9.259259259999803E-5,
 "pixelSizeY": 9.259259259999875E-5,
 "datasetFormat": "IMAGINE Image",
 "uncompressedSize": 50842176,
 "blockWidth": 64,
 "blockHeight": 64,
 "compressionType": "None",
 "bandNames": [
  "Layer_1"
 ],
 "allowCopy": true,
 "allowAnalysis": true,
 "bandCount": 1,
 "pixelType": "F32",
 "minPixelSize": 0,
 "maxPixelSize": 0,
 "copyrightText": "Jude Kastens - Kansas Applied Remote Sensing",
 "serviceDataType": "esriImageServiceDataTypeGeneric",
 "serviceSourceType": "esriImageServiceSourceTypeDataset",
 "minValues": [
  894
 ],
 "maxValues": [
  924
 ],
 "meanValues": [
  903.75140090265
 ],
 "stdvValues": [
  10.61431652702
 ],
 "objectIdField": "",
 "fields": [],
 "capabilities": "Image,Metadata,Mensuration",
 "defaultMosaicMethod": "Center",
 "allowedMosaicMethods": "",
 "sortField": "",
 "sortValue": null,
 "sortAscending": true,
 "mosaicOperator": "First",
 "defaultCompressionQuality": 75,
 "defaultResamplingMethod": "Nearest",
 "maxImageHeight": 4100,
 "maxImageWidth": 15000,
 "allowRasterFunction": true,
 "rasterFunctionInfos": [
  {
   "name": "perry_extent_elev_mn894_mx924_clean0",
   "description": "A raster function template.",
   "help": ""
  },
  {
   "name": "None",
   "description": "",
   "help": ""
  }
 ],
 "rasterTypeInfos": [
  {
   "name": "Raster Dataset",
   "description": "Supports all ArcGIS Raster Datasets",
   "help": ""
  }
 ],
 "mensurationCapabilities": "Basic",
 "hasHistograms": true,
 "hasColormap": false,
 "hasRasterAttributeTable": false,
 "minScale": 0,
 "maxScale": 0,
 "exportTilesAllowed": false,
 "supportsStatistics": false,
 "supportsAdvancedQueries": false,
 "editFieldsInfo": null,
 "ownershipBasedAccessControlForRasters": null,
 "allowComputeTiePoints": false,
 "useStandardizedQueries": true,
 "advancedQueryCapabilities": {
  "useStandardizedQueries": true,
  "supportsStatistics": false,
  "supportsOrderBy": false,
  "supportsDistinct": false,
  "supportsPagination": false
 },
 "spatialReference": {
  "wkid": 4269,
  "latestWkid": 4269
 }
}