View In:
ArcGIS JavaScript
ArcGIS Online Map Viewer
ArcGIS Earth
ArcMap
View Footprint In:
ArcGIS Online Map Viewer
Service Description: Kansas LIDAR 2 meter resolution elevation data layer. Last updated: February 10, 2018.
Kansas LIDAR data collection started in 2006 and was completed in 2017. Data source: Kansas Data Access and Support Center (DASC); https://www.kansasgis.org
Data processed: Kansas Applied Remote Sensing Program at the Kansas Biological Survey. For any questions regarding this layer please contact:
Jude Kastens
jkastens@ku.edu
Name: KansasLiDAR/KansasLIDAR2MeterElevation
Description: Kansas LIDAR 2 meter resolution elevation data layer. Last updated: February 10, 2018.
Kansas LIDAR data collection started in 2006 and was completed in 2017. Data source: Kansas Data Access and Support Center (DASC); https://www.kansasgis.org
Data processed: Kansas Applied Remote Sensing Program at the Kansas Biological Survey. For any questions regarding this layer please contact:
Jude Kastens
jkastens@ku.edu
Single Fused Map Cache: false
Extent:
XMin: -11380764
YMin: 4426398
XMax: -10508084
YMax: 4914824
Spatial Reference: 102100
(3857)
Initial Extent:
XMin: -11380764
YMin: 4426398
XMax: -10508084
YMax: 4914824
Spatial Reference: 102100
(3857)
Full Extent:
XMin: -11380764
YMin: 4426398
XMax: -10508084
YMax: 4914824
Spatial Reference: 102100
(3857)
Pixel Size X: 2.0
Pixel Size Y: 2.0
Band Count: 1
Pixel Type: F32
RasterFunction Infos: {"rasterFunctionInfos": [
{
"name": "ks_all_lidar_5m_wgs84_15aug2017",
"description": "A raster function template.",
"help": ""
},
{
"name": "None",
"description": "",
"help": ""
}
]}
Mensuration Capabilities: Basic
Has Histograms: true
Has Colormap: false
Has Multi Dimensions : false
Rendering Rule:
Min Scale: 0
Max Scale: 0
Copyright Text: Kansas Applied Remote Sensing Program / Kansas Biological Survey.
Service Data Type: esriImageServiceDataTypeGeneric
Min Values: 205.29598999023
Max Values: 1255.8314208984
Mean Values: 583.44684327237
Standard Deviation Values: 254.48737726347
Object ID Field:
Fields:
None
Default Mosaic Method: Center
Allowed Mosaic Methods:
SortField:
SortValue: null
Mosaic Operator: First
Default Compression Quality: 75
Default Resampling Method: Nearest
Max Record Count: null
Max Image Height: 4100
Max Image Width: 15000
Max Download Image Count: null
Max Mosaic Image Count: null
Allow Raster Function: true
Allow Copy: true
Allow Analysis: true
Allow Compute TiePoints: false
Supports Statistics: false
Supports Advanced Queries: false
Use StandardizedQueries: true
Raster Type Infos:
Name: Raster Dataset
Description: Supports all ArcGIS Raster Datasets
Help:
Has Raster Attribute Table: false
Edit Fields Info: null
Ownership Based AccessControl For Rasters: null
Child Resources:
Info
Histograms
Statistics
Key Properties
Legend
Raster Function Infos
Supported Operations:
Export Image
Identify
Measure
Compute Histograms
Compute Statistics Histograms
Get Samples
Compute Class Statistics
Query Boundary
Compute Pixel Location
Compute Angles
Validate
Project