{ "currentVersion": 10.91, "serviceDescription": "
Kansas LIDAR 2 meter resolution elevation data layer. Last updated: February 10, 2018.<\/SPAN><\/P> Kansas LIDAR data collection started in 2006 and was completed in 2017. Data source: Kansas Data Access and Support Center (DASC); https://www.kansasgis.org <\/SPAN><\/P> Data processed: Kansas Applied Remote Sensing Program at the Kansas Biological Survey. For any questions regarding this layer please contact:<\/SPAN><\/P> Jude Kastens<\/SPAN><\/P> jkastens@ku.edu<\/SPAN><\/P><\/DIV><\/DIV><\/DIV>",
"name": "KansasLiDAR/KansasLIDAR2MeterElevation",
"description": " Kansas LIDAR 2 meter resolution elevation data layer. Last updated: February 10, 2018.<\/SPAN><\/P> Kansas LIDAR data collection started in 2006 and was completed in 2017. Data source: Kansas Data Access and Support Center (DASC); https://www.kansasgis.org <\/SPAN><\/P> Data processed: Kansas Applied Remote Sensing Program at the Kansas Biological Survey. For any questions regarding this layer please contact:<\/SPAN><\/P> Jude Kastens<\/SPAN><\/P> jkastens@ku.edu<\/SPAN><\/P><\/DIV><\/DIV><\/DIV>",
"extent": {
"xmin": -11380764,
"ymin": 4426398,
"xmax": -10508084,
"ymax": 4914824,
"spatialReference": {
"wkid": 102100,
"latestWkid": 3857
}
},
"initialExtent": {
"xmin": -11380764,
"ymin": 4426398,
"xmax": -10508084,
"ymax": 4914824,
"spatialReference": {
"wkid": 102100,
"latestWkid": 3857
}
},
"fullExtent": {
"xmin": -11380764,
"ymin": 4426398,
"xmax": -10508084,
"ymax": 4914824,
"spatialReference": {
"wkid": 102100,
"latestWkid": 3857
}
},
"hasMultidimensions": false,
"pixelSizeX": 2,
"pixelSizeY": 2,
"datasetFormat": "TIFF",
"uncompressedSize": 426239601680,
"blockWidth": 128,
"blockHeight": 128,
"compressionType": "LZW",
"bandNames": [
"Band_1"
],
"allowCopy": true,
"allowAnalysis": true,
"bandCount": 1,
"noDataValue": -3.4028230607370965E38,
"noDataValues": [
-3.4028230607370965E38
],
"pixelType": "F32",
"minPixelSize": 0,
"maxPixelSize": 0,
"copyrightText": "Kansas Applied Remote Sensing Program / Kansas Biological Survey.",
"serviceDataType": "esriImageServiceDataTypeGeneric",
"serviceSourceType": "esriImageServiceSourceTypeDataset",
"minValues": [
205.29598999023
],
"maxValues": [
1255.8314208984
],
"meanValues": [
583.44684327237
],
"stdvValues": [
254.48737726347
],
"objectIdField": "",
"fields": [],
"capabilities": "Image,Metadata,Mensuration",
"defaultMosaicMethod": "Center",
"allowedMosaicMethods": "",
"sortField": "",
"sortValue": null,
"sortAscending": true,
"mosaicOperator": "First",
"defaultCompressionQuality": 75,
"defaultResamplingMethod": "Nearest",
"maxImageHeight": 4100,
"maxImageWidth": 15000,
"allowRasterFunction": true,
"rasterFunctionInfos": [
{
"name": "ks_all_lidar_5m_wgs84_15aug2017",
"description": "A raster function template.",
"help": ""
},
{
"name": "None",
"description": "",
"help": ""
}
],
"rasterTypeInfos": [
{
"name": "Raster Dataset",
"description": "Supports all ArcGIS Raster Datasets",
"help": ""
}
],
"mensurationCapabilities": "Basic",
"hasHistograms": true,
"hasColormap": false,
"hasRasterAttributeTable": false,
"minScale": 0,
"maxScale": 0,
"exportTilesAllowed": false,
"supportsStatistics": false,
"supportsAdvancedQueries": false,
"editFieldsInfo": null,
"ownershipBasedAccessControlForRasters": null,
"allowComputeTiePoints": false,
"useStandardizedQueries": true,
"advancedQueryCapabilities": {
"useStandardizedQueries": true,
"supportsStatistics": false,
"supportsOrderBy": false,
"supportsDistinct": false,
"supportsPagination": false
},
"spatialReference": {
"wkid": 102100,
"latestWkid": 3857
}
}