View In:
ArcGIS JavaScript
ArcGIS Online Map Viewer
ArcGIS Earth
ArcMap
View Footprint In:
ArcGIS Online Map Viewer
Service Description: KansasLandCover/Kansas__2021_CDL_cultivated_layer
Name: KansasLandCover/Kansas__2021_CDL_cultivated_layer
Description:
Single Fused Map Cache: false
Extent:
XMin: 218478.23150006495
YMin: 4074231.010568982
XMax: 901158.231500065
YMax: 4455201.010568982
Spatial Reference: 26914
(26914)
VCSWkid(5703)
LatestVCSWkid(5703)
Initial Extent:
XMin: 218478.23150006495
YMin: 4074231.010568982
XMax: 901158.231500065
YMax: 4455201.010568982
Spatial Reference: 26914
(26914)
VCSWkid(5703)
LatestVCSWkid(5703)
Full Extent:
XMin: 218478.23150006495
YMin: 4074231.010568982
XMax: 901158.231500065
YMax: 4455201.010568982
Spatial Reference: 26914
(26914)
VCSWkid(5703)
LatestVCSWkid(5703)
Pixel Size X: 30.0
Pixel Size Y: 30.0
Band Count: 1
Pixel Type: U2
RasterFunction Infos: {"rasterFunctionInfos": [{
"name": "None",
"description": "",
"help": ""
}]}
Mensuration Capabilities: Basic
Has Histograms: true
Has Colormap: false
Has Multi Dimensions : false
Rendering Rule:
Min Scale: 0
Max Scale: 0
Copyright Text:
Service Data Type: esriImageServiceDataTypeGeneric
Min Values: 0
Max Values: 2
Mean Values: 1.473072189242
Standard Deviation Values: 0.49927438443434
Object ID Field:
Fields:
None
Default Mosaic Method: Center
Allowed Mosaic Methods:
SortField:
SortValue: null
Mosaic Operator: First
Default Compression Quality: 75
Default Resampling Method: Nearest
Max Record Count: null
Max Image Height: 4100
Max Image Width: 15000
Max Download Image Count: null
Max Mosaic Image Count: null
Allow Raster Function: true
Allow Copy: true
Allow Analysis: true
Allow Compute TiePoints: false
Supports Statistics: false
Supports Advanced Queries: false
Use StandardizedQueries: true
Raster Type Infos:
Name: Raster Dataset
Description: Supports all ArcGIS Raster Datasets
Help:
Has Raster Attribute Table: true
Edit Fields Info: null
Ownership Based AccessControl For Rasters: null
Child Resources:
Info
Raster Attribute Table
Histograms
Statistics
Key Properties
Legend
Raster Function Infos
Supported Operations:
Export Image
Identify
Measure
Compute Histograms
Compute Statistics Histograms
Get Samples
Compute Class Statistics
Query Boundary
Compute Pixel Location
Compute Angles
Validate
Project