{
 "currentVersion": 10.91,
 "serviceDescription": "KansasLandCover/Kansas__2021_CDL_cultivated_layer",
 "name": "KansasLandCover/Kansas__2021_CDL_cultivated_layer",
 "description": "",
 "extent": {
  "xmin": 218478.23150006495,
  "ymin": 4074231.010568982,
  "xmax": 901158.231500065,
  "ymax": 4455201.010568982,
  "spatialReference": {
   "wkid": 26914,
   "latestWkid": 26914,
   "vcsWkid": 5703,
   "latestVcsWkid": 5703
  }
 },
 "initialExtent": {
  "xmin": 218478.23150006495,
  "ymin": 4074231.010568982,
  "xmax": 901158.231500065,
  "ymax": 4455201.010568982,
  "spatialReference": {
   "wkid": 26914,
   "latestWkid": 26914,
   "vcsWkid": 5703,
   "latestVcsWkid": 5703
  }
 },
 "fullExtent": {
  "xmin": 218478.23150006495,
  "ymin": 4074231.010568982,
  "xmax": 901158.231500065,
  "ymax": 4455201.010568982,
  "spatialReference": {
   "wkid": 26914,
   "latestWkid": 26914,
   "vcsWkid": 5703,
   "latestVcsWkid": 5703
  }
 },
 "heightModelInfo": {
  "heightModel": "gravity_related_height",
  "vertCRS": "NAVD_1988",
  "heightUnit": "meter"
 },
 "hasMultidimensions": false,
 "pixelSizeX": 30,
 "pixelSizeY": 30,
 "datasetFormat": "TIFF",
 "uncompressedSize": 72244611,
 "blockWidth": 128,
 "blockHeight": 128,
 "compressionType": "LZW",
 "bandNames": [
  "Band_1"
 ],
 "allowCopy": true,
 "allowAnalysis": true,
 "bandCount": 1,
 "noDataValue": 3,
 "noDataValues": [
  3
 ],
 "pixelType": "U2",
 "minPixelSize": 0,
 "maxPixelSize": 0,
 "copyrightText": "",
 "serviceDataType": "esriImageServiceDataTypeGeneric",
 "serviceSourceType": "esriImageServiceSourceTypeDataset",
 "minValues": [
  0
 ],
 "maxValues": [
  2
 ],
 "meanValues": [
  1.473072189242
 ],
 "stdvValues": [
  0.49927438443434
 ],
 "objectIdField": "",
 "fields": [],
 "capabilities": "Image,Metadata,Mensuration",
 "defaultMosaicMethod": "Center",
 "allowedMosaicMethods": "",
 "sortField": "",
 "sortValue": null,
 "sortAscending": true,
 "mosaicOperator": "First",
 "defaultCompressionQuality": 75,
 "defaultResamplingMethod": "Nearest",
 "maxImageHeight": 4100,
 "maxImageWidth": 15000,
 "allowRasterFunction": true,
 "rasterFunctionInfos": [
  {
   "name": "None",
   "description": "",
   "help": ""
  }
 ],
 "rasterTypeInfos": [
  {
   "name": "Raster Dataset",
   "description": "Supports all ArcGIS Raster Datasets",
   "help": ""
  }
 ],
 "mensurationCapabilities": "Basic",
 "hasHistograms": true,
 "hasColormap": false,
 "hasRasterAttributeTable": true,
 "minScale": 0,
 "maxScale": 0,
 "exportTilesAllowed": false,
 "supportsStatistics": false,
 "supportsAdvancedQueries": false,
 "editFieldsInfo": null,
 "ownershipBasedAccessControlForRasters": null,
 "allowComputeTiePoints": false,
 "useStandardizedQueries": true,
 "advancedQueryCapabilities": {
  "useStandardizedQueries": true,
  "supportsStatistics": false,
  "supportsOrderBy": false,
  "supportsDistinct": false,
  "supportsPagination": false
 },
 "spatialReference": {
  "wkid": 26914,
  "latestWkid": 26914,
  "vcsWkid": 5703,
  "latestVcsWkid": 5703
 }
}
