View In:
ArcGIS JavaScript
ArcGIS Online Map Viewer
ArcGIS Earth
ArcMap
View Footprint In:
ArcGIS Online Map Viewer
Service Description: The 2015 Kansas Land Cover Patterns Level III map represents Phase 2 of a two-phase mapping initiative occurring over a three-year period. The map is designed to be explicitly comparable to the 1990 and 2005 Kansas Land Cover Patterns maps. Using a similar methodology to produce the 2015 Kansas Land Cover Patterns map provides opportunities to identify and examine how the Kansas landscape has changed over time.
The Modified Level III map was produced from multi-seasonal Landsat 8 and MODIS NDVI imagery acquired during the 2014 and 2015 growing seasons. The map contains seventeen land use/land cover classes and has a positional accuracy and spatial resolution appropriate for producing 1:50,000 scale maps. The MMU varies by land cover class and ranges between 0.22 to 5.12 acres.
The 2015 Kansas Land Cover Patterns map represents Phase II of a two-phase mapping initiative occurring over a three-year period. During Phase 2, subclasses were mapped to produce a Modified Level III map of Kansas using a combination of 250-meter resolution time-series MODIS NDVI imagery, Landsat imagery and the 2015 Cropland Data Layer.
The formal accuracy assessment reports the map to have an overall accuracy level of 81%. User and Producer accuracies vary by land cover class and rural classes have higher accuracy levels (37-92%) than urban classes (48-78%). Users are encouraged to reference the reported accuracy levels in this report and/or metadata when using the 2015 Kansas Land Cover Patterns Level III map. Digital versions of the map, metadata, and accuracy assessment can be accessed from the Data Access Support Center (DASC) website of the Kansas Geological Survey (http://www.kansasgis.org/) or the website of the Kansas Applied Remote Sensing Program (http://kars.ku.edu/).
Name: KansasLandCover/2015KansasLandCover_Level_III
Description: The 2015 Kansas Land Cover Patterns Level III map represents Phase 2 of a two-phase mapping initiative occurring over a three-year period. The map is designed to be explicitly comparable to the 1990 and 2005 Kansas Land Cover Patterns maps. Using a similar methodology to produce the 2015 Kansas Land Cover Patterns map provides opportunities to identify and examine how the Kansas landscape has changed over time.
The Modified Level III map was produced from multi-seasonal Landsat 8 and MODIS NDVI imagery acquired during the 2014 and 2015 growing seasons. The map contains seventeen land use/land cover classes and has a positional accuracy and spatial resolution appropriate for producing 1:50,000 scale maps. The MMU varies by land cover class and ranges between 0.22 to 5.12 acres.
The 2015 Kansas Land Cover Patterns map represents Phase II of a two-phase mapping initiative occurring over a three-year period. During Phase 2, subclasses were mapped to produce a Modified Level III map of Kansas using a combination of 250-meter resolution time-series MODIS NDVI imagery, Landsat imagery and the 2015 Cropland Data Layer.
The formal accuracy assessment reports the map to have an overall accuracy level of 81%. User and Producer accuracies vary by land cover class and rural classes have higher accuracy levels (37-92%) than urban classes (48-78%). Users are encouraged to reference the reported accuracy levels in this report and/or metadata when using the 2015 Kansas Land Cover Patterns Level III map. Digital versions of the map, metadata, and accuracy assessment can be accessed from the Data Access Support Center (DASC) website of the Kansas Geological Survey (http://www.kansasgis.org/) or the website of the Kansas Applied Remote Sensing Program (http://kars.ku.edu/).
Single Fused Map Cache: false
Extent:
XMin: -532420
YMin: 1550614
XMax: 121850
YMax: 1903654
Spatial Reference: PROJCS["Albers_Conic_Equal_Area",GEOGCS["GCS_North_American_1983",DATUM["D_North_American_1983",SPHEROID["GRS_1980",6378137.0,298.257222101]],PRIMEM["Greenwich",0.0],UNIT["Degree",0.0174532925199433]],PROJECTION["Albers"],PARAMETER["false_easting",0.0],PARAMETER["false_northing",0.0],PARAMETER["central_meridian",-96.0],PARAMETER["standard_parallel_1",29.5],PARAMETER["standard_parallel_2",45.5],PARAMETER["latitude_of_origin",23.0],UNIT["Meter",1.0]]
Initial Extent:
XMin: -532420
YMin: 1550614
XMax: 121850
YMax: 1903654
Spatial Reference: PROJCS["Albers_Conic_Equal_Area",GEOGCS["GCS_North_American_1983",DATUM["D_North_American_1983",SPHEROID["GRS_1980",6378137.0,298.257222101]],PRIMEM["Greenwich",0.0],UNIT["Degree",0.0174532925199433]],PROJECTION["Albers"],PARAMETER["false_easting",0.0],PARAMETER["false_northing",0.0],PARAMETER["central_meridian",-96.0],PARAMETER["standard_parallel_1",29.5],PARAMETER["standard_parallel_2",45.5],PARAMETER["latitude_of_origin",23.0],UNIT["Meter",1.0]]
Full Extent:
XMin: -532420
YMin: 1550614
XMax: 121850
YMax: 1903654
Spatial Reference: PROJCS["Albers_Conic_Equal_Area",GEOGCS["GCS_North_American_1983",DATUM["D_North_American_1983",SPHEROID["GRS_1980",6378137.0,298.257222101]],PRIMEM["Greenwich",0.0],UNIT["Degree",0.0174532925199433]],PROJECTION["Albers"],PARAMETER["false_easting",0.0],PARAMETER["false_northing",0.0],PARAMETER["central_meridian",-96.0],PARAMETER["standard_parallel_1",29.5],PARAMETER["standard_parallel_2",45.5],PARAMETER["latitude_of_origin",23.0],UNIT["Meter",1.0]]
Pixel Size X: 30.0
Pixel Size Y: 30.0
Band Count: 1
Pixel Type: U16
RasterFunction Infos: {"rasterFunctionInfos": [
{
"name": "KLCP2015L3",
"description": "A raster function template.",
"help": ""
},
{
"name": "None",
"description": "",
"help": ""
}
]}
Mensuration Capabilities: Basic
Has Histograms: false
Has Colormap: false
Has Multi Dimensions : false
Rendering Rule:
Min Scale: 0
Max Scale: 0
Copyright Text: The 2015 Kansas Land Cover Patterns map was created at the Kansas Applied Remote Sensing Program of the Kansas Biological Survey.
Funding Sources: The land cover mapping project was co-funded by the Kansas GIS Policy Board with funds from the Kansas Water Plan that are administered by the Kansas Water Office under the grant titled "Kansas Land Cover Mapping Initiative: A 10-Year Update" and the Kansas Department of Wildlife, Parks and Tourism under the granted titled "Geographic Information System (GIS) and Remote Sensing Support Services".
Service Data Type: esriImageServiceDataTypeGeneric
Min Values: 0
Max Values: 600
Mean Values: 254.98534992508
Standard Deviation Values: 96.614943072905
Object ID Field:
Fields:
None
Default Mosaic Method: Center
Allowed Mosaic Methods:
SortField:
SortValue: null
Mosaic Operator: First
Default Compression Quality: 75
Default Resampling Method: Nearest
Max Record Count: null
Max Image Height: 4100
Max Image Width: 15000
Max Download Image Count: null
Max Mosaic Image Count: null
Allow Raster Function: true
Allow Copy: true
Allow Analysis: true
Allow Compute TiePoints: false
Supports Statistics: false
Supports Advanced Queries: false
Use StandardizedQueries: true
Raster Type Infos:
Name: Raster Dataset
Description: Supports all ArcGIS Raster Datasets
Help:
Has Raster Attribute Table: true
Edit Fields Info: null
Ownership Based AccessControl For Rasters: null
Child Resources:
Info
Raster Attribute Table
Statistics
Key Properties
Legend
Raster Function Infos
Supported Operations:
Export Image
Identify
Measure
Compute Histograms
Compute Statistics Histograms
Get Samples
Compute Class Statistics
Query Boundary
Compute Pixel Location
Compute Angles
Validate
Project