{ "currentVersion": 10.91, "serviceDescription": "
The 2015 Kansas Land Cover Patterns Level III map represents Phase 2 of a two-phase mapping initiative occurring over a three-year period. The map is designed to be explicitly comparable to the 1990 and 2005 Kansas Land Cover Patterns maps. Using a similar methodology to produce the 2015 Kansas Land Cover Patterns map provides opportunities to identify and examine how the Kansas landscape has changed over time.<\/SPAN><\/P> <\/P> The Modified Level III map was produced from multi-seasonal Landsat 8 and MODIS NDVI imagery acquired during the 2014 and 2015 growing seasons. The map contains seventeen land use/land cover classes and has a positional accuracy and spatial resolution appropriate for producing 1:50,000 scale maps. The MMU varies by land cover class and ranges between 0.22 to 5.12 acres.<\/SPAN><\/P> <\/P> The 2015 Kansas Land Cover Patterns map represents Phase II of a two-phase mapping initiative occurring over a three-year period. During Phase 2, subclasses were mapped to produce a Modified Level III map of Kansas using a combination of 250-meter resolution time-series MODIS NDVI imagery, Landsat imagery and the 2015 Cropland Data Layer. <\/SPAN><\/P> <\/P> The formal accuracy assessment reports the map to have an overall accuracy level of 81%. User and Producer accuracies vary by land cover class and rural classes have higher accuracy levels (37-92%) than urban classes (48-78%). Users are encouraged to reference the reported accuracy levels in this report and/or metadata when using the 2015 Kansas Land Cover Patterns Level III map. Digital versions of the map, metadata, and accuracy assessment can be accessed from the Data Access Support Center (DASC) website of the Kansas Geological Survey (<\/SPAN><\/SPAN>http://www.kansasgis.org/<\/SPAN><\/SPAN><\/A>) or the website of the Kansas Applied Remote Sensing Program (<\/SPAN><\/SPAN>http://kars.ku.edu/<\/SPAN><\/SPAN><\/A>).<\/SPAN><\/SPAN><\/P> <\/P><\/DIV><\/DIV><\/DIV>",
"name": "KansasLandCover/2015KansasLandCover_Level_III",
"description": " The 2015 Kansas Land Cover Patterns Level III map represents Phase 2 of a two-phase mapping initiative occurring over a three-year period. The map is designed to be explicitly comparable to the 1990 and 2005 Kansas Land Cover Patterns maps. Using a similar methodology to produce the 2015 Kansas Land Cover Patterns map provides opportunities to identify and examine how the Kansas landscape has changed over time.<\/SPAN><\/P> <\/P> The Modified Level III map was produced from multi-seasonal Landsat 8 and MODIS NDVI imagery acquired during the 2014 and 2015 growing seasons. The map contains seventeen land use/land cover classes and has a positional accuracy and spatial resolution appropriate for producing 1:50,000 scale maps. The MMU varies by land cover class and ranges between 0.22 to 5.12 acres.<\/SPAN><\/P> <\/P> The 2015 Kansas Land Cover Patterns map represents Phase II of a two-phase mapping initiative occurring over a three-year period. During Phase 2, subclasses were mapped to produce a Modified Level III map of Kansas using a combination of 250-meter resolution time-series MODIS NDVI imagery, Landsat imagery and the 2015 Cropland Data Layer. <\/SPAN><\/P> <\/P> The formal accuracy assessment reports the map to have an overall accuracy level of 81%. User and Producer accuracies vary by land cover class and rural classes have higher accuracy levels (37-92%) than urban classes (48-78%). Users are encouraged to reference the reported accuracy levels in this report and/or metadata when using the 2015 Kansas Land Cover Patterns Level III map. Digital versions of the map, metadata, and accuracy assessment can be accessed from the Data Access Support Center (DASC) website of the Kansas Geological Survey (<\/SPAN><\/SPAN>http://www.kansasgis.org/<\/SPAN><\/SPAN><\/A>) or the website of the Kansas Applied Remote Sensing Program (<\/SPAN><\/SPAN>http://kars.ku.edu/<\/SPAN><\/SPAN><\/A>).<\/SPAN><\/SPAN><\/P> <\/P><\/DIV><\/DIV><\/DIV>",
"extent": {
"xmin": -532420,
"ymin": 1550614,
"xmax": 121850,
"ymax": 1903654,
"spatialReference": {"wkt": "PROJCS[\"Albers_Conic_Equal_Area\",GEOGCS[\"GCS_North_American_1983\",DATUM[\"D_North_American_1983\",SPHEROID[\"GRS_1980\",6378137.0,298.257222101]],PRIMEM[\"Greenwich\",0.0],UNIT[\"Degree\",0.0174532925199433]],PROJECTION[\"Albers\"],PARAMETER[\"false_easting\",0.0],PARAMETER[\"false_northing\",0.0],PARAMETER[\"central_meridian\",-96.0],PARAMETER[\"standard_parallel_1\",29.5],PARAMETER[\"standard_parallel_2\",45.5],PARAMETER[\"latitude_of_origin\",23.0],UNIT[\"Meter\",1.0]]"}
},
"initialExtent": {
"xmin": -532420,
"ymin": 1550614,
"xmax": 121850,
"ymax": 1903654,
"spatialReference": {"wkt": "PROJCS[\"Albers_Conic_Equal_Area\",GEOGCS[\"GCS_North_American_1983\",DATUM[\"D_North_American_1983\",SPHEROID[\"GRS_1980\",6378137.0,298.257222101]],PRIMEM[\"Greenwich\",0.0],UNIT[\"Degree\",0.0174532925199433]],PROJECTION[\"Albers\"],PARAMETER[\"false_easting\",0.0],PARAMETER[\"false_northing\",0.0],PARAMETER[\"central_meridian\",-96.0],PARAMETER[\"standard_parallel_1\",29.5],PARAMETER[\"standard_parallel_2\",45.5],PARAMETER[\"latitude_of_origin\",23.0],UNIT[\"Meter\",1.0]]"}
},
"fullExtent": {
"xmin": -532420,
"ymin": 1550614,
"xmax": 121850,
"ymax": 1903654,
"spatialReference": {"wkt": "PROJCS[\"Albers_Conic_Equal_Area\",GEOGCS[\"GCS_North_American_1983\",DATUM[\"D_North_American_1983\",SPHEROID[\"GRS_1980\",6378137.0,298.257222101]],PRIMEM[\"Greenwich\",0.0],UNIT[\"Degree\",0.0174532925199433]],PROJECTION[\"Albers\"],PARAMETER[\"false_easting\",0.0],PARAMETER[\"false_northing\",0.0],PARAMETER[\"central_meridian\",-96.0],PARAMETER[\"standard_parallel_1\",29.5],PARAMETER[\"standard_parallel_2\",45.5],PARAMETER[\"latitude_of_origin\",23.0],UNIT[\"Meter\",1.0]]"}
},
"hasMultidimensions": false,
"pixelSizeX": 30,
"pixelSizeY": 30,
"datasetFormat": "IMAGINE Image",
"uncompressedSize": 513296624,
"blockWidth": 64,
"blockHeight": 64,
"compressionType": "RLE",
"bandNames": [
"Layer_1"
],
"allowCopy": true,
"allowAnalysis": true,
"bandCount": 1,
"noDataValue": 65536,
"noDataValues": [
65536
],
"pixelType": "U16",
"minPixelSize": 0,
"maxPixelSize": 0,
"copyrightText": "The 2015 Kansas Land Cover Patterns map was created at the Kansas Applied Remote Sensing Program of the Kansas Biological Survey.\n\nFunding Sources: The land cover mapping project was co-funded by the Kansas GIS Policy Board with funds from the Kansas Water Plan that are administered by the Kansas Water Office under the grant titled \"Kansas Land Cover Mapping Initiative: A 10-Year Update\" and the Kansas Department of Wildlife, Parks and Tourism under the granted titled \"Geographic Information System (GIS) and Remote Sensing Support Services\".",
"serviceDataType": "esriImageServiceDataTypeGeneric",
"serviceSourceType": "esriImageServiceSourceTypeDataset",
"minValues": [
0
],
"maxValues": [
600
],
"meanValues": [
254.98534992508
],
"stdvValues": [
96.614943072905
],
"objectIdField": "",
"fields": [],
"capabilities": "Image,Metadata,Mensuration",
"defaultMosaicMethod": "Center",
"allowedMosaicMethods": "",
"sortField": "",
"sortValue": null,
"sortAscending": true,
"mosaicOperator": "First",
"defaultCompressionQuality": 75,
"defaultResamplingMethod": "Nearest",
"maxImageHeight": 4100,
"maxImageWidth": 15000,
"allowRasterFunction": true,
"rasterFunctionInfos": [
{
"name": "KLCP2015L3",
"description": "A raster function template.",
"help": ""
},
{
"name": "None",
"description": "",
"help": ""
}
],
"rasterTypeInfos": [
{
"name": "Raster Dataset",
"description": "Supports all ArcGIS Raster Datasets",
"help": ""
}
],
"mensurationCapabilities": "Basic",
"hasHistograms": false,
"hasColormap": false,
"hasRasterAttributeTable": true,
"minScale": 0,
"maxScale": 0,
"exportTilesAllowed": false,
"supportsStatistics": false,
"supportsAdvancedQueries": false,
"editFieldsInfo": null,
"ownershipBasedAccessControlForRasters": null,
"allowComputeTiePoints": false,
"useStandardizedQueries": true,
"advancedQueryCapabilities": {
"useStandardizedQueries": true,
"supportsStatistics": false,
"supportsOrderBy": false,
"supportsDistinct": false,
"supportsPagination": false
},
"spatialReference": {"wkt": "PROJCS[\"Albers_Conic_Equal_Area\",GEOGCS[\"GCS_North_American_1983\",DATUM[\"D_North_American_1983\",SPHEROID[\"GRS_1980\",6378137.0,298.257222101]],PRIMEM[\"Greenwich\",0.0],UNIT[\"Degree\",0.0174532925199433]],PROJECTION[\"Albers\"],PARAMETER[\"false_easting\",0.0],PARAMETER[\"false_northing\",0.0],PARAMETER[\"central_meridian\",-96.0],PARAMETER[\"standard_parallel_1\",29.5],PARAMETER[\"standard_parallel_2\",45.5],PARAMETER[\"latitude_of_origin\",23.0],UNIT[\"Meter\",1.0]]"}
}