View In:
ArcGIS JavaScript
ArcGIS Online Map Viewer
ArcGIS Earth
ArcMap
View Footprint In:
ArcGIS Online Map Viewer
Service Description: The 2015 Level I Kansas Land Cover Patterns map represents Phase 1 of a two-phase database development. The map enhances the Cropland Data Layer to be comparable (thematic classes and spatial resolution (cell size) and generalization (or MMU)) to the 1990 and 2005 Kansas Land Cover Patterns map to provide opportunities to identify and examine how the Kansas landscape has changed over time. In Phase II cropland pixels will be extracted from the Level I map and mapped using 2015 MODIS NDVI time-series and compared to crop map results generated in the CDL. The most accurate crop type map will be used for the final Level III map product. Also in Phase II, grassland pixels will be extracted from the Level I map and cool- and warm-season grasslands will be mapped using 2015 Landsat TM and/or 2015 MODIS NDVI time-series.
The map contains ten land use/land cover classes. The positional accuracy and spatial resolution of the map are appropriate for producing 1:50,000 scale maps. The map is not intended to define precise boundaries between landscape features and while the source data has a spatial resolution of 30 m x 30 m, the minimum map unit varies by land cover class and ranges between 0.22 to 5.12 acres (see below).
MMU by LULC type:
water = 1 pixel
woodland = 3 pixels (0.667 acres)
other = 15 pixels (3.114 acres)
urban = 15 pixels (3.114 acres)
grass/crop = 23 pixels (5.115 acres)
Name: KansasLandCover/2015KansasLandCover_Level_I
Description: The 2015 Level I Kansas Land Cover Patterns map represents Phase 1 of a two-phase database development. The map enhances the Cropland Data Layer to be comparable (thematic classes and spatial resolution (cell size) and generalization (or MMU)) to the 1990 and 2005 Kansas Land Cover Patterns map to provide opportunities to identify and examine how the Kansas landscape has changed over time. In Phase II cropland pixels will be extracted from the Level I map and mapped using 2015 MODIS NDVI time-series and compared to crop map results generated in the CDL. The most accurate crop type map will be used for the final Level III map product. Also in Phase II, grassland pixels will be extracted from the Level I map and cool- and warm-season grasslands will be mapped using 2015 Landsat TM and/or 2015 MODIS NDVI time-series.
The map contains ten land use/land cover classes. The positional accuracy and spatial resolution of the map are appropriate for producing 1:50,000 scale maps. The map is not intended to define precise boundaries between landscape features and while the source data has a spatial resolution of 30 m x 30 m, the minimum map unit varies by land cover class and ranges between 0.22 to 5.12 acres (see below).
MMU by LULC type:
water = 1 pixel
woodland = 3 pixels (0.667 acres)
other = 15 pixels (3.114 acres)
urban = 15 pixels (3.114 acres)
grass/crop = 23 pixels (5.115 acres)
Single Fused Map Cache: false
Extent:
XMin: -532420
YMin: 1550614
XMax: 121850
YMax: 1903654
Spatial Reference: PROJCS["Albers_Conic_Equal_Area",GEOGCS["GCS_North_American_1983",DATUM["D_North_American_1983",SPHEROID["GRS_1980",6378137.0,298.257222101]],PRIMEM["Greenwich",0.0],UNIT["Degree",0.0174532925199433]],PROJECTION["Albers"],PARAMETER["false_easting",0.0],PARAMETER["false_northing",0.0],PARAMETER["central_meridian",-96.0],PARAMETER["standard_parallel_1",29.5],PARAMETER["standard_parallel_2",45.5],PARAMETER["latitude_of_origin",23.0],UNIT["Meter",1.0]]
Initial Extent:
XMin: -532420
YMin: 1550614
XMax: 121850
YMax: 1903654
Spatial Reference: PROJCS["Albers_Conic_Equal_Area",GEOGCS["GCS_North_American_1983",DATUM["D_North_American_1983",SPHEROID["GRS_1980",6378137.0,298.257222101]],PRIMEM["Greenwich",0.0],UNIT["Degree",0.0174532925199433]],PROJECTION["Albers"],PARAMETER["false_easting",0.0],PARAMETER["false_northing",0.0],PARAMETER["central_meridian",-96.0],PARAMETER["standard_parallel_1",29.5],PARAMETER["standard_parallel_2",45.5],PARAMETER["latitude_of_origin",23.0],UNIT["Meter",1.0]]
Full Extent:
XMin: -532420
YMin: 1550614
XMax: 121850
YMax: 1903654
Spatial Reference: PROJCS["Albers_Conic_Equal_Area",GEOGCS["GCS_North_American_1983",DATUM["D_North_American_1983",SPHEROID["GRS_1980",6378137.0,298.257222101]],PRIMEM["Greenwich",0.0],UNIT["Degree",0.0174532925199433]],PROJECTION["Albers"],PARAMETER["false_easting",0.0],PARAMETER["false_northing",0.0],PARAMETER["central_meridian",-96.0],PARAMETER["standard_parallel_1",29.5],PARAMETER["standard_parallel_2",45.5],PARAMETER["latitude_of_origin",23.0],UNIT["Meter",1.0]]
Pixel Size X: 30.0
Pixel Size Y: 30.0
Band Count: 1
Pixel Type: U16
RasterFunction Infos: {"rasterFunctionInfos": [
{
"name": "klcp2015l1",
"description": "A raster function template.",
"help": ""
},
{
"name": "None",
"description": "",
"help": ""
}
]}
Mensuration Capabilities: Basic
Has Histograms: true
Has Colormap: false
Has Multi Dimensions : false
Rendering Rule:
Min Scale: 0
Max Scale: 0
Copyright Text: Funding Sources: The land cover mapping project was co-funded by the Kansas GIS Policy Board with funds from the Kansas Water Plan that are administered by the Kansas Water Office under the grant titled "Kansas Land Cover Mapping Initiative: A 10-Year Update" and the Kansas Department of Wildlife, Parks and Tourism under the granted titled "Geographic Information System (GIS) and Remote Sensing Support Services".
Service Data Type: esriImageServiceDataTypeGeneric
Min Values: 11
Max Values: 60
Mean Values: 25.715069175916
Standard Deviation Values: 6.6218484284998
Object ID Field:
Fields:
None
Default Mosaic Method: Center
Allowed Mosaic Methods:
SortField:
SortValue: null
Mosaic Operator: First
Default Compression Quality: 75
Default Resampling Method: Nearest
Max Record Count: null
Max Image Height: 4100
Max Image Width: 15000
Max Download Image Count: null
Max Mosaic Image Count: null
Allow Raster Function: true
Allow Copy: true
Allow Analysis: true
Allow Compute TiePoints: false
Supports Statistics: false
Supports Advanced Queries: false
Use StandardizedQueries: true
Raster Type Infos:
Name: Raster Dataset
Description: Supports all ArcGIS Raster Datasets
Help:
Has Raster Attribute Table: true
Edit Fields Info: null
Ownership Based AccessControl For Rasters: null
Child Resources:
Info
Raster Attribute Table
Histograms
Statistics
Key Properties
Legend
Raster Function Infos
Supported Operations:
Export Image
Identify
Measure
Compute Histograms
Compute Statistics Histograms
Get Samples
Compute Class Statistics
Query Boundary
Compute Pixel Location
Compute Angles
Validate
Project