{ "currentVersion": 10.91, "serviceDescription": "
The 2015 Level I Kansas Land Cover Patterns map represents Phase 1 of a two-phase database development. The map enhances the Cropland Data Layer to be comparable (thematic classes and spatial resolution (cell size) and generalization (or MMU)) to the 1990 and 2005 Kansas Land Cover Patterns map to provide opportunities to identify and examine how the Kansas landscape has changed over time. In Phase II cropland pixels will be extracted from the Level I map and mapped using 2015 MODIS NDVI time-series and compared to crop map results generated in the CDL. The most accurate crop type map will be used for the final Level III map product. Also in Phase II, grassland pixels will be extracted from the Level I map and cool- and warm-season grasslands will be mapped using 2015 Landsat TM and/or 2015 MODIS NDVI time-series.<\/SPAN><\/P> <\/P> The map contains ten land use/land cover classes. The positional accuracy and spatial resolution of the map are appropriate for producing 1:50,000 scale maps. The map is not intended to define precise boundaries between landscape features and while the source data has a spatial resolution of 30 m x 30 m, the minimum map unit varies by land cover class and ranges between 0.22 to 5.12 acres (see below).<\/SPAN><\/SPAN><\/P> <\/P> MMU by LULC type:<\/SPAN><\/P> water = 1 pixel<\/SPAN><\/P> woodland = 3 pixels (0.667 acres)<\/SPAN><\/P> other = 15 pixels (3.114 acres) <\/SPAN><\/P> urban = 15 pixels (3.114 acres)<\/SPAN><\/P> grass/crop = 23 pixels (5.115 acres)<\/SPAN><\/P> <\/P><\/DIV><\/DIV><\/DIV>",
"name": "KansasLandCover/2015KansasLandCover_Level_I",
"description": " The 2015 Level I Kansas Land Cover Patterns map represents Phase 1 of a two-phase database development. The map enhances the Cropland Data Layer to be comparable (thematic classes and spatial resolution (cell size) and generalization (or MMU)) to the 1990 and 2005 Kansas Land Cover Patterns map to provide opportunities to identify and examine how the Kansas landscape has changed over time. In Phase II cropland pixels will be extracted from the Level I map and mapped using 2015 MODIS NDVI time-series and compared to crop map results generated in the CDL. The most accurate crop type map will be used for the final Level III map product. Also in Phase II, grassland pixels will be extracted from the Level I map and cool- and warm-season grasslands will be mapped using 2015 Landsat TM and/or 2015 MODIS NDVI time-series.<\/SPAN><\/P> <\/P> The map contains ten land use/land cover classes. The positional accuracy and spatial resolution of the map are appropriate for producing 1:50,000 scale maps. The map is not intended to define precise boundaries between landscape features and while the source data has a spatial resolution of 30 m x 30 m, the minimum map unit varies by land cover class and ranges between 0.22 to 5.12 acres (see below).<\/SPAN><\/SPAN><\/P> <\/P> MMU by LULC type:<\/SPAN><\/P> water = 1 pixel<\/SPAN><\/P> woodland = 3 pixels (0.667 acres)<\/SPAN><\/P> other = 15 pixels (3.114 acres) <\/SPAN><\/P> urban = 15 pixels (3.114 acres)<\/SPAN><\/P> grass/crop = 23 pixels (5.115 acres)<\/SPAN><\/P> <\/P><\/DIV><\/DIV><\/DIV>",
"extent": {
"xmin": -532420,
"ymin": 1550614,
"xmax": 121850,
"ymax": 1903654,
"spatialReference": {"wkt": "PROJCS[\"Albers_Conic_Equal_Area\",GEOGCS[\"GCS_North_American_1983\",DATUM[\"D_North_American_1983\",SPHEROID[\"GRS_1980\",6378137.0,298.257222101]],PRIMEM[\"Greenwich\",0.0],UNIT[\"Degree\",0.0174532925199433]],PROJECTION[\"Albers\"],PARAMETER[\"false_easting\",0.0],PARAMETER[\"false_northing\",0.0],PARAMETER[\"central_meridian\",-96.0],PARAMETER[\"standard_parallel_1\",29.5],PARAMETER[\"standard_parallel_2\",45.5],PARAMETER[\"latitude_of_origin\",23.0],UNIT[\"Meter\",1.0]]"}
},
"initialExtent": {
"xmin": -532420,
"ymin": 1550614,
"xmax": 121850,
"ymax": 1903654,
"spatialReference": {"wkt": "PROJCS[\"Albers_Conic_Equal_Area\",GEOGCS[\"GCS_North_American_1983\",DATUM[\"D_North_American_1983\",SPHEROID[\"GRS_1980\",6378137.0,298.257222101]],PRIMEM[\"Greenwich\",0.0],UNIT[\"Degree\",0.0174532925199433]],PROJECTION[\"Albers\"],PARAMETER[\"false_easting\",0.0],PARAMETER[\"false_northing\",0.0],PARAMETER[\"central_meridian\",-96.0],PARAMETER[\"standard_parallel_1\",29.5],PARAMETER[\"standard_parallel_2\",45.5],PARAMETER[\"latitude_of_origin\",23.0],UNIT[\"Meter\",1.0]]"}
},
"fullExtent": {
"xmin": -532420,
"ymin": 1550614,
"xmax": 121850,
"ymax": 1903654,
"spatialReference": {"wkt": "PROJCS[\"Albers_Conic_Equal_Area\",GEOGCS[\"GCS_North_American_1983\",DATUM[\"D_North_American_1983\",SPHEROID[\"GRS_1980\",6378137.0,298.257222101]],PRIMEM[\"Greenwich\",0.0],UNIT[\"Degree\",0.0174532925199433]],PROJECTION[\"Albers\"],PARAMETER[\"false_easting\",0.0],PARAMETER[\"false_northing\",0.0],PARAMETER[\"central_meridian\",-96.0],PARAMETER[\"standard_parallel_1\",29.5],PARAMETER[\"standard_parallel_2\",45.5],PARAMETER[\"latitude_of_origin\",23.0],UNIT[\"Meter\",1.0]]"}
},
"hasMultidimensions": false,
"pixelSizeX": 30,
"pixelSizeY": 30,
"datasetFormat": "IMAGINE Image",
"uncompressedSize": 513296624,
"blockWidth": 64,
"blockHeight": 64,
"compressionType": "RLE",
"bandNames": [
"Layer_1"
],
"allowCopy": true,
"allowAnalysis": true,
"bandCount": 1,
"noDataValue": 65535,
"noDataValues": [
65535
],
"pixelType": "U16",
"minPixelSize": 0,
"maxPixelSize": 0,
"copyrightText": "Funding Sources: The land cover mapping project was co-funded by the Kansas GIS Policy Board with funds from the Kansas Water Plan that are administered by the Kansas Water Office under the grant titled \"Kansas Land Cover Mapping Initiative: A 10-Year Update\" and the Kansas Department of Wildlife, Parks and Tourism under the granted titled \"Geographic Information System (GIS) and Remote Sensing Support Services\".",
"serviceDataType": "esriImageServiceDataTypeGeneric",
"serviceSourceType": "esriImageServiceSourceTypeDataset",
"minValues": [
11
],
"maxValues": [
60
],
"meanValues": [
25.715069175916
],
"stdvValues": [
6.6218484284998
],
"objectIdField": "",
"fields": [],
"capabilities": "Image,Metadata,Mensuration",
"defaultMosaicMethod": "Center",
"allowedMosaicMethods": "",
"sortField": "",
"sortValue": null,
"sortAscending": true,
"mosaicOperator": "First",
"defaultCompressionQuality": 75,
"defaultResamplingMethod": "Nearest",
"maxImageHeight": 4100,
"maxImageWidth": 15000,
"allowRasterFunction": true,
"rasterFunctionInfos": [
{
"name": "klcp2015l1",
"description": "A raster function template.",
"help": ""
},
{
"name": "None",
"description": "",
"help": ""
}
],
"rasterTypeInfos": [
{
"name": "Raster Dataset",
"description": "Supports all ArcGIS Raster Datasets",
"help": ""
}
],
"mensurationCapabilities": "Basic",
"hasHistograms": true,
"hasColormap": false,
"hasRasterAttributeTable": true,
"minScale": 0,
"maxScale": 0,
"exportTilesAllowed": false,
"supportsStatistics": false,
"supportsAdvancedQueries": false,
"editFieldsInfo": null,
"ownershipBasedAccessControlForRasters": null,
"allowComputeTiePoints": false,
"useStandardizedQueries": true,
"advancedQueryCapabilities": {
"useStandardizedQueries": true,
"supportsStatistics": false,
"supportsOrderBy": false,
"supportsDistinct": false,
"supportsPagination": false
},
"spatialReference": {"wkt": "PROJCS[\"Albers_Conic_Equal_Area\",GEOGCS[\"GCS_North_American_1983\",DATUM[\"D_North_American_1983\",SPHEROID[\"GRS_1980\",6378137.0,298.257222101]],PRIMEM[\"Greenwich\",0.0],UNIT[\"Degree\",0.0174532925199433]],PROJECTION[\"Albers\"],PARAMETER[\"false_easting\",0.0],PARAMETER[\"false_northing\",0.0],PARAMETER[\"central_meridian\",-96.0],PARAMETER[\"standard_parallel_1\",29.5],PARAMETER[\"standard_parallel_2\",45.5],PARAMETER[\"latitude_of_origin\",23.0],UNIT[\"Meter\",1.0]]"}
}