View In:
ArcGIS JavaScript
ArcGIS Online Map Viewer
ArcGIS Earth
ArcMap
View Footprint In:
ArcGIS Online Map Viewer
Service Description: The 2005 Kansas Land Cover Patterns Level I map represents Phase 1 of a two-phase mapping initiative occurring over a three-year period. The map is designed to be explicitly comparable to the 1990 Kansas Land Cover Patterns map. Using a similar methodology to produce the 2005 Kansas Land Cover Patterns map provides opportunities to identify and examine how the Kansas landscape has changed over a 15-year period. The map contains eleven land use/land cover classes. The positional accuracy and spatial resolution of the map are appropriate for producing 1:50,000 scale maps. The map is not intended to define precise boundaries between landscape features and while the source data has a spatial resolution of 30 m x 30 m, the minimum map unit varies by land cover class and ranges between 0.22 to 5.12 acres (see below). The formal accuracy assessment reports the map to have an overall accuracy level of 90.72%. User and Producer accuracies vary by land cover class and rural classes have higher accuracy levels (88-95%) than urban classes (48-78%). Users are encouraged to reference the reported accuracy levels in this report and/or metadata when using the 2005 Kansas Land Cover Patterns map. Digital versions of the map, metadata, and accuracy assessment can be accessed from the Data Access Support Center (DASC) website of the Kansas Geological Survey (http://www.kansasgis.org/) or the website of the Kansas Applied Remote Sensing Program (http://kars.ku.edu/).
Name: KansasLandCover/2005KansasLandCover_Level_I
Description: The 2005 Kansas Land Cover Patterns Level I map represents Phase 1 of a two-phase mapping initiative occurring over a three-year period. The map is designed to be explicitly comparable to the 1990 Kansas Land Cover Patterns map. Using a similar methodology to produce the 2005 Kansas Land Cover Patterns map provides opportunities to identify and examine how the Kansas landscape has changed over a 15-year period. The map contains eleven land use/land cover classes. The positional accuracy and spatial resolution of the map are appropriate for producing 1:50,000 scale maps. The map is not intended to define precise boundaries between landscape features and while the source data has a spatial resolution of 30 m x 30 m, the minimum map unit varies by land cover class and ranges between 0.22 to 5.12 acres (see below). The formal accuracy assessment reports the map to have an overall accuracy level of 90.72%. User and Producer accuracies vary by land cover class and rural classes have higher accuracy levels (88-95%) than urban classes (48-78%). Users are encouraged to reference the reported accuracy levels in this report and/or metadata when using the 2005 Kansas Land Cover Patterns map. Digital versions of the map, metadata, and accuracy assessment can be accessed from the Data Access Support Center (DASC) website of the Kansas Geological Survey (http://www.kansasgis.org/) or the website of the Kansas Applied Remote Sensing Program (http://kars.ku.edu/).
Single Fused Map Cache: false
Extent:
XMin: -532660
YMin: 1550344
XMax: 122150
YMax: 1903924
Spatial Reference: PROJCS["NAD_1983_Albers",GEOGCS["GCS_North_American_1983",DATUM["D_North_American_1983",SPHEROID["GRS_1980",6378137.0,298.257222101]],PRIMEM["Greenwich",0.0],UNIT["Degree",0.0174532925199433]],PROJECTION["Albers"],PARAMETER["False_Easting",0.0],PARAMETER["False_Northing",0.0],PARAMETER["Central_Meridian",-96.0],PARAMETER["Standard_Parallel_1",29.5],PARAMETER["Standard_Parallel_2",45.5],PARAMETER["Latitude_Of_Origin",23.0],UNIT["Meter",1.0]]
Initial Extent:
XMin: -532660
YMin: 1550344
XMax: 122150
YMax: 1903924
Spatial Reference: PROJCS["NAD_1983_Albers",GEOGCS["GCS_North_American_1983",DATUM["D_North_American_1983",SPHEROID["GRS_1980",6378137.0,298.257222101]],PRIMEM["Greenwich",0.0],UNIT["Degree",0.0174532925199433]],PROJECTION["Albers"],PARAMETER["False_Easting",0.0],PARAMETER["False_Northing",0.0],PARAMETER["Central_Meridian",-96.0],PARAMETER["Standard_Parallel_1",29.5],PARAMETER["Standard_Parallel_2",45.5],PARAMETER["Latitude_Of_Origin",23.0],UNIT["Meter",1.0]]
Full Extent:
XMin: -532660
YMin: 1550344
XMax: 122150
YMax: 1903924
Spatial Reference: PROJCS["NAD_1983_Albers",GEOGCS["GCS_North_American_1983",DATUM["D_North_American_1983",SPHEROID["GRS_1980",6378137.0,298.257222101]],PRIMEM["Greenwich",0.0],UNIT["Degree",0.0174532925199433]],PROJECTION["Albers"],PARAMETER["False_Easting",0.0],PARAMETER["False_Northing",0.0],PARAMETER["Central_Meridian",-96.0],PARAMETER["Standard_Parallel_1",29.5],PARAMETER["Standard_Parallel_2",45.5],PARAMETER["Latitude_Of_Origin",23.0],UNIT["Meter",1.0]]
Pixel Size X: 30.0
Pixel Size Y: 30.0
Band Count: 1
Pixel Type: S8
RasterFunction Infos: {"rasterFunctionInfos": [
{
"name": "klcp2005l1k",
"description": "A raster function template.",
"help": ""
},
{
"name": "None",
"description": "",
"help": ""
}
]}
Mensuration Capabilities: Basic
Has Histograms: false
Has Colormap: false
Has Multi Dimensions : false
Rendering Rule:
Min Scale: 0
Max Scale: 0
Copyright Text: The 2005 Kansas Land Cover Patterns map was created at the Kansas Applied Remote Sensing Program of the Kansas Biological Survey.
Funding Sources: The land cover mapping project was co-funded by the Kansas GIS Policy Board with funds from the Kansas Water Plan that are administered by the Kansas Water Office under the grant titled "Kansas Next-Generation Land Use/Land Cover Mapping Initiative" and the National Science Foundation EPSCoR Program under the research project titled "Understanding and Forecasting Ecological Change: Causes, Trajectories and Consequences of Environmental Change in the Central Plains."
Service Data Type: esriImageServiceDataTypeGeneric
Min Values: 11
Max Values: 60
Mean Values: 25.741092854278584
Standard Deviation Values: 6.4285323222857915
Object ID Field:
Fields:
None
Default Mosaic Method: Center
Allowed Mosaic Methods:
SortField:
SortValue: null
Mosaic Operator: First
Default Compression Quality: 75
Default Resampling Method: Nearest
Max Record Count: null
Max Image Height: 4100
Max Image Width: 15000
Max Download Image Count: null
Max Mosaic Image Count: null
Allow Raster Function: true
Allow Copy: true
Allow Analysis: true
Allow Compute TiePoints: false
Supports Statistics: false
Supports Advanced Queries: false
Use StandardizedQueries: true
Raster Type Infos:
Name: Raster Dataset
Description: Supports all ArcGIS Raster Datasets
Help:
Has Raster Attribute Table: true
Edit Fields Info: null
Ownership Based AccessControl For Rasters: null
Child Resources:
Info
Raster Attribute Table
Statistics
Key Properties
Legend
Raster Function Infos
Supported Operations:
Export Image
Identify
Measure
Compute Histograms
Compute Statistics Histograms
Get Samples
Compute Class Statistics
Query Boundary
Compute Pixel Location
Compute Angles
Validate
Project