{ "currentVersion": 10.91, "serviceDescription": "
The 2005 Kansas Land Cover Patterns Level I map represents Phase 1 of a two-phase mapping initiative occurring over a three-year period. The map is designed to be explicitly comparable to the 1990 Kansas Land Cover Patterns map. Using a similar methodology to produce the 2005 Kansas Land Cover Patterns map provides opportunities to identify and examine how the Kansas landscape has changed over a 15-year period. The map contains eleven land use/land cover classes. The positional accuracy and spatial resolution of the map are appropriate for producing 1:50,000 scale maps. The map is not intended to define precise boundaries between landscape features and while the source data has a spatial resolution of 30 m x 30 m, the minimum map unit varies by land cover class and ranges between 0.22 to 5.12 acres (see below). The formal accuracy assessment reports the map to have an overall accuracy level of 90.72%. User and Producer accuracies vary by land cover class and rural classes have higher accuracy levels (88-95%) than urban classes (48-78%). Users are encouraged to reference the reported accuracy levels in this report and/or metadata when using the 2005 Kansas Land Cover Patterns map. Digital versions of the map, metadata, and accuracy assessment can be accessed from the Data Access Support Center (DASC) website of the Kansas Geological Survey (http://www.kansasgis.org/) or the website of the Kansas Applied Remote Sensing Program (http://kars.ku.edu/).<\/SPAN><\/P><\/DIV><\/DIV>",
"name": "KansasLandCover/2005KansasLandCover_Level_I",
"description": " The 2005 Kansas Land Cover Patterns Level I map represents Phase 1 of a two-phase mapping initiative occurring over a three-year period. The map is designed to be explicitly comparable to the 1990 Kansas Land Cover Patterns map. Using a similar methodology to produce the 2005 Kansas Land Cover Patterns map provides opportunities to identify and examine how the Kansas landscape has changed over a 15-year period. The map contains eleven land use/land cover classes. The positional accuracy and spatial resolution of the map are appropriate for producing 1:50,000 scale maps. The map is not intended to define precise boundaries between landscape features and while the source data has a spatial resolution of 30 m x 30 m, the minimum map unit varies by land cover class and ranges between 0.22 to 5.12 acres (see below). The formal accuracy assessment reports the map to have an overall accuracy level of 90.72%. User and Producer accuracies vary by land cover class and rural classes have higher accuracy levels (88-95%) than urban classes (48-78%). Users are encouraged to reference the reported accuracy levels in this report and/or metadata when using the 2005 Kansas Land Cover Patterns map. Digital versions of the map, metadata, and accuracy assessment can be accessed from the Data Access Support Center (DASC) website of the Kansas Geological Survey (http://www.kansasgis.org/) or the website of the Kansas Applied Remote Sensing Program (http://kars.ku.edu/).<\/SPAN><\/P><\/DIV><\/DIV>",
"extent": {
"xmin": -532660,
"ymin": 1550344,
"xmax": 122150,
"ymax": 1903924,
"spatialReference": {"wkt": "PROJCS[\"NAD_1983_Albers\",GEOGCS[\"GCS_North_American_1983\",DATUM[\"D_North_American_1983\",SPHEROID[\"GRS_1980\",6378137.0,298.257222101]],PRIMEM[\"Greenwich\",0.0],UNIT[\"Degree\",0.0174532925199433]],PROJECTION[\"Albers\"],PARAMETER[\"False_Easting\",0.0],PARAMETER[\"False_Northing\",0.0],PARAMETER[\"Central_Meridian\",-96.0],PARAMETER[\"Standard_Parallel_1\",29.5],PARAMETER[\"Standard_Parallel_2\",45.5],PARAMETER[\"Latitude_Of_Origin\",23.0],UNIT[\"Meter\",1.0]]"}
},
"initialExtent": {
"xmin": -532660,
"ymin": 1550344,
"xmax": 122150,
"ymax": 1903924,
"spatialReference": {"wkt": "PROJCS[\"NAD_1983_Albers\",GEOGCS[\"GCS_North_American_1983\",DATUM[\"D_North_American_1983\",SPHEROID[\"GRS_1980\",6378137.0,298.257222101]],PRIMEM[\"Greenwich\",0.0],UNIT[\"Degree\",0.0174532925199433]],PROJECTION[\"Albers\"],PARAMETER[\"False_Easting\",0.0],PARAMETER[\"False_Northing\",0.0],PARAMETER[\"Central_Meridian\",-96.0],PARAMETER[\"Standard_Parallel_1\",29.5],PARAMETER[\"Standard_Parallel_2\",45.5],PARAMETER[\"Latitude_Of_Origin\",23.0],UNIT[\"Meter\",1.0]]"}
},
"fullExtent": {
"xmin": -532660,
"ymin": 1550344,
"xmax": 122150,
"ymax": 1903924,
"spatialReference": {"wkt": "PROJCS[\"NAD_1983_Albers\",GEOGCS[\"GCS_North_American_1983\",DATUM[\"D_North_American_1983\",SPHEROID[\"GRS_1980\",6378137.0,298.257222101]],PRIMEM[\"Greenwich\",0.0],UNIT[\"Degree\",0.0174532925199433]],PROJECTION[\"Albers\"],PARAMETER[\"False_Easting\",0.0],PARAMETER[\"False_Northing\",0.0],PARAMETER[\"Central_Meridian\",-96.0],PARAMETER[\"Standard_Parallel_1\",29.5],PARAMETER[\"Standard_Parallel_2\",45.5],PARAMETER[\"Latitude_Of_Origin\",23.0],UNIT[\"Meter\",1.0]]"}
},
"hasMultidimensions": false,
"pixelSizeX": 30,
"pixelSizeY": 30,
"datasetFormat": "GRID",
"uncompressedSize": 257253022,
"blockWidth": 256,
"blockHeight": 4,
"compressionType": "RLE",
"bandNames": [
"klcp2005l1k"
],
"allowCopy": true,
"allowAnalysis": true,
"bandCount": 1,
"noDataValue": -128,
"noDataValues": [
-128
],
"pixelType": "S8",
"minPixelSize": 0,
"maxPixelSize": 0,
"copyrightText": "The 2005 Kansas Land Cover Patterns map was created at the Kansas Applied Remote Sensing Program of the Kansas Biological Survey.\n\nFunding Sources: The land cover mapping project was co-funded by the Kansas GIS Policy Board with funds from the Kansas Water Plan that are administered by the Kansas Water Office under the grant titled \"Kansas Next-Generation Land Use/Land Cover Mapping Initiative\" and the National Science Foundation EPSCoR Program under the research project titled \"Understanding and Forecasting Ecological Change: Causes, Trajectories and Consequences of Environmental Change in the Central Plains.\"",
"serviceDataType": "esriImageServiceDataTypeGeneric",
"serviceSourceType": "esriImageServiceSourceTypeDataset",
"minValues": [
11
],
"maxValues": [
60
],
"meanValues": [
25.741092854278584
],
"stdvValues": [
6.4285323222857915
],
"objectIdField": "",
"fields": [],
"capabilities": "Image,Metadata,Mensuration",
"defaultMosaicMethod": "Center",
"allowedMosaicMethods": "",
"sortField": "",
"sortValue": null,
"sortAscending": true,
"mosaicOperator": "First",
"defaultCompressionQuality": 75,
"defaultResamplingMethod": "Nearest",
"maxImageHeight": 4100,
"maxImageWidth": 15000,
"allowRasterFunction": true,
"rasterFunctionInfos": [
{
"name": "klcp2005l1k",
"description": "A raster function template.",
"help": ""
},
{
"name": "None",
"description": "",
"help": ""
}
],
"rasterTypeInfos": [
{
"name": "Raster Dataset",
"description": "Supports all ArcGIS Raster Datasets",
"help": ""
}
],
"mensurationCapabilities": "Basic",
"hasHistograms": false,
"hasColormap": false,
"hasRasterAttributeTable": true,
"minScale": 0,
"maxScale": 0,
"exportTilesAllowed": false,
"supportsStatistics": false,
"supportsAdvancedQueries": false,
"editFieldsInfo": null,
"ownershipBasedAccessControlForRasters": null,
"allowComputeTiePoints": false,
"useStandardizedQueries": true,
"advancedQueryCapabilities": {
"useStandardizedQueries": true,
"supportsStatistics": false,
"supportsOrderBy": false,
"supportsDistinct": false,
"supportsPagination": false
},
"spatialReference": {"wkt": "PROJCS[\"NAD_1983_Albers\",GEOGCS[\"GCS_North_American_1983\",DATUM[\"D_North_American_1983\",SPHEROID[\"GRS_1980\",6378137.0,298.257222101]],PRIMEM[\"Greenwich\",0.0],UNIT[\"Degree\",0.0174532925199433]],PROJECTION[\"Albers\"],PARAMETER[\"False_Easting\",0.0],PARAMETER[\"False_Northing\",0.0],PARAMETER[\"Central_Meridian\",-96.0],PARAMETER[\"Standard_Parallel_1\",29.5],PARAMETER[\"Standard_Parallel_2\",45.5],PARAMETER[\"Latitude_Of_Origin\",23.0],UNIT[\"Meter\",1.0]]"}
}