View In:
ArcGIS JavaScript
ArcGIS Online Map Viewer
ArcGIS Earth
ArcMap
View Footprint In:
ArcGIS Online Map Viewer
Service Description: In 2008, an update of the 1990 Kansas Land Cover Patterns (KLCP) database was undertaken. The 1990 KLCP database depicts 10 general land cover classes for the State of Kansas. The database was compiled from a digital classification of single-date Landsat Thematic Mapper (TM) imagery. The update version differs from the original release in four ways. First, the data format for the original release was an ArcInfo coverage, while the update release is an ArcInfo GRID. Second, the original's projection was Geographic with NAD83 datum. The update's projection is Albers Conic Equal Area with NAD83 datum. Third, the coding scheme for land cover classes was changed to match the coding scheme used in the 2005 Kansas Land Cover Patterns database. Fourth, an additional generalization procedure that was utilized for the 2005 KLCP database was applied to the 1990 KLCP database (see addendum to Process Description). This update facilitates comparing the 1990 KLCP dataset to the 2005 KLCP dataset on a more equal basis.
Name: KansasLandCover/1990KansasLandCover_Level_1
Description: In 2008, an update of the 1990 Kansas Land Cover Patterns (KLCP) database was undertaken. The 1990 KLCP database depicts 10 general land cover classes for the State of Kansas. The database was compiled from a digital classification of single-date Landsat Thematic Mapper (TM) imagery. The update version differs from the original release in four ways. First, the data format for the original release was an ArcInfo coverage, while the update release is an ArcInfo GRID. Second, the original's projection was Geographic with NAD83 datum. The update's projection is Albers Conic Equal Area with NAD83 datum. Third, the coding scheme for land cover classes was changed to match the coding scheme used in the 2005 Kansas Land Cover Patterns database. Fourth, an additional generalization procedure that was utilized for the 2005 KLCP database was applied to the 1990 KLCP database (see addendum to Process Description). This update facilitates comparing the 1990 KLCP dataset to the 2005 KLCP dataset on a more equal basis.
Single Fused Map Cache: false
Extent:
XMin: -532660
YMin: 1550344
XMax: 122150
YMax: 1903924
Spatial Reference: PROJCS["NAD_1983_Albers",GEOGCS["GCS_North_American_1983",DATUM["D_North_American_1983",SPHEROID["GRS_1980",6378137.0,298.257222101]],PRIMEM["Greenwich",0.0],UNIT["Degree",0.0174532925199433]],PROJECTION["Albers"],PARAMETER["False_Easting",0.0],PARAMETER["False_Northing",0.0],PARAMETER["Central_Meridian",-96.0],PARAMETER["Standard_Parallel_1",29.5],PARAMETER["Standard_Parallel_2",45.5],PARAMETER["Latitude_Of_Origin",23.0],UNIT["Meter",1.0]]
Initial Extent:
XMin: -532660
YMin: 1550344
XMax: 122150
YMax: 1903924
Spatial Reference: PROJCS["NAD_1983_Albers",GEOGCS["GCS_North_American_1983",DATUM["D_North_American_1983",SPHEROID["GRS_1980",6378137.0,298.257222101]],PRIMEM["Greenwich",0.0],UNIT["Degree",0.0174532925199433]],PROJECTION["Albers"],PARAMETER["False_Easting",0.0],PARAMETER["False_Northing",0.0],PARAMETER["Central_Meridian",-96.0],PARAMETER["Standard_Parallel_1",29.5],PARAMETER["Standard_Parallel_2",45.5],PARAMETER["Latitude_Of_Origin",23.0],UNIT["Meter",1.0]]
Full Extent:
XMin: -532660
YMin: 1550344
XMax: 122150
YMax: 1903924
Spatial Reference: PROJCS["NAD_1983_Albers",GEOGCS["GCS_North_American_1983",DATUM["D_North_American_1983",SPHEROID["GRS_1980",6378137.0,298.257222101]],PRIMEM["Greenwich",0.0],UNIT["Degree",0.0174532925199433]],PROJECTION["Albers"],PARAMETER["False_Easting",0.0],PARAMETER["False_Northing",0.0],PARAMETER["Central_Meridian",-96.0],PARAMETER["Standard_Parallel_1",29.5],PARAMETER["Standard_Parallel_2",45.5],PARAMETER["Latitude_Of_Origin",23.0],UNIT["Meter",1.0]]
Pixel Size X: 30.0
Pixel Size Y: 30.0
Band Count: 1
Pixel Type: S8
RasterFunction Infos: {"rasterFunctionInfos": [
{
"name": "klcp1990_updt",
"description": "A raster function template.",
"help": ""
},
{
"name": "None",
"description": "",
"help": ""
}
]}
Mensuration Capabilities: Basic
Has Histograms: false
Has Colormap: false
Has Multi Dimensions : false
Rendering Rule:
Min Scale: 0
Max Scale: 0
Copyright Text:
Service Data Type: esriImageServiceDataTypeGeneric
Min Values: 11
Max Values: 60
Mean Values: 24.90881184965875
Standard Deviation Values: 6.119190241901538
Object ID Field:
Fields:
None
Default Mosaic Method: Center
Allowed Mosaic Methods:
SortField:
SortValue: null
Mosaic Operator: First
Default Compression Quality: 75
Default Resampling Method: Nearest
Max Record Count: null
Max Image Height: 4100
Max Image Width: 15000
Max Download Image Count: null
Max Mosaic Image Count: null
Allow Raster Function: true
Allow Copy: true
Allow Analysis: true
Allow Compute TiePoints: false
Supports Statistics: false
Supports Advanced Queries: false
Use StandardizedQueries: true
Raster Type Infos:
Name: Raster Dataset
Description: Supports all ArcGIS Raster Datasets
Help:
Has Raster Attribute Table: true
Edit Fields Info: null
Ownership Based AccessControl For Rasters: null
Child Resources:
Info
Raster Attribute Table
Statistics
Key Properties
Legend
Raster Function Infos
Supported Operations:
Export Image
Identify
Measure
Compute Histograms
Compute Statistics Histograms
Get Samples
Compute Class Statistics
Query Boundary
Compute Pixel Location
Compute Angles
Validate
Project