{
 "currentVersion": 10.91,
 "serviceDescription": "In 2008, an update of the 1990 Kansas Land Cover Patterns (KLCP) database was undertaken. The 1990 KLCP database depicts 10 general land cover classes for the State of Kansas. The database was compiled from a digital classification of single-date Landsat Thematic Mapper (TM) imagery. The update version differs from the original release in four ways. First, the data format for the original release was an ArcInfo coverage, while the update release is an ArcInfo GRID. Second, the original's projection was Geographic with NAD83 datum. The update's projection is Albers Conic Equal Area with NAD83 datum. Third, the coding scheme for land cover classes was changed to match the coding scheme used in the 2005 Kansas Land Cover Patterns database. Fourth, an additional generalization procedure that was utilized for the 2005 KLCP database was applied to the 1990 KLCP database (see addendum to Process Description). This update facilitates comparing the 1990 KLCP dataset to the 2005 KLCP dataset on a more equal basis.",
 "name": "KansasLandCover/1990KansasLandCover_Level_1",
 "description": "In 2008, an update of the 1990 Kansas Land Cover Patterns (KLCP) database was undertaken. The 1990 KLCP database depicts 10 general land cover classes for the State of Kansas. The database was compiled from a digital classification of single-date Landsat Thematic Mapper (TM) imagery. The update version differs from the original release in four ways. First, the data format for the original release was an ArcInfo coverage, while the update release is an ArcInfo GRID. Second, the original's projection was Geographic with NAD83 datum. The update's projection is Albers Conic Equal Area with NAD83 datum. Third, the coding scheme for land cover classes was changed to match the coding scheme used in the 2005 Kansas Land Cover Patterns database. Fourth, an additional generalization procedure that was utilized for the 2005 KLCP database was applied to the 1990 KLCP database (see addendum to Process Description). This update facilitates comparing the 1990 KLCP dataset to the 2005 KLCP dataset on a more equal basis.",
 "extent": {
  "xmin": -532660,
  "ymin": 1550344,
  "xmax": 122150,
  "ymax": 1903924,
  "spatialReference": {
   "wkt": "PROJCS[\"NAD_1983_Albers\",GEOGCS[\"GCS_North_American_1983\",DATUM[\"D_North_American_1983\",SPHEROID[\"GRS_1980\",6378137.0,298.257222101]],PRIMEM[\"Greenwich\",0.0],UNIT[\"Degree\",0.0174532925199433]],PROJECTION[\"Albers\"],PARAMETER[\"False_Easting\",0.0],PARAMETER[\"False_Northing\",0.0],PARAMETER[\"Central_Meridian\",-96.0],PARAMETER[\"Standard_Parallel_1\",29.5],PARAMETER[\"Standard_Parallel_2\",45.5],PARAMETER[\"Latitude_Of_Origin\",23.0],UNIT[\"Meter\",1.0]]"
  }
 },
 "initialExtent": {
  "xmin": -532660,
  "ymin": 1550344,
  "xmax": 122150,
  "ymax": 1903924,
  "spatialReference": {
   "wkt": "PROJCS[\"NAD_1983_Albers\",GEOGCS[\"GCS_North_American_1983\",DATUM[\"D_North_American_1983\",SPHEROID[\"GRS_1980\",6378137.0,298.257222101]],PRIMEM[\"Greenwich\",0.0],UNIT[\"Degree\",0.0174532925199433]],PROJECTION[\"Albers\"],PARAMETER[\"False_Easting\",0.0],PARAMETER[\"False_Northing\",0.0],PARAMETER[\"Central_Meridian\",-96.0],PARAMETER[\"Standard_Parallel_1\",29.5],PARAMETER[\"Standard_Parallel_2\",45.5],PARAMETER[\"Latitude_Of_Origin\",23.0],UNIT[\"Meter\",1.0]]"
  }
 },
 "fullExtent": {
  "xmin": -532660,
  "ymin": 1550344,
  "xmax": 122150,
  "ymax": 1903924,
  "spatialReference": {
   "wkt": "PROJCS[\"NAD_1983_Albers\",GEOGCS[\"GCS_North_American_1983\",DATUM[\"D_North_American_1983\",SPHEROID[\"GRS_1980\",6378137.0,298.257222101]],PRIMEM[\"Greenwich\",0.0],UNIT[\"Degree\",0.0174532925199433]],PROJECTION[\"Albers\"],PARAMETER[\"False_Easting\",0.0],PARAMETER[\"False_Northing\",0.0],PARAMETER[\"Central_Meridian\",-96.0],PARAMETER[\"Standard_Parallel_1\",29.5],PARAMETER[\"Standard_Parallel_2\",45.5],PARAMETER[\"Latitude_Of_Origin\",23.0],UNIT[\"Meter\",1.0]]"
  }
 },
 "hasMultidimensions": false,
 "pixelSizeX": 30,
 "pixelSizeY": 30,
 "datasetFormat": "GRID",
 "uncompressedSize": 257253022,
 "blockWidth": 256,
 "blockHeight": 4,
 "compressionType": "RLE",
 "bandNames": [
  "klcp1990_updt"
 ],
 "allowCopy": true,
 "allowAnalysis": true,
 "bandCount": 1,
 "noDataValue": -128,
 "noDataValues": [
  -128
 ],
 "pixelType": "S8",
 "minPixelSize": 0,
 "maxPixelSize": 0,
 "copyrightText": "",
 "serviceDataType": "esriImageServiceDataTypeGeneric",
 "serviceSourceType": "esriImageServiceSourceTypeDataset",
 "minValues": [
  11
 ],
 "maxValues": [
  60
 ],
 "meanValues": [
  24.90881184965875
 ],
 "stdvValues": [
  6.119190241901538
 ],
 "objectIdField": "",
 "fields": [],
 "capabilities": "Image,Metadata,Mensuration",
 "defaultMosaicMethod": "Center",
 "allowedMosaicMethods": "",
 "sortField": "",
 "sortValue": null,
 "sortAscending": true,
 "mosaicOperator": "First",
 "defaultCompressionQuality": 75,
 "defaultResamplingMethod": "Nearest",
 "maxImageHeight": 4100,
 "maxImageWidth": 15000,
 "allowRasterFunction": true,
 "rasterFunctionInfos": [
  {
   "name": "klcp1990_updt",
   "description": "A raster function template.",
   "help": ""
  },
  {
   "name": "None",
   "description": "",
   "help": ""
  }
 ],
 "rasterTypeInfos": [
  {
   "name": "Raster Dataset",
   "description": "Supports all ArcGIS Raster Datasets",
   "help": ""
  }
 ],
 "mensurationCapabilities": "Basic",
 "hasHistograms": false,
 "hasColormap": false,
 "hasRasterAttributeTable": true,
 "minScale": 0,
 "maxScale": 0,
 "exportTilesAllowed": false,
 "supportsStatistics": false,
 "supportsAdvancedQueries": false,
 "editFieldsInfo": null,
 "ownershipBasedAccessControlForRasters": null,
 "allowComputeTiePoints": false,
 "useStandardizedQueries": true,
 "advancedQueryCapabilities": {
  "useStandardizedQueries": true,
  "supportsStatistics": false,
  "supportsOrderBy": false,
  "supportsDistinct": false,
  "supportsPagination": false
 },
 "spatialReference": {
  "wkt": "PROJCS[\"NAD_1983_Albers\",GEOGCS[\"GCS_North_American_1983\",DATUM[\"D_North_American_1983\",SPHEROID[\"GRS_1980\",6378137.0,298.257222101]],PRIMEM[\"Greenwich\",0.0],UNIT[\"Degree\",0.0174532925199433]],PROJECTION[\"Albers\"],PARAMETER[\"False_Easting\",0.0],PARAMETER[\"False_Northing\",0.0],PARAMETER[\"Central_Meridian\",-96.0],PARAMETER[\"Standard_Parallel_1\",29.5],PARAMETER[\"Standard_Parallel_2\",45.5],PARAMETER[\"Latitude_Of_Origin\",23.0],UNIT[\"Meter\",1.0]]"
 }
}
