View In:
ArcGIS JavaScript
ArcGIS Online Map Viewer
ArcGIS Earth
ArcMap
View Footprint In:
ArcGIS Online Map Viewer
Service Description: KansasFloods2019/verdigris_timeseries_may20_2019_crf
Name: KansasFloods2019/verdigris_timeseries_may20_2019_crf
Description:
Single Fused Map Cache: false
Extent:
XMin: 786464.1832999997
YMin: 4100188.5944
XMax: 807534.1832999997
YMax: 4126038.5944
Spatial Reference: 26914
(26914)
Initial Extent:
XMin: 786464.1832999997
YMin: 4100188.5944
XMax: 807534.1832999997
YMax: 4126038.5944
Spatial Reference: 26914
(26914)
Full Extent:
XMin: 786464.1832999997
YMin: 4100188.5944
XMax: 807534.1832999997
YMax: 4126038.5944
Spatial Reference: 26914
(26914)
Time Info:
Start Time Field: StdTime
End Time Field: StdTime
Time Extent:
[2019/05/20 14:00:00 UTC, 2019/05/31 22:00:00 UTC]
Time Reference:
N/A
Pixel Size X: 5.0
Pixel Size Y: 5.0
Band Count: 1
Pixel Type: F32
RasterFunction Infos: {"rasterFunctionInfos": [{
"name": "None",
"description": "Make a Raster or Raster Dataset into a Function Raster Dataset.",
"help": ""
}]}
Mensuration Capabilities: Basic
Has Histograms: true
Has Colormap: false
Has Multi Dimensions : true
Rendering Rule:
Min Scale: 0
Max Scale: 0
Copyright Text:
Service Data Type: esriImageServiceDataTypeGeneric
Min Values: 0.05000000074505806
Max Values: 45.56999969482422
Mean Values: 6.7359937656699485
Standard Deviation Values: 7.191441423295185
Object ID Field:
Fields:
None
Default Mosaic Method: Center
Allowed Mosaic Methods:
SortField:
SortValue: null
Mosaic Operator: First
Default Compression Quality: 75
Default Resampling Method: Nearest
Max Record Count: null
Max Image Height: 4100
Max Image Width: 15000
Max Download Image Count: null
Max Mosaic Image Count: null
Allow Raster Function: true
Allow Copy: true
Allow Analysis: true
Allow Compute TiePoints: false
Supports Statistics: false
Supports Advanced Queries: false
Use StandardizedQueries: true
Raster Type Infos:
Name: Raster Dataset
Description: Supports all ArcGIS Raster Datasets
Help:
Has Raster Attribute Table: false
Edit Fields Info: null
Ownership Based AccessControl For Rasters: null
Child Resources:
Info
Histograms
Statistics
Key Properties
Legend
Raster Function Infos
Multidimensional Info
Slices
Supported Operations:
Export Image
Identify
Measure
Compute Histograms
Compute Statistics Histograms
Get Samples
Compute Class Statistics
Query Boundary
Compute Pixel Location
Compute Angles
Validate
Project