{
 "currentVersion": 10.91,
 "serviceDescription": "KansasFloods2019/verdigris_timeseries_may20_2019_crf",
 "name": "KansasFloods2019/verdigris_timeseries_may20_2019_crf",
 "description": "",
 "extent": {
  "xmin": 786464.1832999997,
  "ymin": 4100188.5944,
  "xmax": 807534.1832999997,
  "ymax": 4126038.5944,
  "spatialReference": {
   "wkid": 26914,
   "latestWkid": 26914
  }
 },
 "initialExtent": {
  "xmin": 786464.1832999997,
  "ymin": 4100188.5944,
  "xmax": 807534.1832999997,
  "ymax": 4126038.5944,
  "spatialReference": {
   "wkid": 26914,
   "latestWkid": 26914
  }
 },
 "fullExtent": {
  "xmin": 786464.1832999997,
  "ymin": 4100188.5944,
  "xmax": 807534.1832999997,
  "ymax": 4126038.5944,
  "spatialReference": {
   "wkid": 26914,
   "latestWkid": 26914
  }
 },
 "hasMultidimensions": true,
 "timeInfo": {
  "startTimeField": "StdTime",
  "endTimeField": "StdTime",
  "timeExtent": [
   1558360800000,
   1559340000000
  ],
  "timeReference": null,
  "defaultTimeInterval": 2,
  "defaultTimeIntervalUnits": "esriTimeUnitsHours"
 },
 "pixelSizeX": 5,
 "pixelSizeY": 5,
 "datasetFormat": "Cache/LERC2D",
 "uncompressedSize": 87145520,
 "blockWidth": 256,
 "blockHeight": 256,
 "compressionType": "LERC2D",
 "bandNames": [
  "Band_1"
 ],
 "allowCopy": true,
 "allowAnalysis": true,
 "defaultVariable": "",
 "bandCount": 1,
 "noDataValue": 0,
 "noDataValues": [
  0
 ],
 "pixelType": "F32",
 "minPixelSize": 0,
 "maxPixelSize": 0,
 "copyrightText": "",
 "serviceDataType": "esriImageServiceDataTypeGeneric",
 "serviceSourceType": "esriImageServiceSourceTypeDataset",
 "minValues": [
  0.05000000074505806
 ],
 "maxValues": [
  45.56999969482422
 ],
 "meanValues": [
  6.7359937656699485
 ],
 "stdvValues": [
  7.191441423295185
 ],
 "objectIdField": "",
 "fields": [],
 "capabilities": "Image,Metadata,Pixels,Mensuration",
 "defaultMosaicMethod": "Center",
 "allowedMosaicMethods": "",
 "sortField": "",
 "sortValue": null,
 "sortAscending": true,
 "mosaicOperator": "First",
 "defaultCompressionQuality": 75,
 "defaultResamplingMethod": "Nearest",
 "maxImageHeight": 4100,
 "maxImageWidth": 15000,
 "allowRasterFunction": true,
 "rasterFunctionInfos": [
  {
   "name": "None",
   "description": "Make a Raster or Raster Dataset into a Function Raster Dataset.",
   "help": ""
  }
 ],
 "rasterTypeInfos": [
  {
   "name": "Raster Dataset",
   "description": "Supports all ArcGIS Raster Datasets",
   "help": ""
  }
 ],
 "mensurationCapabilities": "Basic",
 "hasHistograms": true,
 "hasColormap": false,
 "hasRasterAttributeTable": false,
 "minScale": 0,
 "maxScale": 0,
 "exportTilesAllowed": false,
 "supportsStatistics": false,
 "supportsAdvancedQueries": false,
 "editFieldsInfo": null,
 "ownershipBasedAccessControlForRasters": null,
 "allowComputeTiePoints": false,
 "useStandardizedQueries": true,
 "advancedQueryCapabilities": {
  "useStandardizedQueries": true,
  "supportsStatistics": false,
  "supportsOrderBy": false,
  "supportsDistinct": false,
  "supportsPagination": false
 },
 "spatialReference": {
  "wkid": 26914,
  "latestWkid": 26914
 }
}
