View In:
ArcGIS JavaScript
ArcGIS Online Map Viewer
ArcGIS Earth
ArcMap
View Footprint In:
ArcGIS Online Map Viewer
Service Description: Imagery/S2C_L1C_rs10m_T14TLK_20260129T173601_cog
Name: Imagery/S2C_L1C_rs10m_T14TLK_20260129T173601_cog
Description:
Single Fused Map Cache: false
Extent:
XMin: 300000
YMin: 4390200
XMax: 409800
YMax: 4500000
Spatial Reference: 32614
(32614)
Initial Extent:
XMin: 300000
YMin: 4390200
XMax: 409800
YMax: 4500000
Spatial Reference: 32614
(32614)
Full Extent:
XMin: 300000
YMin: 4390200
XMax: 409800
YMax: 4500000
Spatial Reference: 32614
(32614)
Pixel Size X: 10.0
Pixel Size Y: 10.0
Band Count: 11
Pixel Type: S16
RasterFunction Infos: {"rasterFunctionInfos": [{
"name": "None",
"description": "",
"help": ""
}]}
Mensuration Capabilities: Basic
Has Histograms: true
Has Colormap: false
Has Multi Dimensions : false
Rendering Rule:
Min Scale: 0
Max Scale: 0
Copyright Text:
Service Data Type: esriImageServiceDataTypeGeneric
Min Values: -3619, 782, 458, 385, 417, 394, 370, 336, 342, 187, 123
Max Values: 7616, 9876, 13120, 15943, 8841, 9141, 9248, 14810, 9575, 10507, 18646
Mean Values: 1407.592076577, 1903.1227324551, 1712.2845459952, 2005.3852770474, 2164.1734696961, 2414.1501203381, 2590.5566513724, 2616.0126588426, 2893.2600340068, 3291.8146161428, 2336.4748288163
Standard Deviation Values: 879.55395680295, 798.56273235463, 757.86281984549, 841.05630994352, 841.52205031585, 853.39908847388, 873.53034902139, 864.77376963526, 904.90434244564, 774.73717837019, 666.85088979678
Object ID Field:
Fields:
None
Default Mosaic Method: Center
Allowed Mosaic Methods:
SortField:
SortValue: null
Mosaic Operator: First
Default Compression Quality: 75
Default Resampling Method: Nearest
Max Record Count: null
Max Image Height: 4100
Max Image Width: 15000
Max Download Image Count: null
Max Mosaic Image Count: null
Allow Raster Function: true
Allow Copy: false
Allow Analysis: true
Allow Compute TiePoints: false
Supports Statistics: false
Supports Advanced Queries: false
Use StandardizedQueries: true
Raster Type Infos:
Name: Raster Dataset
Description: Supports all ArcGIS Raster Datasets
Help:
Has Raster Attribute Table: false
Edit Fields Info: null
Ownership Based AccessControl For Rasters: null
Child Resources:
Info
Histograms
Statistics
Key Properties
Legend
Raster Function Infos
Supported Operations:
Export Image
Identify
Measure
Compute Histograms
Compute Statistics Histograms
Get Samples
Compute Class Statistics
Query Boundary
Compute Pixel Location
Compute Angles
Validate
Project