{
 "currentVersion": 10.91,
 "serviceDescription": "Imagery/S2C_L1C_rs10m_T14TLK_20260129T173601_cog",
 "name": "Imagery/S2C_L1C_rs10m_T14TLK_20260129T173601_cog",
 "description": "",
 "extent": {
  "xmin": 300000,
  "ymin": 4390200,
  "xmax": 409800,
  "ymax": 4500000,
  "spatialReference": {
   "wkid": 32614,
   "latestWkid": 32614
  }
 },
 "initialExtent": {
  "xmin": 300000,
  "ymin": 4390200,
  "xmax": 409800,
  "ymax": 4500000,
  "spatialReference": {
   "wkid": 32614,
   "latestWkid": 32614
  }
 },
 "fullExtent": {
  "xmin": 300000,
  "ymin": 4390200,
  "xmax": 409800,
  "ymax": 4500000,
  "spatialReference": {
   "wkid": 32614,
   "latestWkid": 32614
  }
 },
 "hasMultidimensions": false,
 "pixelSizeX": 10,
 "pixelSizeY": 10,
 "datasetFormat": "TIFF",
 "uncompressedSize": 2652328800,
 "blockWidth": 512,
 "blockHeight": 512,
 "compressionType": "LZW",
 "bandNames": [
  "Band_1",
  "Band_2",
  "Band_3",
  "Band_4",
  "Band_5",
  "Band_6",
  "Band_7",
  "Band_8",
  "Band_9",
  "Band_10",
  "Band_11"
 ],
 "allowCopy": false,
 "allowAnalysis": true,
 "bandCount": 11,
 "noDataValue": -20000,
 "noDataValues": [
  -20000,
  -20000,
  -20000,
  -20000,
  -20000,
  -20000,
  -20000,
  -20000,
  -20000,
  -20000,
  -20000
 ],
 "pixelType": "S16",
 "minPixelSize": 0,
 "maxPixelSize": 0,
 "copyrightText": "",
 "serviceDataType": "esriImageServiceDataTypeGeneric",
 "serviceSourceType": "esriImageServiceSourceTypeDataset",
 "minValues": [
  -3619,
  782,
  458,
  385,
  417,
  394,
  370,
  336,
  342,
  187,
  123
 ],
 "maxValues": [
  7616,
  9876,
  13120,
  15943,
  8841,
  9141,
  9248,
  14810,
  9575,
  10507,
  18646
 ],
 "meanValues": [
  1407.592076577,
  1903.1227324551,
  1712.2845459952,
  2005.3852770474,
  2164.1734696961,
  2414.1501203381,
  2590.5566513724,
  2616.0126588426,
  2893.2600340068,
  3291.8146161428,
  2336.4748288163
 ],
 "stdvValues": [
  879.55395680295,
  798.56273235463,
  757.86281984549,
  841.05630994352,
  841.52205031585,
  853.39908847388,
  873.53034902139,
  864.77376963526,
  904.90434244564,
  774.73717837019,
  666.85088979678
 ],
 "objectIdField": "",
 "fields": [],
 "capabilities": "Image,Metadata,Pixels,Mensuration",
 "defaultMosaicMethod": "Center",
 "allowedMosaicMethods": "",
 "sortField": "",
 "sortValue": null,
 "sortAscending": true,
 "mosaicOperator": "First",
 "defaultCompressionQuality": 75,
 "defaultResamplingMethod": "Nearest",
 "maxImageHeight": 4100,
 "maxImageWidth": 15000,
 "allowRasterFunction": true,
 "rasterFunctionInfos": [
  {
   "name": "None",
   "description": "",
   "help": ""
  }
 ],
 "rasterTypeInfos": [
  {
   "name": "Raster Dataset",
   "description": "Supports all ArcGIS Raster Datasets",
   "help": ""
  }
 ],
 "mensurationCapabilities": "Basic",
 "hasHistograms": true,
 "hasColormap": false,
 "hasRasterAttributeTable": false,
 "minScale": 0,
 "maxScale": 0,
 "exportTilesAllowed": false,
 "supportsStatistics": false,
 "supportsAdvancedQueries": false,
 "editFieldsInfo": null,
 "ownershipBasedAccessControlForRasters": null,
 "allowComputeTiePoints": false,
 "useStandardizedQueries": true,
 "advancedQueryCapabilities": {
  "useStandardizedQueries": true,
  "supportsStatistics": false,
  "supportsOrderBy": false,
  "supportsDistinct": false,
  "supportsPagination": false
 },
 "spatialReference": {
  "wkid": 32614,
  "latestWkid": 32614
 }
}
