View In:
ArcGIS JavaScript
ArcGIS Online Map Viewer
ArcGIS Earth
ArcMap
View Footprint In:
ArcGIS Online Map Viewer
Service Description: Imagery/S2C_L1C_rs10m_T14TLK_20260119T173641_cog
Name: Imagery/S2C_L1C_rs10m_T14TLK_20260119T173641_cog
Description:
Single Fused Map Cache: false
Extent:
XMin: 300000
YMin: 4390200
XMax: 409800
YMax: 4500000
Spatial Reference: 32614
(32614)
Initial Extent:
XMin: 300000
YMin: 4390200
XMax: 409800
YMax: 4500000
Spatial Reference: 32614
(32614)
Full Extent:
XMin: 300000
YMin: 4390200
XMax: 409800
YMax: 4500000
Spatial Reference: 32614
(32614)
Pixel Size X: 10.0
Pixel Size Y: 10.0
Band Count: 11
Pixel Type: S16
RasterFunction Infos: {"rasterFunctionInfos": [{
"name": "None",
"description": "",
"help": ""
}]}
Mensuration Capabilities: Basic
Has Histograms: true
Has Colormap: false
Has Multi Dimensions : false
Rendering Rule:
Min Scale: 0
Max Scale: 0
Copyright Text:
Service Data Type: esriImageServiceDataTypeGeneric
Min Values: -5046, 774, 272, 57, 265, 67, 132, 154, 93, 63, 21
Max Values: 8879, 20199, 15894, 21283, 7564, 8532, 7670, 20413, 9445, 14718, 11441
Mean Values: 1919.7041945529, 1370.3029304645, 1208.7203060124, 1496.9156169108, 1695.8028258037, 1967.9348281524, 2156.1654439108, 2234.7977882552, 2461.6634948798, 3159.830468978, 2167.6049753659
Standard Deviation Values: 1012.2885794063, 173.67422890001, 221.40091061243, 369.86755768056, 386.63130955678, 467.30230570294, 549.28021102399, 579.92405274115, 619.73340673027, 626.52948993009, 525.18614433356
Object ID Field:
Fields:
None
Default Mosaic Method: Center
Allowed Mosaic Methods:
SortField:
SortValue: null
Mosaic Operator: First
Default Compression Quality: 75
Default Resampling Method: Nearest
Max Record Count: null
Max Image Height: 4100
Max Image Width: 15000
Max Download Image Count: null
Max Mosaic Image Count: null
Allow Raster Function: true
Allow Copy: false
Allow Analysis: true
Allow Compute TiePoints: false
Supports Statistics: false
Supports Advanced Queries: false
Use StandardizedQueries: true
Raster Type Infos:
Name: Raster Dataset
Description: Supports all ArcGIS Raster Datasets
Help:
Has Raster Attribute Table: false
Edit Fields Info: null
Ownership Based AccessControl For Rasters: null
Child Resources:
Info
Histograms
Statistics
Key Properties
Legend
Raster Function Infos
Supported Operations:
Export Image
Identify
Measure
Compute Histograms
Compute Statistics Histograms
Get Samples
Compute Class Statistics
Query Boundary
Compute Pixel Location
Compute Angles
Validate
Project