{
 "currentVersion": 10.91,
 "serviceDescription": "Imagery/S2C_L1C_rs10m_T14TLK_20260119T173641_cog",
 "name": "Imagery/S2C_L1C_rs10m_T14TLK_20260119T173641_cog",
 "description": "",
 "extent": {
  "xmin": 300000,
  "ymin": 4390200,
  "xmax": 409800,
  "ymax": 4500000,
  "spatialReference": {
   "wkid": 32614,
   "latestWkid": 32614
  }
 },
 "initialExtent": {
  "xmin": 300000,
  "ymin": 4390200,
  "xmax": 409800,
  "ymax": 4500000,
  "spatialReference": {
   "wkid": 32614,
   "latestWkid": 32614
  }
 },
 "fullExtent": {
  "xmin": 300000,
  "ymin": 4390200,
  "xmax": 409800,
  "ymax": 4500000,
  "spatialReference": {
   "wkid": 32614,
   "latestWkid": 32614
  }
 },
 "hasMultidimensions": false,
 "pixelSizeX": 10,
 "pixelSizeY": 10,
 "datasetFormat": "TIFF",
 "uncompressedSize": 2652328800,
 "blockWidth": 512,
 "blockHeight": 512,
 "compressionType": "LZW",
 "bandNames": [
  "Band_1",
  "Band_2",
  "Band_3",
  "Band_4",
  "Band_5",
  "Band_6",
  "Band_7",
  "Band_8",
  "Band_9",
  "Band_10",
  "Band_11"
 ],
 "allowCopy": false,
 "allowAnalysis": true,
 "bandCount": 11,
 "noDataValue": -20000,
 "noDataValues": [
  -20000,
  -20000,
  -20000,
  -20000,
  -20000,
  -20000,
  -20000,
  -20000,
  -20000,
  -20000,
  -20000
 ],
 "pixelType": "S16",
 "minPixelSize": 0,
 "maxPixelSize": 0,
 "copyrightText": "",
 "serviceDataType": "esriImageServiceDataTypeGeneric",
 "serviceSourceType": "esriImageServiceSourceTypeDataset",
 "minValues": [
  -5046,
  774,
  272,
  57,
  265,
  67,
  132,
  154,
  93,
  63,
  21
 ],
 "maxValues": [
  8879,
  20199,
  15894,
  21283,
  7564,
  8532,
  7670,
  20413,
  9445,
  14718,
  11441
 ],
 "meanValues": [
  1919.7041945529,
  1370.3029304645,
  1208.7203060124,
  1496.9156169108,
  1695.8028258037,
  1967.9348281524,
  2156.1654439108,
  2234.7977882552,
  2461.6634948798,
  3159.830468978,
  2167.6049753659
 ],
 "stdvValues": [
  1012.2885794063,
  173.67422890001,
  221.40091061243,
  369.86755768056,
  386.63130955678,
  467.30230570294,
  549.28021102399,
  579.92405274115,
  619.73340673027,
  626.52948993009,
  525.18614433356
 ],
 "objectIdField": "",
 "fields": [],
 "capabilities": "Image,Metadata,Pixels,Mensuration",
 "defaultMosaicMethod": "Center",
 "allowedMosaicMethods": "",
 "sortField": "",
 "sortValue": null,
 "sortAscending": true,
 "mosaicOperator": "First",
 "defaultCompressionQuality": 75,
 "defaultResamplingMethod": "Nearest",
 "maxImageHeight": 4100,
 "maxImageWidth": 15000,
 "allowRasterFunction": true,
 "rasterFunctionInfos": [
  {
   "name": "None",
   "description": "",
   "help": ""
  }
 ],
 "rasterTypeInfos": [
  {
   "name": "Raster Dataset",
   "description": "Supports all ArcGIS Raster Datasets",
   "help": ""
  }
 ],
 "mensurationCapabilities": "Basic",
 "hasHistograms": true,
 "hasColormap": false,
 "hasRasterAttributeTable": false,
 "minScale": 0,
 "maxScale": 0,
 "exportTilesAllowed": false,
 "supportsStatistics": false,
 "supportsAdvancedQueries": false,
 "editFieldsInfo": null,
 "ownershipBasedAccessControlForRasters": null,
 "allowComputeTiePoints": false,
 "useStandardizedQueries": true,
 "advancedQueryCapabilities": {
  "useStandardizedQueries": true,
  "supportsStatistics": false,
  "supportsOrderBy": false,
  "supportsDistinct": false,
  "supportsPagination": false
 },
 "spatialReference": {
  "wkid": 32614,
  "latestWkid": 32614
 }
}
