View In:
ArcGIS JavaScript
ArcGIS Online Map Viewer
ArcGIS Earth
ArcMap
View Footprint In:
ArcGIS Online Map Viewer
Service Description: Imagery/S2B_L1C_rs10m_T14TLK_20260223T173219_cog
Name: Imagery/S2B_L1C_rs10m_T14TLK_20260223T173219_cog
Description:
Single Fused Map Cache: false
Extent:
XMin: 300000
YMin: 4390200
XMax: 409800
YMax: 4500000
Spatial Reference: 32614
(32614)
Initial Extent:
XMin: 300000
YMin: 4390200
XMax: 409800
YMax: 4500000
Spatial Reference: 32614
(32614)
Full Extent:
XMin: 300000
YMin: 4390200
XMax: 409800
YMax: 4500000
Spatial Reference: 32614
(32614)
Pixel Size X: 10.0
Pixel Size Y: 10.0
Band Count: 11
Pixel Type: S16
RasterFunction Infos: {"rasterFunctionInfos": [{
"name": "None",
"description": "",
"help": ""
}]}
Mensuration Capabilities: Basic
Has Histograms: true
Has Colormap: false
Has Multi Dimensions : false
Rendering Rule:
Min Scale: 0
Max Scale: 0
Copyright Text:
Service Data Type: esriImageServiceDataTypeGeneric
Min Values: -4432, 801, 566, 399, 370, 286, 247, 237, 148, 130, 89
Max Values: 7468, 8671, 8666, 8565, 7018, 7133, 7275, 8682, 7183, 6392, 12794
Mean Values: 1653.0705582935, 1589.3193280796, 1508.0752387181, 1840.9324686791, 2028.7774309309, 2270.6744283862, 2479.6192454899, 2575.3993306091, 2802.3501690447, 3352.3959965621, 2392.3500901787
Standard Deviation Values: 718.28777857688, 272.20518785271, 282.06014432468, 376.06359227327, 388.25407427023, 420.12098425281, 470.51722012194, 501.13379245866, 531.7532150668, 504.50593440738, 415.18905042921
Object ID Field:
Fields:
None
Default Mosaic Method: Center
Allowed Mosaic Methods:
SortField:
SortValue: null
Mosaic Operator: First
Default Compression Quality: 75
Default Resampling Method: Nearest
Max Record Count: null
Max Image Height: 4100
Max Image Width: 15000
Max Download Image Count: null
Max Mosaic Image Count: null
Allow Raster Function: true
Allow Copy: true
Allow Analysis: true
Allow Compute TiePoints: false
Supports Statistics: false
Supports Advanced Queries: false
Use StandardizedQueries: true
Raster Type Infos:
Name: Raster Dataset
Description: Supports all ArcGIS Raster Datasets
Help:
Has Raster Attribute Table: false
Edit Fields Info: null
Ownership Based AccessControl For Rasters: null
Child Resources:
Info
Histograms
Statistics
Key Properties
Legend
Raster Function Infos
Supported Operations:
Export Image
Identify
Measure
Compute Histograms
Compute Statistics Histograms
Get Samples
Compute Class Statistics
Query Boundary
Compute Pixel Location
Compute Angles
Validate
Project