{
 "currentVersion": 10.91,
 "serviceDescription": "Imagery/S2B_L1C_rs10m_T14TLK_20260223T173219_cog",
 "name": "Imagery/S2B_L1C_rs10m_T14TLK_20260223T173219_cog",
 "description": "",
 "extent": {
  "xmin": 300000,
  "ymin": 4390200,
  "xmax": 409800,
  "ymax": 4500000,
  "spatialReference": {
   "wkid": 32614,
   "latestWkid": 32614
  }
 },
 "initialExtent": {
  "xmin": 300000,
  "ymin": 4390200,
  "xmax": 409800,
  "ymax": 4500000,
  "spatialReference": {
   "wkid": 32614,
   "latestWkid": 32614
  }
 },
 "fullExtent": {
  "xmin": 300000,
  "ymin": 4390200,
  "xmax": 409800,
  "ymax": 4500000,
  "spatialReference": {
   "wkid": 32614,
   "latestWkid": 32614
  }
 },
 "hasMultidimensions": false,
 "pixelSizeX": 10,
 "pixelSizeY": 10,
 "datasetFormat": "TIFF",
 "uncompressedSize": 2652328800,
 "blockWidth": 512,
 "blockHeight": 512,
 "compressionType": "LZW",
 "bandNames": [
  "Band_1",
  "Band_2",
  "Band_3",
  "Band_4",
  "Band_5",
  "Band_6",
  "Band_7",
  "Band_8",
  "Band_9",
  "Band_10",
  "Band_11"
 ],
 "allowCopy": true,
 "allowAnalysis": true,
 "bandCount": 11,
 "noDataValue": -20000,
 "noDataValues": [
  -20000,
  -20000,
  -20000,
  -20000,
  -20000,
  -20000,
  -20000,
  -20000,
  -20000,
  -20000,
  -20000
 ],
 "pixelType": "S16",
 "minPixelSize": 0,
 "maxPixelSize": 0,
 "copyrightText": "",
 "serviceDataType": "esriImageServiceDataTypeGeneric",
 "serviceSourceType": "esriImageServiceSourceTypeDataset",
 "minValues": [
  -4432,
  801,
  566,
  399,
  370,
  286,
  247,
  237,
  148,
  130,
  89
 ],
 "maxValues": [
  7468,
  8671,
  8666,
  8565,
  7018,
  7133,
  7275,
  8682,
  7183,
  6392,
  12794
 ],
 "meanValues": [
  1653.0705582935,
  1589.3193280796,
  1508.0752387181,
  1840.9324686791,
  2028.7774309309,
  2270.6744283862,
  2479.6192454899,
  2575.3993306091,
  2802.3501690447,
  3352.3959965621,
  2392.3500901787
 ],
 "stdvValues": [
  718.28777857688,
  272.20518785271,
  282.06014432468,
  376.06359227327,
  388.25407427023,
  420.12098425281,
  470.51722012194,
  501.13379245866,
  531.7532150668,
  504.50593440738,
  415.18905042921
 ],
 "objectIdField": "",
 "fields": [],
 "capabilities": "Image,Metadata,Mensuration",
 "defaultMosaicMethod": "Center",
 "allowedMosaicMethods": "",
 "sortField": "",
 "sortValue": null,
 "sortAscending": true,
 "mosaicOperator": "First",
 "defaultCompressionQuality": 75,
 "defaultResamplingMethod": "Nearest",
 "maxImageHeight": 4100,
 "maxImageWidth": 15000,
 "allowRasterFunction": true,
 "rasterFunctionInfos": [
  {
   "name": "None",
   "description": "",
   "help": ""
  }
 ],
 "rasterTypeInfos": [
  {
   "name": "Raster Dataset",
   "description": "Supports all ArcGIS Raster Datasets",
   "help": ""
  }
 ],
 "mensurationCapabilities": "Basic",
 "hasHistograms": true,
 "hasColormap": false,
 "hasRasterAttributeTable": false,
 "minScale": 0,
 "maxScale": 0,
 "exportTilesAllowed": false,
 "supportsStatistics": false,
 "supportsAdvancedQueries": false,
 "editFieldsInfo": null,
 "ownershipBasedAccessControlForRasters": null,
 "allowComputeTiePoints": false,
 "useStandardizedQueries": true,
 "advancedQueryCapabilities": {
  "useStandardizedQueries": true,
  "supportsStatistics": false,
  "supportsOrderBy": false,
  "supportsDistinct": false,
  "supportsPagination": false
 },
 "spatialReference": {
  "wkid": 32614,
  "latestWkid": 32614
 }
}
