View In:
ArcGIS JavaScript
ArcGIS Online Map Viewer
ArcGIS Earth
ArcMap
View Footprint In:
ArcGIS Online Map Viewer
Service Description: Imagery/S2B_L1C_rs10m_T14TLK_20260104T173629_cog
Name: Imagery/S2B_L1C_rs10m_T14TLK_20260104T173629_cog
Description:
Single Fused Map Cache: false
Extent:
XMin: 300000
YMin: 4390200
XMax: 409800
YMax: 4500000
Spatial Reference: 32614
(32614)
Initial Extent:
XMin: 300000
YMin: 4390200
XMax: 409800
YMax: 4500000
Spatial Reference: 32614
(32614)
Full Extent:
XMin: 300000
YMin: 4390200
XMax: 409800
YMax: 4500000
Spatial Reference: 32614
(32614)
Pixel Size X: 10.0
Pixel Size Y: 10.0
Band Count: 11
Pixel Type: S16
RasterFunction Infos: {"rasterFunctionInfos": [{
"name": "None",
"description": "",
"help": ""
}]}
Mensuration Capabilities: Basic
Has Histograms: true
Has Colormap: false
Has Multi Dimensions : false
Rendering Rule:
Min Scale: 0
Max Scale: 0
Copyright Text:
Service Data Type: esriImageServiceDataTypeGeneric
Min Values: -6845, 569, 250, 163, 33, -148, -109, 130, -569, -206, -286
Max Values: 8608, 24701, 24811, 24679, 9823, 8528, 8553, 21265, 8197, 13780, 13292
Mean Values: 1931.8441902734, 1328.3327744683, 1198.7353287065, 1455.9436917426, 1615.4182000059, 1898.7657903931, 2137.3421981681, 2180.4579343876, 2454.1166168644, 3109.9618326744, 2105.5081620176
Standard Deviation Values: 1078.1499144892, 145.21375195033, 199.44993879933, 351.20815795057, 355.54145360102, 434.08494678843, 536.09383017587, 557.07111123949, 600.55310385373, 517.08251640124, 442.92398961661
Object ID Field:
Fields:
None
Default Mosaic Method: Center
Allowed Mosaic Methods:
SortField:
SortValue: null
Mosaic Operator: First
Default Compression Quality: 75
Default Resampling Method: Nearest
Max Record Count: null
Max Image Height: 4100
Max Image Width: 15000
Max Download Image Count: null
Max Mosaic Image Count: null
Allow Raster Function: true
Allow Copy: false
Allow Analysis: true
Allow Compute TiePoints: false
Supports Statistics: false
Supports Advanced Queries: false
Use StandardizedQueries: true
Raster Type Infos:
Name: Raster Dataset
Description: Supports all ArcGIS Raster Datasets
Help:
Has Raster Attribute Table: false
Edit Fields Info: null
Ownership Based AccessControl For Rasters: null
Child Resources:
Info
Histograms
Statistics
Key Properties
Legend
Raster Function Infos
Supported Operations:
Export Image
Identify
Measure
Compute Histograms
Compute Statistics Histograms
Get Samples
Compute Class Statistics
Query Boundary
Compute Pixel Location
Compute Angles
Validate
Project