{
 "currentVersion": 10.91,
 "serviceDescription": "Imagery/S2B_L1C_rs10m_T14TLK_20260104T173629_cog",
 "name": "Imagery/S2B_L1C_rs10m_T14TLK_20260104T173629_cog",
 "description": "",
 "extent": {
  "xmin": 300000,
  "ymin": 4390200,
  "xmax": 409800,
  "ymax": 4500000,
  "spatialReference": {
   "wkid": 32614,
   "latestWkid": 32614
  }
 },
 "initialExtent": {
  "xmin": 300000,
  "ymin": 4390200,
  "xmax": 409800,
  "ymax": 4500000,
  "spatialReference": {
   "wkid": 32614,
   "latestWkid": 32614
  }
 },
 "fullExtent": {
  "xmin": 300000,
  "ymin": 4390200,
  "xmax": 409800,
  "ymax": 4500000,
  "spatialReference": {
   "wkid": 32614,
   "latestWkid": 32614
  }
 },
 "hasMultidimensions": false,
 "pixelSizeX": 10,
 "pixelSizeY": 10,
 "datasetFormat": "TIFF",
 "uncompressedSize": 2652328800,
 "blockWidth": 512,
 "blockHeight": 512,
 "compressionType": "LZW",
 "bandNames": [
  "Band_1",
  "Band_2",
  "Band_3",
  "Band_4",
  "Band_5",
  "Band_6",
  "Band_7",
  "Band_8",
  "Band_9",
  "Band_10",
  "Band_11"
 ],
 "allowCopy": false,
 "allowAnalysis": true,
 "bandCount": 11,
 "noDataValue": -20000,
 "noDataValues": [
  -20000,
  -20000,
  -20000,
  -20000,
  -20000,
  -20000,
  -20000,
  -20000,
  -20000,
  -20000,
  -20000
 ],
 "pixelType": "S16",
 "minPixelSize": 0,
 "maxPixelSize": 0,
 "copyrightText": "",
 "serviceDataType": "esriImageServiceDataTypeGeneric",
 "serviceSourceType": "esriImageServiceSourceTypeDataset",
 "minValues": [
  -6845,
  569,
  250,
  163,
  33,
  -148,
  -109,
  130,
  -569,
  -206,
  -286
 ],
 "maxValues": [
  8608,
  24701,
  24811,
  24679,
  9823,
  8528,
  8553,
  21265,
  8197,
  13780,
  13292
 ],
 "meanValues": [
  1931.8441902734,
  1328.3327744683,
  1198.7353287065,
  1455.9436917426,
  1615.4182000059,
  1898.7657903931,
  2137.3421981681,
  2180.4579343876,
  2454.1166168644,
  3109.9618326744,
  2105.5081620176
 ],
 "stdvValues": [
  1078.1499144892,
  145.21375195033,
  199.44993879933,
  351.20815795057,
  355.54145360102,
  434.08494678843,
  536.09383017587,
  557.07111123949,
  600.55310385373,
  517.08251640124,
  442.92398961661
 ],
 "objectIdField": "",
 "fields": [],
 "capabilities": "Image,Metadata,Pixels,Mensuration",
 "defaultMosaicMethod": "Center",
 "allowedMosaicMethods": "",
 "sortField": "",
 "sortValue": null,
 "sortAscending": true,
 "mosaicOperator": "First",
 "defaultCompressionQuality": 75,
 "defaultResamplingMethod": "Nearest",
 "maxImageHeight": 4100,
 "maxImageWidth": 15000,
 "allowRasterFunction": true,
 "rasterFunctionInfos": [
  {
   "name": "None",
   "description": "",
   "help": ""
  }
 ],
 "rasterTypeInfos": [
  {
   "name": "Raster Dataset",
   "description": "Supports all ArcGIS Raster Datasets",
   "help": ""
  }
 ],
 "mensurationCapabilities": "Basic",
 "hasHistograms": true,
 "hasColormap": false,
 "hasRasterAttributeTable": false,
 "minScale": 0,
 "maxScale": 0,
 "exportTilesAllowed": false,
 "supportsStatistics": false,
 "supportsAdvancedQueries": false,
 "editFieldsInfo": null,
 "ownershipBasedAccessControlForRasters": null,
 "allowComputeTiePoints": false,
 "useStandardizedQueries": true,
 "advancedQueryCapabilities": {
  "useStandardizedQueries": true,
  "supportsStatistics": false,
  "supportsOrderBy": false,
  "supportsDistinct": false,
  "supportsPagination": false
 },
 "spatialReference": {
  "wkid": 32614,
  "latestWkid": 32614
 }
}
