View In:
ArcGIS JavaScript
ArcGIS Online Map Viewer
ArcGIS Earth
ArcMap
View Footprint In:
ArcGIS Online Map Viewer
Service Description: This dataset shows a continuum of lake extents for Clinton Lake in Douglas County, Kansas. Lake extent is shown as a function of lake surface elevation, ranging from the multipurpose pool (878 ft) to beyond the flood control pool (903.4 ft).
Name: ClintonLakeExtents/ClintonLakeInundationElevationMap_ft
Description: This dataset shows a continuum of lake extents for Clinton Lake in Douglas County, Kansas. Lake extent is shown as a function of lake surface elevation, ranging from the multipurpose pool (878 ft) to beyond the flood control pool (903.4 ft).
Single Fused Map Cache: false
Extent:
XMin: -95.62268518629631
YMin: 38.8267592559119
XMax: -95.31398148256793
YMax: 39.002129626296295
Spatial Reference: 4269
(4269)
Initial Extent:
XMin: -95.62268518629631
YMin: 38.8267592559119
XMax: -95.31398148256793
YMax: 39.002129626296295
Spatial Reference: 4269
(4269)
Full Extent:
XMin: -95.62268518629631
YMin: 38.8267592559119
XMax: -95.31398148256793
YMax: 39.002129626296295
Spatial Reference: 4269
(4269)
Pixel Size X: 9.259259259999506E-5
Pixel Size Y: 9.259259259999605E-5
Band Count: 1
Pixel Type: F32
RasterFunction Infos: {"rasterFunctionInfos": [
{
"name": "clinton_extent_elev_mn878_mx908_clean0",
"description": "A raster function template.",
"help": ""
},
{
"name": "None",
"description": "",
"help": ""
}
]}
Mensuration Capabilities: Basic
Has Histograms: true
Has Colormap: false
Has Multi Dimensions : false
Rendering Rule:
Min Scale: 0
Max Scale: 0
Copyright Text: Jude Kastens - Kansas Applied Remote Sensing
Service Data Type: esriImageServiceDataTypeGeneric
Min Values: 878
Max Values: 908
Mean Values: 885.2595105084
Standard Deviation Values: 9.8582748338193
Object ID Field:
Fields:
None
Default Mosaic Method: Center
Allowed Mosaic Methods:
SortField:
SortValue: null
Mosaic Operator: First
Default Compression Quality: 75
Default Resampling Method: Nearest
Max Record Count: null
Max Image Height: 4100
Max Image Width: 15000
Max Download Image Count: null
Max Mosaic Image Count: null
Allow Raster Function: true
Allow Copy: true
Allow Analysis: true
Allow Compute TiePoints: false
Supports Statistics: false
Supports Advanced Queries: false
Use StandardizedQueries: true
Raster Type Infos:
Name: Raster Dataset
Description: Supports all ArcGIS Raster Datasets
Help:
Has Raster Attribute Table: false
Edit Fields Info: null
Ownership Based AccessControl For Rasters: null
Child Resources:
Info
Histograms
Statistics
Key Properties
Legend
Raster Function Infos
Supported Operations:
Export Image
Identify
Measure
Compute Histograms
Compute Statistics Histograms
Get Samples
Compute Class Statistics
Query Boundary
Compute Pixel Location
Compute Angles
Validate
Project