{
 "currentVersion": 10.91,
 "serviceDescription": "This dataset shows a continuum of lake extents for Clinton Lake in Douglas County, Kansas. Lake extent is shown as a function of lake surface elevation, ranging from the multipurpose pool (878 ft) to beyond the flood control pool (903.4 ft).",
 "name": "ClintonLakeExtents/ClintonLakeInundationElevationMap_ft",
 "description": "This dataset shows a continuum of lake extents for Clinton Lake in Douglas County, Kansas. Lake extent is shown as a function of lake surface elevation, ranging from the multipurpose pool (878 ft) to beyond the flood control pool (903.4 ft).",
 "extent": {
  "xmin": -95.62268518629631,
  "ymin": 38.8267592559119,
  "xmax": -95.31398148256793,
  "ymax": 39.002129626296295,
  "spatialReference": {
   "wkid": 4269,
   "latestWkid": 4269
  }
 },
 "initialExtent": {
  "xmin": -95.62268518629631,
  "ymin": 38.8267592559119,
  "xmax": -95.31398148256793,
  "ymax": 39.002129626296295,
  "spatialReference": {
   "wkid": 4269,
   "latestWkid": 4269
  }
 },
 "fullExtent": {
  "xmin": -95.62268518629631,
  "ymin": 38.8267592559119,
  "xmax": -95.31398148256793,
  "ymax": 39.002129626296295,
  "spatialReference": {
   "wkid": 4269,
   "latestWkid": 4269
  }
 },
 "hasMultidimensions": false,
 "pixelSizeX": 9.259259259999506E-5,
 "pixelSizeY": 9.259259259999605E-5,
 "datasetFormat": "IMAGINE Image",
 "uncompressedSize": 25258384,
 "blockWidth": 64,
 "blockHeight": 64,
 "compressionType": "None",
 "bandNames": [
  "Layer_1"
 ],
 "allowCopy": true,
 "allowAnalysis": true,
 "bandCount": 1,
 "pixelType": "F32",
 "minPixelSize": 0,
 "maxPixelSize": 0,
 "copyrightText": "Jude Kastens - Kansas Applied Remote Sensing",
 "serviceDataType": "esriImageServiceDataTypeGeneric",
 "serviceSourceType": "esriImageServiceSourceTypeDataset",
 "minValues": [
  878
 ],
 "maxValues": [
  908
 ],
 "meanValues": [
  885.2595105084
 ],
 "stdvValues": [
  9.8582748338193
 ],
 "objectIdField": "",
 "fields": [],
 "capabilities": "Image,Metadata,Mensuration",
 "defaultMosaicMethod": "Center",
 "allowedMosaicMethods": "",
 "sortField": "",
 "sortValue": null,
 "sortAscending": true,
 "mosaicOperator": "First",
 "defaultCompressionQuality": 75,
 "defaultResamplingMethod": "Nearest",
 "maxImageHeight": 4100,
 "maxImageWidth": 15000,
 "allowRasterFunction": true,
 "rasterFunctionInfos": [
  {
   "name": "clinton_extent_elev_mn878_mx908_clean0",
   "description": "A raster function template.",
   "help": ""
  },
  {
   "name": "None",
   "description": "",
   "help": ""
  }
 ],
 "rasterTypeInfos": [
  {
   "name": "Raster Dataset",
   "description": "Supports all ArcGIS Raster Datasets",
   "help": ""
  }
 ],
 "mensurationCapabilities": "Basic",
 "hasHistograms": true,
 "hasColormap": false,
 "hasRasterAttributeTable": false,
 "minScale": 0,
 "maxScale": 0,
 "exportTilesAllowed": false,
 "supportsStatistics": false,
 "supportsAdvancedQueries": false,
 "editFieldsInfo": null,
 "ownershipBasedAccessControlForRasters": null,
 "allowComputeTiePoints": false,
 "useStandardizedQueries": true,
 "advancedQueryCapabilities": {
  "useStandardizedQueries": true,
  "supportsStatistics": false,
  "supportsOrderBy": false,
  "supportsDistinct": false,
  "supportsPagination": false
 },
 "spatialReference": {
  "wkid": 4269,
  "latestWkid": 4269
 }
}
