View In:
ArcGIS JavaScript
ArcGIS Online Map Viewer
ArcGIS Earth
ArcMap
View Footprint In:
ArcGIS Online Map Viewer
Service Description: hydro/SoutheastKansas2007FloodDepthGrid
Name: hydro/SoutheastKansas2007FloodDepthGrid
Description:
Single Fused Map Cache: false
Extent:
XMin: 670710
YMin: 4087950
XMax: 904770
YMax: 4285985
Spatial Reference: 32614
(32614)
Initial Extent:
XMin: 670710
YMin: 4087950
XMax: 904770
YMax: 4285985
Spatial Reference: 32614
(32614)
Full Extent:
XMin: 670710
YMin: 4087950
XMax: 904770
YMax: 4285985
Spatial Reference: 32614
(32614)
Pixel Size X: 5.0
Pixel Size Y: 5.0
Band Count: 1
Pixel Type: F32
RasterFunction Infos: {"rasterFunctionInfos": [{
"name": "None",
"description": "",
"help": ""
}]}
Mensuration Capabilities: Basic
Has Histograms: true
Has Colormap: false
Has Multi Dimensions : false
Rendering Rule:
Min Scale: 0
Max Scale: 0
Copyright Text:
Service Data Type: esriImageServiceDataTypeGeneric
Min Values: 1.9073486328125E-6
Max Values: 50.917324066162
Mean Values: 9.0462184892725
Standard Deviation Values: 7.0336021850117
Object ID Field:
Fields:
None
Default Mosaic Method: Center
Allowed Mosaic Methods:
SortField:
SortValue: null
Mosaic Operator: First
Default Compression Quality: 75
Default Resampling Method: Nearest
Max Record Count: null
Max Image Height: 4100
Max Image Width: 15000
Max Download Image Count: null
Max Mosaic Image Count: null
Allow Raster Function: true
Allow Copy: true
Allow Analysis: true
Allow Compute TiePoints: false
Supports Statistics: false
Supports Advanced Queries: false
Use StandardizedQueries: true
Raster Type Infos:
Name: Raster Dataset
Description: Supports all ArcGIS Raster Datasets
Help:
Has Raster Attribute Table: false
Edit Fields Info: null
Ownership Based AccessControl For Rasters: null
Child Resources:
Info
Histograms
Statistics
Key Properties
Legend
Raster Function Infos
Supported Operations:
Export Image
Identify
Measure
Compute Histograms
Compute Statistics Histograms
Get Samples
Compute Class Statistics
Query Boundary
Compute Pixel Location
Compute Angles
Validate
Project