View In:
ArcGIS JavaScript
ArcGIS Online Map Viewer
ArcGIS Earth
ArcMap
View Footprint In:
ArcGIS Online Map Viewer
Service Description: hydro/KSFedResDaysUnderwaterJanSep2019
Name: hydro/KSFedResDaysUnderwaterJanSep2019
Description:
Single Fused Map Cache: false
Extent:
XMin: 658182
YMin: 4231886
XMax: 818468
YMax: 4415550
Spatial Reference: 26914
(26914)
Initial Extent:
XMin: 658182
YMin: 4231886
XMax: 818468
YMax: 4415550
Spatial Reference: 26914
(26914)
Full Extent:
XMin: 658182
YMin: 4231886
XMax: 818468
YMax: 4415550
Spatial Reference: 26914
(26914)
Pixel Size X: 2.0
Pixel Size Y: 2.0
Band Count: 1
Pixel Type: U16
RasterFunction Infos: {"rasterFunctionInfos": [
{
"name": "days_underwater_273",
"description": "Useful pallete showing days underwater for fansas federal reservoirs during Jan-Sep 2019 (273-day period)",
"help": ""
},
{
"name": "None",
"description": "",
"help": ""
}
]}
Mensuration Capabilities: Basic
Has Histograms: true
Has Colormap: false
Has Multi Dimensions : false
Rendering Rule:
Min Scale: 0
Max Scale: 0
Copyright Text:
Service Data Type: esriImageServiceDataTypeGeneric
Min Values: 1
Max Values: 273
Mean Values: 171.11416451803
Standard Deviation Values: 92.965733564773
Object ID Field:
Fields:
None
Default Mosaic Method: Center
Allowed Mosaic Methods:
SortField:
SortValue: null
Mosaic Operator: First
Default Compression Quality: 75
Default Resampling Method: Bilinear
Max Record Count: null
Max Image Height: 4100
Max Image Width: 15000
Max Download Image Count: null
Max Mosaic Image Count: null
Allow Raster Function: true
Allow Copy: true
Allow Analysis: true
Allow Compute TiePoints: false
Supports Statistics: false
Supports Advanced Queries: false
Use StandardizedQueries: true
Raster Type Infos:
Name: Raster Dataset
Description: Supports all ArcGIS Raster Datasets
Help:
Has Raster Attribute Table: false
Edit Fields Info: null
Ownership Based AccessControl For Rasters: null
Child Resources:
Info
Histograms
Statistics
Key Properties
Legend
Raster Function Infos
Supported Operations:
Export Image
Identify
Measure
Compute Histograms
Compute Statistics Histograms
Get Samples
Compute Class Statistics
Query Boundary
Compute Pixel Location
Compute Angles
Validate
Project