View In:
ArcGIS JavaScript
ArcGIS Online Map Viewer
ArcGIS Earth
ArcMap
View Footprint In:
ArcGIS Online Map Viewer
Service Description: hydro/InundationPercentilesCheney
Name: hydro/InundationPercentilesCheney
Description:
Single Fused Map Cache: false
Extent:
XMin: 595158.0000005531
YMin: 4175143.999889563
XMax: 608549.0000005531
YMax: 4188329.999889563
Spatial Reference: 3744
(3744)
VCSWkid(5703)
LatestVCSWkid(5703)
Initial Extent:
XMin: 595158.0000005531
YMin: 4175143.999889563
XMax: 608549.0000005531
YMax: 4188329.999889563
Spatial Reference: 3744
(3744)
VCSWkid(5703)
LatestVCSWkid(5703)
Full Extent:
XMin: 595158.0000005531
YMin: 4175143.999889563
XMax: 608549.0000005531
YMax: 4188329.999889563
Spatial Reference: 3744
(3744)
VCSWkid(5703)
LatestVCSWkid(5703)
Pixel Size X: 1.0
Pixel Size Y: 1.0
Band Count: 1
Pixel Type: U8
RasterFunction Infos: {"rasterFunctionInfos": [{
"name": "None",
"description": "",
"help": ""
}]}
Mensuration Capabilities: Basic
Has Histograms: true
Has Colormap: true
Has Multi Dimensions : false
Rendering Rule:
Min Scale: 0
Max Scale: 0
Copyright Text:
Service Data Type: esriImageServiceDataTypeThematic
Min Values: 1
Max Values: 11
Mean Values: 3.3636774944911
Standard Deviation Values: 4.0315291822301
Object ID Field:
Fields:
None
Default Mosaic Method: Center
Allowed Mosaic Methods:
SortField:
SortValue: null
Mosaic Operator: First
Default Compression Quality: 75
Default Resampling Method: Nearest
Max Record Count: null
Max Image Height: 4100
Max Image Width: 15000
Max Download Image Count: null
Max Mosaic Image Count: null
Allow Raster Function: true
Allow Copy: true
Allow Analysis: true
Allow Compute TiePoints: false
Supports Statistics: false
Supports Advanced Queries: false
Use StandardizedQueries: true
Raster Type Infos:
Name: Raster Dataset
Description: Supports all ArcGIS Raster Datasets
Help:
Has Raster Attribute Table: true
Edit Fields Info: null
Ownership Based AccessControl For Rasters: null
Child Resources:
Info
Raster Attribute Table
Histograms
Statistics
Key Properties
Color Map
Legend
Raster Function Infos
Supported Operations:
Export Image
Identify
Measure
Compute Histograms
Compute Statistics Histograms
Get Samples
Compute Class Statistics
Query Boundary
Compute Pixel Location
Compute Angles
Validate
Project