View In:
ArcGIS JavaScript
ArcGIS Online Map Viewer
ArcGIS Earth
ArcMap
View Footprint In:
ArcGIS Online Map Viewer
Service Description: The Kansas Biological Survey's FLDPLN (“Floodplain”) model and U.S. Geological Survey's 1/3 arcsecond (10-m) NED elevation data (downloaded in March 2010) merged with Intermap elevation data (provided by Intermap in October 2010) covering the study reach floodplain were used to simulate a severe flood event that occurred in central Texas in July 1938.
Name: TexasFlood1938/1938FloodDepthGrid_Intermap
Description: The Kansas Biological Survey's FLDPLN (“Floodplain”) model and U.S. Geological Survey's 1/3 arcsecond (10-m) NED elevation data (downloaded in March 2010) merged with Intermap elevation data (provided by Intermap in October 2010) covering the study reach floodplain were used to simulate a severe flood event that occurred in central Texas in July 1938.
Single Fused Map Cache: false
Extent:
XMin: -99.8453702962963
YMin: 30.8350923703297
XMax: -98.5126851110045
YMax: 31.3435182962963
Spatial Reference: 4269
(4269)
Initial Extent:
XMin: -99.8453702962963
YMin: 30.8350923703297
XMax: -98.5126851110045
YMax: 31.3435182962963
Spatial Reference: 4269
(4269)
Full Extent:
XMin: -99.8453702962963
YMin: 30.8350923703297
XMax: -98.5126851110045
YMax: 31.3435182962963
Spatial Reference: 4269
(4269)
Pixel Size X: 9.259259259999959E-5
Pixel Size Y: 9.259259259999971E-5
Band Count: 1
Pixel Type: F32
RasterFunction Infos: {"rasterFunctionInfos": [
{
"name": "dpth_imap",
"description": "A raster function template.",
"help": ""
},
{
"name": "None",
"description": "",
"help": ""
}
]}
Mensuration Capabilities: Basic
Has Histograms: false
Has Colormap: false
Has Multi Dimensions : false
Rendering Rule:
Min Scale: 0
Max Scale: 0
Copyright Text: Jude Kastens / Kansas Biological Survey
Service Data Type: esriImageServiceDataTypeGeneric
Min Values: 0.032808396965265274
Max Values: 57.984012603759766
Mean Values: 13.949731145096179
Standard Deviation Values: 10.172055144373275
Object ID Field:
Fields:
None
Default Mosaic Method: Center
Allowed Mosaic Methods:
SortField:
SortValue: null
Mosaic Operator: First
Default Compression Quality: 75
Default Resampling Method: Nearest
Max Record Count: null
Max Image Height: 4100
Max Image Width: 15000
Max Download Image Count: null
Max Mosaic Image Count: null
Allow Raster Function: true
Allow Copy: null
Allow Analysis: null
Allow Compute TiePoints: false
Supports Statistics: false
Supports Advanced Queries: false
Use StandardizedQueries: true
Raster Type Infos:
Name: Raster Dataset
Description: Supports all ArcGIS Raster Datasets
Help:
Has Raster Attribute Table: false
Edit Fields Info: null
Ownership Based AccessControl For Rasters: null
Child Resources:
Info
Key Properties
Legend
Raster Function Infos
Supported Operations:
Export Image
Identify
Measure
Compute Histograms
Compute Statistics Histograms
Get Samples
Compute Class Statistics
Query Boundary
Compute Pixel Location
Compute Angles
Validate
Project