View In:
ArcGIS JavaScript
ArcGIS Online Map Viewer
ArcGIS Earth
ArcMap
View Footprint In:
ArcGIS Online Map Viewer
Service Description: Source: National Elevation Database 10mDEM (ft)
Name: PerryLakeExtents/NationalElevationDatabase10mDEM_ft
Description: Source: National Elevation Database 10mDEM (ft)
Single Fused Map Cache: false
Extent:
XMin: -1.0640772440907698E7
YMin: 4735563.879999257
XMax: -1.0610612440907698E7
YMax: 4793413.879999257
Spatial Reference: 102100
(3857)
Initial Extent:
XMin: -1.0640772440907698E7
YMin: 4735563.879999257
XMax: -1.0610612440907698E7
YMax: 4793413.879999257
Spatial Reference: 102100
(3857)
Full Extent:
XMin: -1.0640772440907698E7
YMin: 4735563.879999257
XMax: -1.0610612440907698E7
YMax: 4793413.879999257
Spatial Reference: 102100
(3857)
Pixel Size X: 10.0
Pixel Size Y: 10.0
Band Count: 1
Pixel Type: F32
RasterFunction Infos: {"rasterFunctionInfos": [{
"name": "None",
"description": "",
"help": ""
}]}
Mensuration Capabilities: Basic
Has Histograms: true
Has Colormap: false
Has Multi Dimensions : false
Rendering Rule:
Min Scale: 0
Max Scale: 0
Copyright Text: Jude Kastens - Kansas Applied Remote Sensing
Service Data Type: esriImageServiceDataTypeGeneric
Min Values: 824.1201171875
Max Values: 1218.5311279297
Mean Values: 1015.9243242263
Standard Deviation Values: 72.988217088407
Object ID Field:
Fields:
None
Default Mosaic Method: Center
Allowed Mosaic Methods:
SortField:
SortValue: null
Mosaic Operator: First
Default Compression Quality: 75
Default Resampling Method: Nearest
Max Record Count: null
Max Image Height: 4100
Max Image Width: 15000
Max Download Image Count: null
Max Mosaic Image Count: null
Allow Raster Function: true
Allow Copy: true
Allow Analysis: true
Allow Compute TiePoints: false
Supports Statistics: false
Supports Advanced Queries: false
Use StandardizedQueries: true
Raster Type Infos:
Name: Raster Dataset
Description: Supports all ArcGIS Raster Datasets
Help:
Has Raster Attribute Table: false
Edit Fields Info: null
Ownership Based AccessControl For Rasters: null
Child Resources:
Info
Histograms
Statistics
Key Properties
Legend
Raster Function Infos
Supported Operations:
Export Image
Identify
Measure
Compute Histograms
Compute Statistics Histograms
Get Samples
Compute Class Statistics
Query Boundary
Compute Pixel Location
Compute Angles
Validate
Project