View In:
ArcGIS JavaScript
ArcGIS Online Map Viewer
ArcGIS Earth
ArcMap
View Footprint In:
ArcGIS Online Map Viewer
Service Description: KansasLiDAR/DouglasCountyShadedRelief
Name: KansasLiDAR/DouglasCountyShadedRelief
Description:
Single Fused Map Cache: false
Extent:
XMin: 2021488.0228749982
YMin: 157300.59980153304
XMax: 2152015.9770416515
YMax: 281814.786468187
Spatial Reference: PROJCS["NAD_1983_StatePlane_Kansas_North_FIPS_1501",GEOGCS["GCS_North_American_1983",DATUM["D_North_American_1983",SPHEROID["GRS_1980",6378137.0,298.257222101]],PRIMEM["Greenwich",0.0],UNIT["Degree",0.0174532925199433]],PROJECTION["Lambert_Conformal_Conic"],PARAMETER["false_easting",1312333.333333334],PARAMETER["false_northing",0.0],PARAMETER["central_meridian",-98.0],PARAMETER["standard_parallel_1",38.71666666666667],PARAMETER["standard_parallel_2",39.78333333333333],PARAMETER["latitude_of_origin",38.33333333333334],UNIT["Foot_US",0.3048006096012192]]
Initial Extent:
XMin: 2021488.0228749982
YMin: 157300.59980153304
XMax: 2152015.9770416515
YMax: 281814.786468187
Spatial Reference: PROJCS["NAD_1983_StatePlane_Kansas_North_FIPS_1501",GEOGCS["GCS_North_American_1983",DATUM["D_North_American_1983",SPHEROID["GRS_1980",6378137.0,298.257222101]],PRIMEM["Greenwich",0.0],UNIT["Degree",0.0174532925199433]],PROJECTION["Lambert_Conformal_Conic"],PARAMETER["false_easting",1312333.333333334],PARAMETER["false_northing",0.0],PARAMETER["central_meridian",-98.0],PARAMETER["standard_parallel_1",38.71666666666667],PARAMETER["standard_parallel_2",39.78333333333333],PARAMETER["latitude_of_origin",38.33333333333334],UNIT["Foot_US",0.3048006096012192]]
Full Extent:
XMin: 2021488.0228749982
YMin: 157300.59980153304
XMax: 2152015.9770416515
YMax: 281814.786468187
Spatial Reference: PROJCS["NAD_1983_StatePlane_Kansas_North_FIPS_1501",GEOGCS["GCS_North_American_1983",DATUM["D_North_American_1983",SPHEROID["GRS_1980",6378137.0,298.257222101]],PRIMEM["Greenwich",0.0],UNIT["Degree",0.0174532925199433]],PROJECTION["Lambert_Conformal_Conic"],PARAMETER["false_easting",1312333.333333334],PARAMETER["false_northing",0.0],PARAMETER["central_meridian",-98.0],PARAMETER["standard_parallel_1",38.71666666666667],PARAMETER["standard_parallel_2",39.78333333333333],PARAMETER["latitude_of_origin",38.33333333333334],UNIT["Foot_US",0.3048006096012192]]
Pixel Size X: 3.280833333332998
Pixel Size Y: 3.2808333333329984
Band Count: 1
Pixel Type: U8
RasterFunction Infos: {"rasterFunctionInfos": [{
"name": "None",
"description": "",
"help": ""
}]}
Mensuration Capabilities: Basic
Has Histograms: true
Has Colormap: false
Has Multi Dimensions : false
Rendering Rule:
Min Scale: 0
Max Scale: 0
Copyright Text:
Service Data Type: esriImageServiceDataTypeGeneric
Min Values: 0
Max Values: 254
Mean Values: 178.84822248183
Standard Deviation Values: 13.8516350194
Object ID Field:
Fields:
None
Default Mosaic Method: Center
Allowed Mosaic Methods:
SortField:
SortValue: null
Mosaic Operator: First
Default Compression Quality: 75
Default Resampling Method: Nearest
Max Record Count: null
Max Image Height: 4100
Max Image Width: 15000
Max Download Image Count: null
Max Mosaic Image Count: null
Allow Raster Function: true
Allow Copy: true
Allow Analysis: true
Allow Compute TiePoints: false
Supports Statistics: false
Supports Advanced Queries: false
Use StandardizedQueries: true
Raster Type Infos:
Name: Raster Dataset
Description: Supports all ArcGIS Raster Datasets
Help:
Has Raster Attribute Table: true
Edit Fields Info: null
Ownership Based AccessControl For Rasters: null
Child Resources:
Info
Raster Attribute Table
Histograms
Statistics
Key Properties
Legend
Raster Function Infos
Supported Operations:
Export Image
Identify
Measure
Compute Histograms
Compute Statistics Histograms
Get Samples
Compute Class Statistics
Query Boundary
Compute Pixel Location
Compute Angles
Validate
Project