View In:
ArcGIS JavaScript
ArcGIS Online Map Viewer
ArcGIS Earth
ArcMap
View Footprint In:
ArcGIS Online Map Viewer
Service Description: This map represents the vegetation and other land covers of Kansas as mapped using 10m imagery from Sentinel-2 satellites. A land cover classification of 12 classes was developed using 3 dates of imagery, training data from photo-interpretation, and RandomForest classifier. This land cover was combined with various ancillary abiotic data sets in a vector format which was produced using image segmentation. The combination of land cover and abiotic information allowed us to model vegetation at higher thematic resolution than the generalized classification produced solely from reflectance data. A total of 49 types were mapped across the region.
Name: KansasLandCover/2018Kansas_Ecological_Systems_Map
Description: This map represents the vegetation and other land covers of Kansas as mapped using 10m imagery from Sentinel-2 satellites. A land cover classification of 12 classes was developed using 3 dates of imagery, training data from photo-interpretation, and RandomForest classifier. This land cover was combined with various ancillary abiotic data sets in a vector format which was produced using image segmentation. The combination of land cover and abiotic information allowed us to model vegetation at higher thematic resolution than the generalized classification produced solely from reflectance data. A total of 49 types were mapped across the region.
Single Fused Map Cache: false
Extent:
XMin: -532433.9168001137
YMin: 1550406.6645997558
XMax: 122006.08319988626
YMax: 1903636.6645997558
Spatial Reference: PROJCS["WGS_1984_Albers",GEOGCS["GCS_WGS_1984",DATUM["D_WGS_1984",SPHEROID["WGS_1984",6378137.0,298.257223563]],PRIMEM["Greenwich",0.0],UNIT["Degree",0.0174532925199433]],PROJECTION["Albers"],PARAMETER["false_easting",0.0],PARAMETER["false_northing",0.0],PARAMETER["central_meridian",-96.0],PARAMETER["standard_parallel_1",29.5],PARAMETER["standard_parallel_2",45.5],PARAMETER["latitude_of_origin",23.0],UNIT["Meter",1.0]]
Initial Extent:
XMin: -532433.9168001137
YMin: 1550406.6645997558
XMax: 122006.08319988626
YMax: 1903636.6645997558
Spatial Reference: PROJCS["WGS_1984_Albers",GEOGCS["GCS_WGS_1984",DATUM["D_WGS_1984",SPHEROID["WGS_1984",6378137.0,298.257223563]],PRIMEM["Greenwich",0.0],UNIT["Degree",0.0174532925199433]],PROJECTION["Albers"],PARAMETER["false_easting",0.0],PARAMETER["false_northing",0.0],PARAMETER["central_meridian",-96.0],PARAMETER["standard_parallel_1",29.5],PARAMETER["standard_parallel_2",45.5],PARAMETER["latitude_of_origin",23.0],UNIT["Meter",1.0]]
Full Extent:
XMin: -532433.9168001137
YMin: 1550406.6645997558
XMax: 122006.08319988626
YMax: 1903636.6645997558
Spatial Reference: PROJCS["WGS_1984_Albers",GEOGCS["GCS_WGS_1984",DATUM["D_WGS_1984",SPHEROID["WGS_1984",6378137.0,298.257223563]],PRIMEM["Greenwich",0.0],UNIT["Degree",0.0174532925199433]],PROJECTION["Albers"],PARAMETER["false_easting",0.0],PARAMETER["false_northing",0.0],PARAMETER["central_meridian",-96.0],PARAMETER["standard_parallel_1",29.5],PARAMETER["standard_parallel_2",45.5],PARAMETER["latitude_of_origin",23.0],UNIT["Meter",1.0]]
Pixel Size X: 10.0
Pixel Size Y: 10.0
Band Count: 1
Pixel Type: S8
RasterFunction Infos: {"rasterFunctionInfos": [{
"name": "None",
"description": "",
"help": ""
}]}
Mensuration Capabilities: Basic
Has Histograms: true
Has Colormap: false
Has Multi Dimensions : false
Rendering Rule:
Min Scale: 0
Max Scale: 0
Copyright Text: Diamond, D.D., L.F. Elliott, G. Steinauer, K. Kindscher, P. Hanberry, D. True, and M. Sunde
Service Data Type: esriImageServiceDataTypeThematic
Min Values: 1
Max Values: 115
Mean Values: 63.56908823819
Standard Deviation Values: 31.694672287567
Object ID Field:
Fields:
None
Default Mosaic Method: Center
Allowed Mosaic Methods:
SortField:
SortValue: null
Mosaic Operator: First
Default Compression Quality: 75
Default Resampling Method: Nearest
Max Record Count: null
Max Image Height: 4100
Max Image Width: 15000
Max Download Image Count: null
Max Mosaic Image Count: null
Allow Raster Function: true
Allow Copy: true
Allow Analysis: true
Allow Compute TiePoints: false
Supports Statistics: false
Supports Advanced Queries: false
Use StandardizedQueries: true
Raster Type Infos:
Name: Raster Dataset
Description: Supports all ArcGIS Raster Datasets
Help:
Has Raster Attribute Table: true
Edit Fields Info: null
Ownership Based AccessControl For Rasters: null
Child Resources:
Info
Raster Attribute Table
Histograms
Statistics
Key Properties
Legend
Raster Function Infos
Supported Operations:
Export Image
Identify
Measure
Compute Histograms
Compute Statistics Histograms
Get Samples
Compute Class Statistics
Query Boundary
Compute Pixel Location
Compute Angles
Validate
Project