View In:
ArcGIS JavaScript
ArcGIS Online Map Viewer
ArcGIS Earth
ArcMap
View Footprint In:
ArcGIS Online Map Viewer
Service Description: KansasFloods2019/fldpln_dpthgrid_may27_2019_1200_v2_neosho_all_max
Name: KansasFloods2019/fldpln_dpthgrid_may27_2019_1200_v2_neosho_all_max
Description:
Single Fused Map Cache: false
Extent:
XMin: 636880
YMin: 4078705
XMax: 910540
YMax: 4305310
Spatial Reference: 26914
(26914)
Initial Extent:
XMin: 636880
YMin: 4078705
XMax: 910540
YMax: 4305310
Spatial Reference: 26914
(26914)
Full Extent:
XMin: 636880
YMin: 4078705
XMax: 910540
YMax: 4305310
Spatial Reference: 26914
(26914)
Pixel Size X: 5.0
Pixel Size Y: 5.0
Band Count: 1
Pixel Type: F32
RasterFunction Infos: {"rasterFunctionInfos": [{
"name": "None",
"description": "",
"help": ""
}]}
Mensuration Capabilities: Basic
Has Histograms: true
Has Colormap: false
Has Multi Dimensions : false
Rendering Rule:
Min Scale: 0
Max Scale: 0
Copyright Text:
Service Data Type: esriImageServiceDataTypeGeneric
Min Values: 0.050000000745058
Max Values: 32.220001220703
Mean Values: 7.0697355878361
Standard Deviation Values: 5.6919174347768
Object ID Field:
Fields:
None
Default Mosaic Method: Center
Allowed Mosaic Methods:
SortField:
SortValue: null
Mosaic Operator: First
Default Compression Quality: 75
Default Resampling Method: Nearest
Max Record Count: null
Max Image Height: 4100
Max Image Width: 15000
Max Download Image Count: null
Max Mosaic Image Count: null
Allow Raster Function: true
Allow Copy: true
Allow Analysis: true
Allow Compute TiePoints: false
Supports Statistics: false
Supports Advanced Queries: false
Use StandardizedQueries: true
Raster Type Infos:
Name: Raster Dataset
Description: Supports all ArcGIS Raster Datasets
Help:
Has Raster Attribute Table: false
Edit Fields Info: null
Ownership Based AccessControl For Rasters: null
Child Resources:
Info
Histograms
Statistics
Key Properties
Legend
Raster Function Infos
Supported Operations:
Export Image
Identify
Measure
Compute Histograms
Compute Statistics Histograms
Get Samples
Compute Class Statistics
Query Boundary
Compute Pixel Location
Compute Angles
Validate
Project