View In:
ArcGIS JavaScript
ArcGIS Online Map Viewer
ArcGIS Earth
ArcMap
View Footprint In:
ArcGIS Online Map Viewer
Service Description: International/ESA_WorldCover_2021_Ukraine
Name: International/ESA_WorldCover_2021_Ukraine
Description:
Single Fused Map Cache: false
Extent:
XMin: 22.140416666666667
YMin: 44.38591666666667
XMax: 40.21808333333333
YMax: 52.375083333333336
Spatial Reference: 4326
(4326)
Initial Extent:
XMin: 22.140416666666667
YMin: 44.38591666666667
XMax: 40.21808333333333
YMax: 52.375083333333336
Spatial Reference: 4326
(4326)
Full Extent:
XMin: 22.140416666666667
YMin: 44.38591666666667
XMax: 40.21808333333333
YMax: 52.375083333333336
Spatial Reference: 4326
(4326)
Pixel Size X: 8.333333333333333E-5
Pixel Size Y: 8.333333333333336E-5
Band Count: 1
Pixel Type: S8
RasterFunction Infos: {"rasterFunctionInfos": [{
"name": "None",
"description": "",
"help": ""
}]}
Mensuration Capabilities: Basic
Has Histograms: true
Has Colormap: true
Has Multi Dimensions : false
Rendering Rule:
Min Scale: 0
Max Scale: 0
Copyright Text:
Service Data Type: esriImageServiceDataTypeThematic
Min Values: 10
Max Values: 100
Mean Values: 32.861746980475
Standard Deviation Values: 16.21419782833
Object ID Field:
Fields:
None
Default Mosaic Method: Center
Allowed Mosaic Methods:
SortField:
SortValue: null
Mosaic Operator: First
Default Compression Quality: 75
Default Resampling Method: Nearest
Max Record Count: null
Max Image Height: 4100
Max Image Width: 15000
Max Download Image Count: null
Max Mosaic Image Count: null
Allow Raster Function: true
Allow Copy: true
Allow Analysis: true
Allow Compute TiePoints: false
Supports Statistics: false
Supports Advanced Queries: false
Use StandardizedQueries: true
Raster Type Infos:
Name: Raster Dataset
Description: Supports all ArcGIS Raster Datasets
Help:
Has Raster Attribute Table: true
Edit Fields Info: null
Ownership Based AccessControl For Rasters: null
Child Resources:
Info
Raster Attribute Table
Histograms
Statistics
Key Properties
Color Map
Legend
Raster Function Infos
Supported Operations:
Export Image
Identify
Measure
Compute Histograms
Compute Statistics Histograms
Get Samples
Compute Class Statistics
Query Boundary
Compute Pixel Location
Compute Angles
Validate
Project