View In:
ArcGIS JavaScript
ArcGIS Online Map Viewer
ArcGIS Earth
ArcMap
View Footprint In:
ArcGIS Online Map Viewer
Service Description: The Kansas Applied Remote Sensing Program (KARS) uses satellite data to produce a weekly map series called the GreenReportĀ®, which illustrates current and relative vegetation conditions and trends for the conterminous U.S. Since 2002, KARS has also used these satellite data to forecast district, state, and national level crop yields for eight major crops in the U.S. The Greenness Map is derived from the Normalized Difference Vegetation Index [NDVI] calculated from MODIS data. This map can be used to monitor vegetation growth and change throughout the growing season.
Name: GreenReport/GreennessMap
Description: The Kansas Applied Remote Sensing Program (KARS) uses satellite data to produce a weekly map series called the GreenReportĀ®, which illustrates current and relative vegetation conditions and trends for the conterminous U.S. Since 2002, KARS has also used these satellite data to forecast district, state, and national level crop yields for eight major crops in the U.S. The Greenness Map is derived from the Normalized Difference Vegetation Index [NDVI] calculated from MODIS data. This map can be used to monitor vegetation growth and change throughout the growing season.
Single Fused Map Cache: false
Extent:
XMin: -2030000.0000000042
YMin: -2116999.9999999967
XMax: 2512999.999999996
YMax: 732000.0000000033
Spatial Reference: PROJCS["Sphere_ARC_INFO_Lambert_Azimuthal_Equal_Area",GEOGCS["GCS_Sphere_ARC_INFO",DATUM["D_Sphere_ARC_INFO",SPHEROID["Sphere_ARC_INFO",6370997.0,0.0]],PRIMEM["Greenwich",0.0],UNIT["Degree",0.0174532925199433]],PROJECTION["Lambert_Azimuthal_Equal_Area"],PARAMETER["false_easting",0.0],PARAMETER["false_northing",0.0],PARAMETER["central_meridian",-100.0],PARAMETER["latitude_of_origin",45.0],UNIT["Meter",1.0]]
Initial Extent:
XMin: -2030000.0000000042
YMin: -2116999.9999999967
XMax: 2512999.999999996
YMax: 732000.0000000033
Spatial Reference: PROJCS["Sphere_ARC_INFO_Lambert_Azimuthal_Equal_Area",GEOGCS["GCS_Sphere_ARC_INFO",DATUM["D_Sphere_ARC_INFO",SPHEROID["Sphere_ARC_INFO",6370997.0,0.0]],PRIMEM["Greenwich",0.0],UNIT["Degree",0.0174532925199433]],PROJECTION["Lambert_Azimuthal_Equal_Area"],PARAMETER["false_easting",0.0],PARAMETER["false_northing",0.0],PARAMETER["central_meridian",-100.0],PARAMETER["latitude_of_origin",45.0],UNIT["Meter",1.0]]
Full Extent:
XMin: -2030000.0000000042
YMin: -2116999.9999999967
XMax: 2512999.999999996
YMax: 732000.0000000033
Spatial Reference: PROJCS["Sphere_ARC_INFO_Lambert_Azimuthal_Equal_Area",GEOGCS["GCS_Sphere_ARC_INFO",DATUM["D_Sphere_ARC_INFO",SPHEROID["Sphere_ARC_INFO",6370997.0,0.0]],PRIMEM["Greenwich",0.0],UNIT["Degree",0.0174532925199433]],PROJECTION["Lambert_Azimuthal_Equal_Area"],PARAMETER["false_easting",0.0],PARAMETER["false_northing",0.0],PARAMETER["central_meridian",-100.0],PARAMETER["latitude_of_origin",45.0],UNIT["Meter",1.0]]
Pixel Size X: 1000.0
Pixel Size Y: 1000.0
Band Count: 1
Pixel Type: U8
RasterFunction Infos: {"rasterFunctionInfos": [
{
"name": "clip_greenmap_1x1",
"description": "A raster function template.",
"help": ""
},
{
"name": "None",
"description": "",
"help": ""
}
]}
Mensuration Capabilities: Basic
Has Histograms: false
Has Colormap: true
Has Multi Dimensions : false
Rendering Rule:
Min Scale: 0
Max Scale: 0
Copyright Text: John Lomas and Jude Kastens
Service Data Type: esriImageServiceDataTypeThematic
Min Values: 1
Max Values: 14
Mean Values: 5.4650795242816
Standard Deviation Values: 3.3417039854389
Object ID Field:
Fields:
None
Default Mosaic Method: Center
Allowed Mosaic Methods:
SortField:
SortValue: null
Mosaic Operator: First
Default Compression Quality: 75
Default Resampling Method: Nearest
Max Record Count: null
Max Image Height: 4100
Max Image Width: 15000
Max Download Image Count: null
Max Mosaic Image Count: null
Allow Raster Function: true
Allow Copy: null
Allow Analysis: null
Allow Compute TiePoints: false
Supports Statistics: false
Supports Advanced Queries: false
Use StandardizedQueries: true
Raster Type Infos:
Name: Raster Dataset
Description: Supports all ArcGIS Raster Datasets
Help:
Has Raster Attribute Table: true
Edit Fields Info: null
Ownership Based AccessControl For Rasters: null
Child Resources:
Info
Raster Attribute Table
Key Properties
Color Map
Legend
Raster Function Infos
Supported Operations:
Export Image
Identify
Measure
Compute Histograms
Compute Statistics Histograms
Get Samples
Compute Class Statistics
Query Boundary
Compute Pixel Location
Compute Angles
Validate
Project