View In:
ArcGIS JavaScript
ArcGIS Online Map Viewer
ArcGIS Earth
ArcMap
View Footprint In:
ArcGIS Online Map Viewer
Service Description: The Kansas Applied Remote Sensing Program (KARS) uses satellite data to produce a weekly map series called the GreenReportĀ®, which illustrates current and relative vegetation conditions and trends for the conterminous U.S. Since 2002, KARS has also used these satellite data to forecast district, state, and national level crop yields for eight major crops in the U.S.
Name: GreenReport/GreennessDifferenceFromAverage
Description: The Kansas Applied Remote Sensing Program (KARS) uses satellite data to produce a weekly map series called the GreenReportĀ®, which illustrates current and relative vegetation conditions and trends for the conterminous U.S. Since 2002, KARS has also used these satellite data to forecast district, state, and national level crop yields for eight major crops in the U.S.
Single Fused Map Cache: false
Extent:
XMin: -2030000.0000000051
YMin: -2116999.999999996
XMax: 2512999.999999995
YMax: 732000.0000000041
Spatial Reference: PROJCS["Sphere_ARC_INFO_Lambert_Azimuthal_Equal_Area",GEOGCS["GCS_Sphere_ARC_INFO",DATUM["D_Sphere_ARC_INFO",SPHEROID["Sphere_ARC_INFO",6370997.0,0.0]],PRIMEM["Greenwich",0.0],UNIT["Degree",0.0174532925199433]],PROJECTION["Lambert_Azimuthal_Equal_Area"],PARAMETER["false_easting",0.0],PARAMETER["false_northing",0.0],PARAMETER["central_meridian",-100.0],PARAMETER["latitude_of_origin",45.0],UNIT["Meter",1.0]]
Initial Extent:
XMin: -2030000.0000000051
YMin: -2116999.999999996
XMax: 2512999.999999995
YMax: 732000.0000000041
Spatial Reference: PROJCS["Sphere_ARC_INFO_Lambert_Azimuthal_Equal_Area",GEOGCS["GCS_Sphere_ARC_INFO",DATUM["D_Sphere_ARC_INFO",SPHEROID["Sphere_ARC_INFO",6370997.0,0.0]],PRIMEM["Greenwich",0.0],UNIT["Degree",0.0174532925199433]],PROJECTION["Lambert_Azimuthal_Equal_Area"],PARAMETER["false_easting",0.0],PARAMETER["false_northing",0.0],PARAMETER["central_meridian",-100.0],PARAMETER["latitude_of_origin",45.0],UNIT["Meter",1.0]]
Full Extent:
XMin: -2030000.0000000051
YMin: -2116999.999999996
XMax: 2512999.999999995
YMax: 732000.0000000041
Spatial Reference: PROJCS["Sphere_ARC_INFO_Lambert_Azimuthal_Equal_Area",GEOGCS["GCS_Sphere_ARC_INFO",DATUM["D_Sphere_ARC_INFO",SPHEROID["Sphere_ARC_INFO",6370997.0,0.0]],PRIMEM["Greenwich",0.0],UNIT["Degree",0.0174532925199433]],PROJECTION["Lambert_Azimuthal_Equal_Area"],PARAMETER["false_easting",0.0],PARAMETER["false_northing",0.0],PARAMETER["central_meridian",-100.0],PARAMETER["latitude_of_origin",45.0],UNIT["Meter",1.0]]
Pixel Size X: 1000.0
Pixel Size Y: 1000.0
Band Count: 1
Pixel Type: U8
RasterFunction Infos: {"rasterFunctionInfos": [
{
"name": "clip_greendm3_1x1",
"description": "A raster function template.",
"help": ""
},
{
"name": "None",
"description": "",
"help": ""
}
]}
Mensuration Capabilities: Basic
Has Histograms: false
Has Colormap: true
Has Multi Dimensions : false
Rendering Rule:
Min Scale: 0
Max Scale: 0
Copyright Text: Jude Kastens and John Lomas
Service Data Type: esriImageServiceDataTypeThematic
Min Values: N/A
Max Values: N/A
Mean Values: N/A
Standard Deviation Values: N/A
Object ID Field:
Fields:
None
Default Mosaic Method: Center
Allowed Mosaic Methods:
SortField:
SortValue: null
Mosaic Operator: First
Default Compression Quality: 75
Default Resampling Method: Nearest
Max Record Count: null
Max Image Height: 4100
Max Image Width: 15000
Max Download Image Count: null
Max Mosaic Image Count: null
Allow Raster Function: true
Allow Copy: true
Allow Analysis: true
Allow Compute TiePoints: false
Supports Statistics: false
Supports Advanced Queries: false
Use StandardizedQueries: true
Raster Type Infos:
Name: Raster Dataset
Description: Supports all ArcGIS Raster Datasets
Help:
Has Raster Attribute Table: true
Edit Fields Info: null
Ownership Based AccessControl For Rasters: null
Child Resources:
Info
Raster Attribute Table
Statistics
Key Properties
Color Map
Legend
Raster Function Infos
Supported Operations:
Export Image
Identify
Measure
Compute Histograms
Compute Statistics Histograms
Get Samples
Compute Class Statistics
Query Boundary
Compute Pixel Location
Compute Angles
Validate
Project