<?xml version="1.0" encoding="UTF-8" standalone="no"?>
<metadata xml:lang="en">
<Esri>
<CreaDate>20230313</CreaDate>
<CreaTime>23341700</CreaTime>
<ArcGISFormat>1.0</ArcGISFormat>
<SyncOnce>FALSE</SyncOnce>
<DataProperties>
<itemProps>
<itemName Sync="TRUE">seks_sixlibs_2007.tif</itemName>
<itemLocation>
<linkage Sync="TRUE">file://D:\projects_new\hydro\flood_events\2007_SEKS\tif\seks_sixlibs_2007.tif</linkage>
<protocol Sync="TRUE">Local Area Network</protocol>
</itemLocation>
<imsContentType Sync="TRUE">002</imsContentType>
<nativeExtBox>
<westBL Sync="TRUE">670710.000000</westBL>
<eastBL Sync="TRUE">904770.000000</eastBL>
<southBL Sync="TRUE">4087950.000000</southBL>
<northBL Sync="TRUE">4285985.000000</northBL>
<exTypeCode Sync="TRUE">1</exTypeCode>
</nativeExtBox>
</itemProps>
<coordRef>
<type Sync="TRUE">Projected</type>
<geogcsn Sync="TRUE">GCS_WGS_1984</geogcsn>
<csUnits Sync="TRUE">Linear Unit: Meter (1.000000)</csUnits>
<projcsn Sync="TRUE">WGS_1984_UTM_Zone_14N</projcsn>
<peXml Sync="TRUE">&lt;ProjectedCoordinateSystem xsi:type='typens:ProjectedCoordinateSystem' xmlns:xsi='http://www.w3.org/2001/XMLSchema-instance' xmlns:xs='http://www.w3.org/2001/XMLSchema' xmlns:typens='http://www.esri.com/schemas/ArcGIS/3.0.0'&gt;&lt;WKT&gt;PROJCS[&amp;quot;WGS_1984_UTM_Zone_14N&amp;quot;,GEOGCS[&amp;quot;GCS_WGS_1984&amp;quot;,DATUM[&amp;quot;D_WGS_1984&amp;quot;,SPHEROID[&amp;quot;WGS_1984&amp;quot;,6378137.0,298.257223563]],PRIMEM[&amp;quot;Greenwich&amp;quot;,0.0],UNIT[&amp;quot;Degree&amp;quot;,0.0174532925199433]],PROJECTION[&amp;quot;Transverse_Mercator&amp;quot;],PARAMETER[&amp;quot;False_Easting&amp;quot;,500000.0],PARAMETER[&amp;quot;False_Northing&amp;quot;,0.0],PARAMETER[&amp;quot;Central_Meridian&amp;quot;,-99.0],PARAMETER[&amp;quot;Scale_Factor&amp;quot;,0.9996],PARAMETER[&amp;quot;Latitude_Of_Origin&amp;quot;,0.0],UNIT[&amp;quot;Meter&amp;quot;,1.0],AUTHORITY[&amp;quot;EPSG&amp;quot;,32614]]&lt;/WKT&gt;&lt;XOrigin&gt;-5120900&lt;/XOrigin&gt;&lt;YOrigin&gt;-9998100&lt;/YOrigin&gt;&lt;XYScale&gt;450445547.3910538&lt;/XYScale&gt;&lt;ZOrigin&gt;-100000&lt;/ZOrigin&gt;&lt;ZScale&gt;10000&lt;/ZScale&gt;&lt;MOrigin&gt;-100000&lt;/MOrigin&gt;&lt;MScale&gt;10000&lt;/MScale&gt;&lt;XYTolerance&gt;0.001&lt;/XYTolerance&gt;&lt;ZTolerance&gt;0.001&lt;/ZTolerance&gt;&lt;MTolerance&gt;0.001&lt;/MTolerance&gt;&lt;HighPrecision&gt;true&lt;/HighPrecision&gt;&lt;WKID&gt;32614&lt;/WKID&gt;&lt;LatestWKID&gt;32614&lt;/LatestWKID&gt;&lt;/ProjectedCoordinateSystem&gt;</peXml>
</coordRef>
<RasterProperties>
<General>
<PixelDepth Sync="TRUE">32</PixelDepth>
<HasColormap Sync="TRUE">FALSE</HasColormap>
<CompressionType Sync="TRUE">LZW</CompressionType>
<NumBands Sync="TRUE">1</NumBands>
<Format Sync="TRUE">TIFF</Format>
<HasPyramids Sync="TRUE">TRUE</HasPyramids>
<SourceType Sync="TRUE">continuous</SourceType>
<PixelType Sync="TRUE">floating point</PixelType>
<NoDataValue Sync="TRUE">3.4e+38</NoDataValue>
</General>
</RasterProperties>
<lineage>
<Process Date="20230313" Time="233417" ToolSource="c:\program files\arcgis\pro\Resources\ArcToolbox\toolboxes\Data Management Tools.tbx\MosaicToNewRaster">MosaicToNewRaster D:\projects_new\fldpln\kansas\maps\sixlibs_2007\mdc_sixlibs_2007.tif;D:\projects_new\fldpln\kansas\maps\sixlibs_2007\neosho_sixlibs_2007.tif;D:\projects_new\fldpln\kansas\maps\sixlibs_2007\osagemarmaton_sixlibs_2007.tif;D:\projects_new\fldpln\kansas\maps\sixlibs_2007\spring_sixlibs_2007.tif;D:\projects_new\fldpln\kansas\maps\sixlibs_2007\verdigriscaney_sixlibs_2007.tif;D:\projects_new\fldpln\kansas\maps\sixlibs_2007\walnut_sixlibs_2007.tif D:\projects_new\hydro\flood_events\2007_SEKS\tif seks_sixlibs_2007.tif PROJCS["WGS_1984_UTM_Zone_14N",GEOGCS["GCS_WGS_1984",DATUM["D_WGS_1984",SPHEROID["WGS_1984",6378137.0,298.257223563]],PRIMEM["Greenwich",0.0],UNIT["Degree",0.0174532925199433]],PROJECTION["Transverse_Mercator"],PARAMETER["False_Easting",500000.0],PARAMETER["False_Northing",0.0],PARAMETER["Central_Meridian",-99.0],PARAMETER["Scale_Factor",0.9996],PARAMETER["Latitude_Of_Origin",0.0],UNIT["Meter",1.0]] "32 bit float" # 1 Last First</Process>
</lineage>
</DataProperties>
<SyncDate>20230313</SyncDate>
<SyncTime>23341700</SyncTime>
<ModDate>20230313</ModDate>
<ModTime>23341700</ModTime>
</Esri>
<dataIdInfo>
<envirDesc Sync="TRUE">Microsoft Windows Server 2016 Technical Preview Version 10.0 (Build 17763) ; Esri ArcGIS 13.0.3.36057</envirDesc>
<dataLang>
<languageCode Sync="TRUE" value="eng"/>
<countryCode Sync="TRUE" value="USA"/>
</dataLang>
<idCitation>
<resTitle Sync="TRUE">SoutheastKansas2007FloodDepthGrid</resTitle>
<presForm>
<PresFormCd Sync="TRUE" value="005"/>
</presForm>
</idCitation>
<spatRpType>
<SpatRepTypCd Sync="TRUE" value="002"/>
</spatRpType>
<dataExt>
<geoEle>
<GeoBndBox esriExtentType="search">
<exTypeCode Sync="TRUE">1</exTypeCode>
<westBL Sync="TRUE">-97.083447</westBL>
<eastBL Sync="TRUE">-94.350792</eastBL>
<northBL Sync="TRUE">38.706034</northBL>
<southBL Sync="TRUE">36.850814</southBL>
</GeoBndBox>
</geoEle>
</dataExt>
<idAbs/>
<searchKeys>
<keyword>FLDPLN</keyword>
<keyword>flood</keyword>
<keyword>inundation</keyword>
<keyword>Marais des Cygnes</keyword>
<keyword>Marmaton</keyword>
<keyword>Neosho</keyword>
<keyword>river</keyword>
<keyword>southeast Kansas</keyword>
<keyword>Spring</keyword>
<keyword>Verdigris</keyword>
<keyword>Walnut</keyword>
<keyword>2007</keyword>
</searchKeys>
<idPurp>Estimated maximum flood depth grid from Jun-Jul 2007 for select reaches in southeast Kansas</idPurp>
<idCredit/>
<resConst>
<Consts>
<useLimit/>
</Consts>
</resConst>
</dataIdInfo>
<mdLang>
<languageCode Sync="TRUE" value="eng"/>
<countryCode Sync="TRUE" value="USA"/>
</mdLang>
<mdChar>
<CharSetCd Sync="TRUE" value="004"/>
</mdChar>
<distInfo>
<distFormat>
<formatName Sync="TRUE">Raster Dataset</formatName>
</distFormat>
</distInfo>
<mdHrLv>
<ScopeCd Sync="TRUE" value="005"/>
</mdHrLv>
<mdHrLvName Sync="TRUE">dataset</mdHrLvName>
<refSysInfo>
<RefSystem>
<refSysID>
<identCode Sync="TRUE" code="32614"/>
<idCodeSpace Sync="TRUE">EPSG</idCodeSpace>
<idVersion Sync="TRUE">9.8.8(3.0.1)</idVersion>
</refSysID>
</RefSystem>
</refSysInfo>
<spatRepInfo>
<Georect>
<cellGeo>
<CellGeoCd Sync="TRUE" value="002"/>
</cellGeo>
<numDims Sync="TRUE">2</numDims>
<tranParaAv Sync="TRUE">1</tranParaAv>
<chkPtAv Sync="TRUE">0</chkPtAv>
<cornerPts>
<pos Sync="TRUE">670710.000000 4087950.000000</pos>
</cornerPts>
<cornerPts>
<pos Sync="TRUE">670710.000000 4285985.000000</pos>
</cornerPts>
<cornerPts>
<pos Sync="TRUE">904770.000000 4285985.000000</pos>
</cornerPts>
<cornerPts>
<pos Sync="TRUE">904770.000000 4087950.000000</pos>
</cornerPts>
<centerPt>
<pos Sync="TRUE">787740.000000 4186967.500000</pos>
</centerPt>
<axisDimension type="002">
<dimSize Sync="TRUE">46812</dimSize>
<dimResol>
<value Sync="TRUE" uom="m">5.000000</value>
</dimResol>
</axisDimension>
<axisDimension type="001">
<dimSize Sync="TRUE">39607</dimSize>
<dimResol>
<value Sync="TRUE" uom="m">5.000000</value>
</dimResol>
</axisDimension>
<ptInPixel>
<PixOrientCd Sync="TRUE" value="001"/>
</ptInPixel>
</Georect>
</spatRepInfo>
<contInfo>
<ImgDesc>
<contentTyp>
<ContentTypCd Sync="TRUE" value="001"/>
</contentTyp>
<covDim>
<Band>
<dimDescrp Sync="TRUE">Band_1</dimDescrp>
<maxVal Sync="TRUE">50.917324</maxVal>
<minVal Sync="TRUE">0.000002</minVal>
<bitsPerVal Sync="TRUE">32</bitsPerVal>
<valUnit>
<UOM type="length"/>
</valUnit>
</Band>
</covDim>
</ImgDesc>
</contInfo>
<mdDateSt Sync="TRUE">20230313</mdDateSt>
</metadata>
